BEGIN:VCALENDAR
VERSION:2.0
PRODID:-//VK Dukla Liberec85928//NONSGML kigkonsult.se iCalcreator 2.41.80//
CALSCALE:GREGORIAN
UID:38663239-3564-4464-a564-363663353234
BEGIN:VEVENT
UID:64643235-3733-4235-b765-393061353936
DTSTAMP:20260425T155020Z
DESCRIPTION:1/1 Liberec - Plzeň 3:0 (12\,17\,23)
DTSTART;TZID=Europe/Berlin:20240915T100000
DTEND;TZID=Europe/Berlin:20240915T120000
LOCATION:Městská sportovní hala\, U Přehrady 4747 Jablonec nad Nisou
SUMMARY:EX-U22Z-1A: Liberec-Plzeň
END:VEVENT
BEGIN:VEVENT
UID:34356339-6132-4661-b931-323639633663
DTSTAMP:20260425T155020Z
DESCRIPTION:1/3 Přerov - Liberec 0:3 (-16\,-10\,-11)
DTSTART;TZID=Europe/Berlin:20240915T170000
DTEND;TZID=Europe/Berlin:20240915T190000
LOCATION:Městská sportovní hala\, U Přehrady 4747 Jablonec nad Nisou
SUMMARY:EX-U22Z-1A: Přerov-Liberec
END:VEVENT
BEGIN:VEVENT
UID:36613863-3034-4239-a531-356235373065
DTSTAMP:20260425T155020Z
DESCRIPTION:1/3 Liberec - KP Brno 2:3 (23\,-18\,18\,-16\,-13)
DTSTART;TZID=Europe/Berlin:20241020T170000
DTEND;TZID=Europe/Berlin:20241020T190000
LOCATION:Sportovní gymnázium Ludvíka Daňka\, Botanická 63 Brno - Ponava
SUMMARY:EX-U22Z-2A: Liberec-KP Brno
END:VEVENT
BEGIN:VEVENT
UID:63323265-6336-4735-b365-633538336230
DTSTAMP:20260425T155020Z
DESCRIPTION:1/2 Olymp - Liberec 0:3 (-15\,-19\,-22)
DTSTART;TZID=Europe/Berlin:20241020T133000
DTEND;TZID=Europe/Berlin:20241020T153000
LOCATION:Sportovní gymnázium Ludvíka Daňka\, Botanická 63 Brno - Ponava
SUMMARY:EX-U22Z-2A: Olymp-Liberec
END:VEVENT
BEGIN:VEVENT
UID:63343361-3665-4435-b630-653231363165
DTSTAMP:20260425T155020Z
DESCRIPTION:1/1 Liberec - KP Brno 2:3 (-15\,24\,-19\,27\,-6)
DTSTART;TZID=Europe/Berlin:20241117T100000
DTEND;TZID=Europe/Berlin:20241117T120000
LOCATION:Dukla Liberec\, Jeronýmova 558 Liberec - Liberec VII-Horní Růžodol
SUMMARY:EX-U22Z-3A: Liberec-KP Brno
END:VEVENT
BEGIN:VEVENT
UID:30323464-3765-4436-a532-303764343334
DTSTAMP:20260425T155020Z
DESCRIPTION:1/3 Ostrava - Liberec 1:3 (-18\,24\,-21\,-16)
DTSTART;TZID=Europe/Berlin:20241117T170000
DTEND;TZID=Europe/Berlin:20241117T190000
LOCATION:Dukla Liberec\, Jeronýmova 558 Liberec - Liberec VII-Horní Růžodol
SUMMARY:EX-U22Z-3A: Ostrava-Liberec
END:VEVENT
BEGIN:VEVENT
UID:31343263-3439-4561-a665-343631323561
DTSTAMP:20260425T155020Z
DESCRIPTION:3/2 Liberec - KP Brno 3:2 (18\,-16\,-21\,26\,13)
DTSTART;TZID=Europe/Berlin:20241215T133000
DTEND;TZID=Europe/Berlin:20241215T153000
LOCATION:PVK Olymp Praha\, Přípotoční 300 Praha - Vršovice
SUMMARY:EX-U22Z-4A: Liberec-KP Brno
END:VEVENT
BEGIN:VEVENT
UID:33393565-3736-4436-b736-643266313465
DTSTAMP:20260425T155020Z
DESCRIPTION:3/1 Olymp - Liberec 3:1 (23\,-20\,18\,21)
DTSTART;TZID=Europe/Berlin:20241215T100000
DTEND;TZID=Europe/Berlin:20241215T120000
LOCATION:PVK Olymp Praha\, Přípotoční 300 Praha - Vršovice
SUMMARY:EX-U22Z-4A: Olymp-Liberec
END:VEVENT
BEGIN:VEVENT
UID:34623162-3131-4231-b837-366537316563
DTSTAMP:20260425T155020Z
DESCRIPTION:4/3 Liberec - Hradec Králové 3:1 (20\,25\,-21\,12)
DTSTART;TZID=Europe/Berlin:20250202T170000
DTEND;TZID=Europe/Berlin:20250202T190000
LOCATION:TJ Slavia Hradec Králové\, Víta Nejedlého 1216 Hradec Králové
SUMMARY:EX-U22Z-5A: Liberec-Hradec Králové
END:VEVENT
BEGIN:VEVENT
UID:62656635-3538-4138-b033-656434336466
DTSTAMP:20260425T155020Z
DESCRIPTION:4/2 Olymp - Liberec 0:3 (-23\,-22\,-19)
DTSTART;TZID=Europe/Berlin:20250202T133000
DTEND;TZID=Europe/Berlin:20250202T153000
LOCATION:TJ Slavia Hradec Králové\, Víta Nejedlého 1216 Hradec Králové
SUMMARY:EX-U22Z-5A: Olymp-Liberec
END:VEVENT
BEGIN:VEVENT
UID:65326139-6563-4830-a238-353537333266
DTSTAMP:20260425T155020Z
DESCRIPTION:5/1 Liberec - Olymp 2:3 (-20\,14\,19\,-22\,-13)
DTSTART;TZID=Europe/Berlin:20250309T090000
DTEND;TZID=Europe/Berlin:20250309T110000
LOCATION:Dukla Liberec\, Jeronýmova 558 Liberec - Liberec VII-Horní Růžodol
SUMMARY:EX-U22Z-6A: Liberec-Olymp
END:VEVENT
BEGIN:VEVENT
UID:37326235-6130-4762-a365-666633336537
DTSTAMP:20260425T155020Z
DESCRIPTION:5/3 KP Brno - Liberec 0:3 (-23\,-18\,-15)
DTSTART;TZID=Europe/Berlin:20250309T170000
DTEND;TZID=Europe/Berlin:20250309T190000
LOCATION:Dukla Liberec\, Jeronýmova 558 Liberec - Liberec VII-Horní Růžodol
SUMMARY:EX-U22Z-6A: KP Brno-Liberec
END:VEVENT
BEGIN:VEVENT
UID:32376461-3939-4838-b538-386337353165
DTSTAMP:20260425T155020Z
DESCRIPTION:6/3 Liberec - Olymp 3:1 (23\,-13\,24\,24)
DTSTART;TZID=Europe/Berlin:20250413T170000
DTEND;TZID=Europe/Berlin:20250413T190000
LOCATION:PVK Olymp Praha\, Přípotoční 300 Praha - Vršovice
SUMMARY:EX-U22Z-7A: Liberec-Olymp
END:VEVENT
BEGIN:VEVENT
UID:31323965-6134-4164-b931-383736636566
DTSTAMP:20260425T155020Z
DESCRIPTION:6/2 Hradec Králové - Liberec 1:3 (-24\,23\,-18\,-10)
DTSTART;TZID=Europe/Berlin:20250413T133000
DTEND;TZID=Europe/Berlin:20250413T153000
LOCATION:PVK Olymp Praha\, Přípotoční 300 Praha - Vršovice
SUMMARY:EX-U22Z-7A: Hradec Králové-Liberec
END:VEVENT
BEGIN:VEVENT
UID:64643038-3036-4331-b762-333536633435
DTSTAMP:20260425T155020Z
DESCRIPTION:2/2 Liberec - Junior 3:0 (15\,12\,16)
DTSTART;TZID=Europe/Berlin:20250501T160000
DTEND;TZID=Europe/Berlin:20250501T180000
LOCATION:Klimeška\, Čáslavská 274 Kutná Hora - Karlov
SUMMARY:EX-U22Z-F2: Liberec-Junior
END:VEVENT
BEGIN:VEVENT
UID:36613433-3439-4437-b039-626565616461
DTSTAMP:20260425T155020Z
DESCRIPTION:2/3 Liberec - KP Brno 3:2 (16\,-20\,-20\,18\,11)
DTSTART;TZID=Europe/Berlin:20250502T193000
DTEND;TZID=Europe/Berlin:20250502T213000
LOCATION:Klimeška\, Čáslavská 274 Kutná Hora - Karlov
SUMMARY:EX-U22Z-F2: Liberec-KP Brno
END:VEVENT
BEGIN:VEVENT
UID:34633764-3564-4636-b936-386438383831
DTSTAMP:20260425T155020Z
DESCRIPTION:1/3 Liberec - Hradec Králové 3:0 (13\,19\,18)\n1F2-2F1
DTSTART;TZID=Europe/Berlin:20250503T170000
DTEND;TZID=Europe/Berlin:20250503T190000
LOCATION:Klimeška\, Čáslavská 274 Kutná Hora - Karlov
SUMMARY:EX-U22Z-F: Liberec-Hradec Králové
END:VEVENT
BEGIN:VEVENT
UID:66363836-6463-4230-a537-663536643731
DTSTAMP:20260425T155020Z
DESCRIPTION:2/5 Olymp - Liberec 3:0 (22\,23\,21)\nfinále
DTSTART;TZID=Europe/Berlin:20250504T130000
DTEND;TZID=Europe/Berlin:20250504T150000
LOCATION:Klimeška\, Čáslavská 274 Kutná Hora - Karlov
SUMMARY:EX-U22Z-F: Olymp-Liberec
END:VEVENT
END:VCALENDAR
