BEGIN:VCALENDAR
VERSION:2.0
PRODID:-//VK Lvi Praha85931//NONSGML kigkonsult.se iCalcreator 2.41.80//
CALSCALE:GREGORIAN
UID:33363165-3731-4333-b865-313236376133
BEGIN:VEVENT
UID:38653565-3265-4130-b766-663433396231
DTSTAMP:20260423T111537Z
DESCRIPTION:5/20 Lvi Praha - Orion Praha 1:3 (18\,-16\,-21\,-23)
DTSTART;TZID=Europe/Berlin:20241026T100000
DTEND;TZID=Europe/Berlin:20241026T120000
LOCATION:Sportovní hala Lužiny\, Bellušova 1877 Praha - Stodůlky
SUMMARY:1-U22M-B: Lvi Praha-Orion Praha
END:VEVENT
BEGIN:VEVENT
UID:37313864-6431-4435-a133-316330373139
DTSTAMP:20260423T111537Z
DESCRIPTION:6/24 Lvi Praha - Orion Praha 0:3 (-20\,-20\,-23)
DTSTART;TZID=Europe/Berlin:20241026T140000
DTEND;TZID=Europe/Berlin:20241026T160000
LOCATION:Sportovní hala Lužiny\, Bellušova 1877 Praha - Stodůlky
SUMMARY:1-U22M-B: Lvi Praha-Orion Praha
END:VEVENT
BEGIN:VEVENT
UID:66346530-6337-4331-b963-326238323837
DTSTAMP:20260423T111537Z
DESCRIPTION:9/35 Lvi Praha - Meteor B 3:0 (22\,11\,14)
DTSTART;TZID=Europe/Berlin:20241109T100000
DTEND;TZID=Europe/Berlin:20241109T120000
LOCATION:Sportovní hala Lužiny\, Bellušova 1877 Praha - Stodůlky
SUMMARY:1-U22M-B: Lvi Praha-Meteor B
END:VEVENT
BEGIN:VEVENT
UID:38653832-6631-4061-b765-623231636466
DTSTAMP:20260423T111537Z
DESCRIPTION:10/39 Lvi Praha - Meteor B 3:0 (16\,15\,15)
DTSTART;TZID=Europe/Berlin:20241109T140000
DTEND;TZID=Europe/Berlin:20241109T160000
LOCATION:Sportovní hala Lužiny\, Bellušova 1877 Praha - Stodůlky
SUMMARY:1-U22M-B: Lvi Praha-Meteor B
END:VEVENT
BEGIN:VEVENT
UID:64366464-3733-4761-b836-386436376535
DTSTAMP:20260423T111537Z
DESCRIPTION:13/50 Lvi Praha - České Budějovice B 3:0 (16\,13\,22)
DTSTART;TZID=Europe/Berlin:20241123T100000
DTEND;TZID=Europe/Berlin:20241123T120000
LOCATION:ZŠ Balabenka\, náměstí Na Balabence 800 Praha - Libeň
SUMMARY:1-U22M-B: Lvi Praha-České Budějovice B
END:VEVENT
BEGIN:VEVENT
UID:36313438-6439-4332-b163-616165656238
DTSTAMP:20260423T111537Z
DESCRIPTION:14/54 Lvi Praha - České Budějovice B 3:1 (14\,-23\,21\,21)
DTSTART;TZID=Europe/Berlin:20241123T140000
DTEND;TZID=Europe/Berlin:20241123T160000
LOCATION:ZŠ Balabenka\, náměstí Na Balabence 800 Praha - Libeň
SUMMARY:1-U22M-B: Lvi Praha-České Budějovice B
END:VEVENT
BEGIN:VEVENT
UID:39393164-3031-4938-b034-323632613266
DTSTAMP:20260423T111537Z
DESCRIPTION:15/60 Lvi Praha - Český Krumlov 0:3 (-18\,-23\,-24)
DTSTART;TZID=Europe/Berlin:20241124T100000
DTEND;TZID=Europe/Berlin:20241124T120000
LOCATION:Sportovní hala Lužiny\, Bellušova 1877 Praha - Stodůlky
SUMMARY:1-U22M-B: Lvi Praha-Český Krumlov
END:VEVENT
BEGIN:VEVENT
UID:64383933-3334-4238-a630-383038353232
DTSTAMP:20260423T111537Z
DESCRIPTION:16/64 Lvi Praha - Český Krumlov 1:3 (-23\,-22\,15\,-19)
DTSTART;TZID=Europe/Berlin:20241124T140000
DTEND;TZID=Europe/Berlin:20241124T160000
LOCATION:Sportovní hala Lužiny\, Bellušova 1877 Praha - Stodůlky
SUMMARY:1-U22M-B: Lvi Praha-Český Krumlov
END:VEVENT
BEGIN:VEVENT
UID:33326166-6466-4032-b937-623865653264
DTSTAMP:20260423T111537Z
DESCRIPTION:17/65 Lvi Praha - Plzeň 3:0 (18\,19\,15)
DTSTART;TZID=Europe/Berlin:20250309T110000
DTEND;TZID=Europe/Berlin:20250309T130000
LOCATION:Sportovní hala Lužiny\, Bellušova 1877 Praha - Stodůlky
SUMMARY:1-U22M-B: Lvi Praha-Plzeň
END:VEVENT
BEGIN:VEVENT
UID:34346131-6639-4536-b037-323131306665
DTSTAMP:20260423T111537Z
DESCRIPTION:18/69 Lvi Praha - Plzeň 3:0 (14\,22\,17)
DTSTART;TZID=Europe/Berlin:20250309T140000
DTEND;TZID=Europe/Berlin:20250309T160000
LOCATION:Sportovní hala Lužiny\, Bellušova 1877 Praha - Stodůlky
SUMMARY:1-U22M-B: Lvi Praha-Plzeň
END:VEVENT
BEGIN:VEVENT
UID:34326163-6634-4564-a434-306338306434
DTSTAMP:20260423T111537Z
DESCRIPTION:25/99 Lvi Praha - Řevnice 3:2 (-20\,10\,14\,-23\,10)
DTSTART;TZID=Europe/Berlin:20250329T100000
DTEND;TZID=Europe/Berlin:20250329T120000
LOCATION:Sportovní hala Lužiny\, Bellušova 1877 Praha - Stodůlky
SUMMARY:1-U22M-B: Lvi Praha-Řevnice
END:VEVENT
BEGIN:VEVENT
UID:64383565-3439-4734-a235-643762396233
DTSTAMP:20260423T111537Z
DESCRIPTION:26/103 Lvi Praha - Řevnice 3:0 (20\,23\,16)
DTSTART;TZID=Europe/Berlin:20250329T140000
DTEND;TZID=Europe/Berlin:20250329T160000
LOCATION:Sportovní hala Lužiny\, Bellušova 1877 Praha - Stodůlky
SUMMARY:1-U22M-B: Lvi Praha-Řevnice
END:VEVENT
BEGIN:VEVENT
UID:35663364-6364-4165-b761-386262396563
DTSTAMP:20260423T111537Z
DESCRIPTION:1/4 Český Krumlov - Lvi Praha 3:0 (16\,20\,23)
DTSTART;TZID=Europe/Berlin:20240928T100000
DTEND;TZID=Europe/Berlin:20240928T120000
LOCATION:ZŠ Za Nádražím Český Krumlov\, Za Nádražím 222 Český Krumlov - Nád
 ražní Předměstí
SUMMARY:1-U22M-B: Český Krumlov-Lvi Praha
END:VEVENT
BEGIN:VEVENT
UID:35323833-3430-4162-a334-663635306362
DTSTAMP:20260423T111537Z
DESCRIPTION:2/8 Český Krumlov - Lvi Praha 1:3 (-13\,21\,-21\,-23)
DTSTART;TZID=Europe/Berlin:20240928T140000
DTEND;TZID=Europe/Berlin:20240928T160000
LOCATION:ZŠ Za Nádražím Český Krumlov\, Za Nádražím 222 Český Krumlov - Nád
 ražní Předměstí
SUMMARY:1-U22M-B: Český Krumlov-Lvi Praha
END:VEVENT
BEGIN:VEVENT
UID:39653531-3535-4066-a130-386536313239
DTSTAMP:20260423T111537Z
DESCRIPTION:3/9 Plzeň - Lvi Praha 0:3 (-20\,-18\,-21)
DTSTART;TZID=Europe/Berlin:20240929T100000
DTEND;TZID=Europe/Berlin:20240929T120000
LOCATION:Hala PF ZČU Plzeň\, Klatovská třída 1736 Plzeň - Jižní Předměstí
SUMMARY:1-U22M-B: Plzeň-Lvi Praha
END:VEVENT
BEGIN:VEVENT
UID:31656263-3665-4162-b833-386563343265
DTSTAMP:20260423T111537Z
DESCRIPTION:4/13 Plzeň - Lvi Praha 0:3 (-19\,-21\,-19)
DTSTART;TZID=Europe/Berlin:20240929T140000
DTEND;TZID=Europe/Berlin:20240929T160000
LOCATION:Hala PF ZČU Plzeň\, Klatovská třída 1736 Plzeň - Jižní Předměstí
SUMMARY:1-U22M-B: Plzeň-Lvi Praha
END:VEVENT
BEGIN:VEVENT
UID:39383032-6364-4630-b033-646239663330
DTSTAMP:20260423T111537Z
DESCRIPTION:11/43 Řevnice - Lvi Praha 1:3 (18\,-20\,-16\,-21)
DTSTART;TZID=Europe/Berlin:20241110T100000
DTEND;TZID=Europe/Berlin:20241110T120000
LOCATION:Sportovní hala učiliště\, Pode Zděmi 403 Liteň
SUMMARY:1-U22M-B: Řevnice-Lvi Praha
END:VEVENT
BEGIN:VEVENT
UID:31386532-6531-4364-a234-643637313661
DTSTAMP:20260423T111537Z
DESCRIPTION:12/47 Řevnice - Lvi Praha 0:3 (-22\,-20\,-13)
DTSTART;TZID=Europe/Berlin:20241110T140000
DTEND;TZID=Europe/Berlin:20241110T160000
LOCATION:Sportovní hala učiliště\, Pode Zděmi 403 Liteň
SUMMARY:1-U22M-B: Řevnice-Lvi Praha
END:VEVENT
BEGIN:VEVENT
UID:64666436-6136-4862-a231-306231613333
DTSTAMP:20260423T111537Z
DESCRIPTION:19/76 Orion Praha - Lvi Praha 3:1 (16\,-21\,18\,22)
DTSTART;TZID=Europe/Berlin:20241208T090000
DTEND;TZID=Europe/Berlin:20241208T110000
LOCATION:ZŠ Dolní Břežany\, Na Vršku 290 Dolní Břežany
SUMMARY:1-U22M-B: Orion Praha-Lvi Praha
END:VEVENT
BEGIN:VEVENT
UID:35663166-3165-4433-b162-393336633033
DTSTAMP:20260423T111537Z
DESCRIPTION:20/80 Orion Praha - Lvi Praha 3:0 (21\,21\,18)
DTSTART;TZID=Europe/Berlin:20241208T130000
DTEND;TZID=Europe/Berlin:20241208T150000
LOCATION:ZŠ Dolní Břežany\, Na Vršku 290 Dolní Břežany
SUMMARY:1-U22M-B: Orion Praha-Lvi Praha
END:VEVENT
BEGIN:VEVENT
UID:34366462-3732-4133-a138-373462346261
DTSTAMP:20260423T111537Z
DESCRIPTION:23/91 Meteor B - Lvi Praha 0:3 (-13\,-12\,-14)
DTSTART;TZID=Europe/Berlin:20250112T090000
DTEND;TZID=Europe/Berlin:20250112T110000
LOCATION:ZŠ Žernosecká\, Žernosecká 1597 Praha - Kobylisy
SUMMARY:1-U22M-B: Meteor B-Lvi Praha
END:VEVENT
BEGIN:VEVENT
UID:35396534-3737-4162-a430-626237393066
DTSTAMP:20260423T111537Z
DESCRIPTION:24/95 Meteor B - Lvi Praha 0:3 (-16\,-11\,-9)
DTSTART;TZID=Europe/Berlin:20250112T130000
DTEND;TZID=Europe/Berlin:20250112T150000
LOCATION:ZŠ Žernosecká\, Žernosecká 1597 Praha - Kobylisy
SUMMARY:1-U22M-B: Meteor B-Lvi Praha
END:VEVENT
BEGIN:VEVENT
UID:32653466-3136-4062-b464-353966313836
DTSTAMP:20260423T111537Z
DESCRIPTION:27/106 České Budějovice B - Lvi Praha 0:3 (-14\,-18\,-18)
DTSTART;TZID=Europe/Berlin:20250330T100000
DTEND;TZID=Europe/Berlin:20250330T120000
LOCATION:ZŠ Oskara Nedbala České Budějovice\, O. Nedbala 882 České Budějovi
 ce - České Budějovice 2
SUMMARY:1-U22M-B: České Budějovice B-Lvi Praha
END:VEVENT
BEGIN:VEVENT
UID:66653364-6563-4634-b664-646531333661
DTSTAMP:20260423T111537Z
DESCRIPTION:28/110 České Budějovice B - Lvi Praha 1:3 (-19\,-19\,19\,-17)
DTSTART;TZID=Europe/Berlin:20250330T140000
DTEND;TZID=Europe/Berlin:20250330T160000
LOCATION:ZŠ Oskara Nedbala České Budějovice\, O. Nedbala 882 České Budějovi
 ce - České Budějovice 2
SUMMARY:1-U22M-B: České Budějovice B-Lvi Praha
END:VEVENT
END:VCALENDAR
