BEGIN:VCALENDAR
VERSION:2.0
PRODID:-//TJ Slavia Liberec85942//NONSGML kigkonsult.se iCalcreator 2.41.80//
CALSCALE:GREGORIAN
UID:35643035-3133-4464-a232-663739353836
BEGIN:VEVENT
UID:32653432-6632-4466-b561-303831646665
DTSTAMP:20260422T070110Z
DESCRIPTION:3/10 Liberec - Pardubice 3:0 (11\,22\,17)
DTSTART;TZID=Europe/Berlin:20240929T100000
DTEND;TZID=Europe/Berlin:20240929T120000
LOCATION:Základní škola\, Liberec\, Švermova 403/40\, Švermova 403 Liberec 
 - Liberec X-Františkov
SUMMARY:1-U22M-A: Liberec-Pardubice
END:VEVENT
BEGIN:VEVENT
UID:61336466-6436-4838-b839-363563643566
DTSTAMP:20260422T070110Z
DESCRIPTION:4/14 Liberec - Pardubice 3:1 (14\,-21\,23\,23)
DTSTART;TZID=Europe/Berlin:20240929T140000
DTEND;TZID=Europe/Berlin:20240929T160000
LOCATION:Základní škola\, Liberec\, Švermova 403/40\, Švermova 403 Liberec 
 - Liberec X-Františkov
SUMMARY:1-U22M-A: Liberec-Pardubice
END:VEVENT
BEGIN:VEVENT
UID:38336539-3462-4237-a332-306361663861
DTSTAMP:20260422T070110Z
DESCRIPTION:9/36 Liberec - Rychnov n. K. 3:1 (18\,23\,-20\,20)
DTSTART;TZID=Europe/Berlin:20241214T100000
DTEND;TZID=Europe/Berlin:20241214T120000
LOCATION:Základní škola\, Liberec\, Švermova 403/40\, Švermova 403 Liberec 
 - Liberec X-Františkov
SUMMARY:1-U22M-A: Liberec-Rychnov n. K.
END:VEVENT
BEGIN:VEVENT
UID:39353031-3566-4366-b466-336432353866
DTSTAMP:20260422T070110Z
DESCRIPTION:10/40 Liberec - Rychnov n. K. 3:0 (17\,20\,15)
DTSTART;TZID=Europe/Berlin:20241214T140000
DTEND;TZID=Europe/Berlin:20241214T160000
LOCATION:Základní škola\, Liberec\, Švermova 403/40\, Švermova 403 Liberec 
 - Liberec X-Františkov
SUMMARY:1-U22M-A: Liberec-Rychnov n. K.
END:VEVENT
BEGIN:VEVENT
UID:39383264-3835-4465-a337-396238363236
DTSTAMP:20260422T070110Z
DESCRIPTION:13/51 Liberec - Choceň 2:3 (25\,15\,-21\,-11\,-11)
DTSTART;TZID=Europe/Berlin:20241130T100000
DTEND;TZID=Europe/Berlin:20241130T120000
LOCATION:Základní škola\, Liberec\, Švermova 403/40\, Švermova 403 Liberec 
 - Liberec X-Františkov
SUMMARY:1-U22M-A: Liberec-Choceň
END:VEVENT
BEGIN:VEVENT
UID:32333033-6563-4464-b831-323366643034
DTSTAMP:20260422T070110Z
DESCRIPTION:14/55 Liberec - Choceň 3:0 (18\,19\,18)
DTSTART;TZID=Europe/Berlin:20241130T140000
DTEND;TZID=Europe/Berlin:20241130T160000
LOCATION:Základní škola\, Liberec\, Švermova 403/40\, Švermova 403 Liberec 
 - Liberec X-Františkov
SUMMARY:1-U22M-A: Liberec-Choceň
END:VEVENT
BEGIN:VEVENT
UID:31366136-3264-4335-a161-373263356263
DTSTAMP:20260422T070110Z
DESCRIPTION:15/59 Liberec - Dansport 2:3 (-14\,23\,-16\,18\,-8)
DTSTART;TZID=Europe/Berlin:20241124T100000
DTEND;TZID=Europe/Berlin:20241124T120000
LOCATION:Základní škola\, Liberec\, Švermova 403/40\, Švermova 403 Liberec 
 - Liberec X-Františkov
SUMMARY:1-U22M-A: Liberec-Dansport
END:VEVENT
BEGIN:VEVENT
UID:66623537-3464-4531-a339-306138343063
DTSTAMP:20260422T070110Z
DESCRIPTION:16/63 Liberec - Dansport 0:3 (-21\,-24\,-21)
DTSTART;TZID=Europe/Berlin:20241124T140000
DTEND;TZID=Europe/Berlin:20241124T160000
LOCATION:Základní škola\, Liberec\, Švermova 403/40\, Švermova 403 Liberec 
 - Liberec X-Františkov
SUMMARY:1-U22M-A: Liberec-Dansport
END:VEVENT
BEGIN:VEVENT
UID:33646138-3734-4733-b737-376161356134
DTSTAMP:20260422T070110Z
DESCRIPTION:19/76 Liberec - Odolena Voda 0:3 (-22\,-15\,-16)
DTSTART;TZID=Europe/Berlin:20241208T100000
DTEND;TZID=Europe/Berlin:20241208T120000
LOCATION:Základní škola\, Liberec\, Švermova 403/40\, Švermova 403 Liberec 
 - Liberec X-Františkov
SUMMARY:1-U22M-A: Liberec-Odolena Voda
END:VEVENT
BEGIN:VEVENT
UID:63363131-3165-4662-b463-373632613530
DTSTAMP:20260422T070110Z
DESCRIPTION:20/80 Liberec - Odolena Voda 0:3 (-9\,-20\,-12)
DTSTART;TZID=Europe/Berlin:20241208T140000
DTEND;TZID=Europe/Berlin:20241208T160000
LOCATION:Základní škola\, Liberec\, Švermova 403/40\, Švermova 403 Liberec 
 - Liberec X-Františkov
SUMMARY:1-U22M-A: Liberec-Odolena Voda
END:VEVENT
BEGIN:VEVENT
UID:64323562-3139-4563-b564-313336383035
DTSTAMP:20260422T070110Z
DESCRIPTION:21/81 Liberec - Hronov 3:0 (25\,22\,13)
DTSTART;TZID=Europe/Berlin:20250111T100000
DTEND;TZID=Europe/Berlin:20250111T120000
LOCATION:Základní škola\, Liberec\, Švermova 403/40\, Švermova 403 Liberec 
 - Liberec X-Františkov
SUMMARY:1-U22M-A: Liberec-Hronov
END:VEVENT
BEGIN:VEVENT
UID:33396566-3463-4735-a462-323730316537
DTSTAMP:20260422T070110Z
DESCRIPTION:22/85 Liberec - Hronov 3:0 (19\,23\,21)
DTSTART;TZID=Europe/Berlin:20250111T140000
DTEND;TZID=Europe/Berlin:20250111T160000
LOCATION:Základní škola\, Liberec\, Švermova 403/40\, Švermova 403 Liberec 
 - Liberec X-Františkov
SUMMARY:1-U22M-A: Liberec-Hronov
END:VEVENT
BEGIN:VEVENT
UID:31313430-3533-4233-b363-656438343663
DTSTAMP:20260422T070110Z
DESCRIPTION:25/98 Liberec - Meteor A 3:0 (17\,16\,19)
DTSTART;TZID=Europe/Berlin:20250329T100000
DTEND;TZID=Europe/Berlin:20250329T120000
LOCATION:Základní škola\, Liberec\, Švermova 403/40\, Švermova 403 Liberec 
 - Liberec X-Františkov
SUMMARY:1-U22M-A: Liberec-Meteor A
END:VEVENT
BEGIN:VEVENT
UID:32343432-6361-4539-b764-336631616366
DTSTAMP:20260422T070110Z
DESCRIPTION:26/102 Liberec - Meteor A 3:1 (19\,23\,-21\,15)
DTSTART;TZID=Europe/Berlin:20250329T140000
DTEND;TZID=Europe/Berlin:20250329T160000
LOCATION:Základní škola\, Liberec\, Švermova 403/40\, Švermova 403 Liberec 
 - Liberec X-Františkov
SUMMARY:1-U22M-A: Liberec-Meteor A
END:VEVENT
BEGIN:VEVENT
UID:39303330-6262-4232-b930-323737346230
DTSTAMP:20260422T070110Z
DESCRIPTION:1/3 Dansport - Liberec 3:0 (21\,19\,14)
DTSTART;TZID=Europe/Berlin:20240928T090000
DTEND;TZID=Europe/Berlin:20240928T110000
LOCATION:Sportovní hala Gymnázia Jana Keplera\, Parléřova 118 Praha - Hradč
 any
SUMMARY:1-U22M-A: Dansport-Liberec
END:VEVENT
BEGIN:VEVENT
UID:64386462-3062-4539-b533-663264383932
DTSTAMP:20260422T070110Z
DESCRIPTION:2/7 Dansport - Liberec 3:1 (14\,12\,-22\,14)
DTSTART;TZID=Europe/Berlin:20240928T130000
DTEND;TZID=Europe/Berlin:20240928T150000
LOCATION:Sportovní hala Gymnázia Jana Keplera\, Parléřova 118 Praha - Hradč
 any
SUMMARY:1-U22M-A: Dansport-Liberec
END:VEVENT
BEGIN:VEVENT
UID:37363964-3963-4030-b264-613539646466
DTSTAMP:20260422T070110Z
DESCRIPTION:5/20 Odolena Voda - Liberec 3:0 (22\,14\,19)
DTSTART;TZID=Europe/Berlin:20241012T100000
DTEND;TZID=Europe/Berlin:20241012T120000
LOCATION:Sportovní hala\, Ke Stadionu 375 Odolena Voda
SUMMARY:1-U22M-A: Odolena Voda-Liberec
END:VEVENT
BEGIN:VEVENT
UID:61663031-6134-4838-a463-303634353234
DTSTAMP:20260422T070110Z
DESCRIPTION:6/24 Odolena Voda - Liberec 3:0 (16\,7\,22)
DTSTART;TZID=Europe/Berlin:20241012T140000
DTEND;TZID=Europe/Berlin:20241012T160000
LOCATION:Sportovní hala\, Ke Stadionu 375 Odolena Voda
SUMMARY:1-U22M-A: Odolena Voda-Liberec
END:VEVENT
BEGIN:VEVENT
UID:31396231-3936-4233-b431-663761396235
DTSTAMP:20260422T070110Z
DESCRIPTION:7/25 Hronov - Liberec 0:3 (-20\,-23\,-15)
DTSTART;TZID=Europe/Berlin:20241027T100000
DTEND;TZID=Europe/Berlin:20241027T120000
LOCATION:ZŠ Hronov\, Palackého 162 Hronov
SUMMARY:1-U22M-A: Hronov-Liberec
END:VEVENT
BEGIN:VEVENT
UID:61323837-6265-4934-a662-623965396432
DTSTAMP:20260422T070110Z
DESCRIPTION:8/29 Hronov - Liberec 1:3 (22\,-18\,-12\,-16)
DTSTART;TZID=Europe/Berlin:20241027T140000
DTEND;TZID=Europe/Berlin:20241027T160000
LOCATION:ZŠ Hronov\, Palackého 162 Hronov
SUMMARY:1-U22M-A: Hronov-Liberec
END:VEVENT
BEGIN:VEVENT
UID:35313166-6665-4337-b062-626533343739
DTSTAMP:20260422T070110Z
DESCRIPTION:11/42 Meteor A - Liberec 0:3 (-18\,-21\,-20)
DTSTART;TZID=Europe/Berlin:20241110T110000
DTEND;TZID=Europe/Berlin:20241110T130000
LOCATION:ZŠ Žernosecká\, Žernosecká 1597 Praha - Kobylisy
SUMMARY:1-U22M-A: Meteor A-Liberec
END:VEVENT
BEGIN:VEVENT
UID:33313339-3239-4038-b761-363262376230
DTSTAMP:20260422T070110Z
DESCRIPTION:12/46 Meteor A - Liberec 2:3 (23\,-19\,-15\,22\,-12)
DTSTART;TZID=Europe/Berlin:20241110T150000
DTEND;TZID=Europe/Berlin:20241110T170000
LOCATION:ZŠ Žernosecká\, Žernosecká 1597 Praha - Kobylisy
SUMMARY:1-U22M-A: Meteor A-Liberec
END:VEVENT
BEGIN:VEVENT
UID:30313763-3739-4235-a361-653561646438
DTSTAMP:20260422T070110Z
DESCRIPTION:17/66 Pardubice - Liberec 2:3 (-22\,17\,24\,-27\,-12)
DTSTART;TZID=Europe/Berlin:20241207T100000
DTEND;TZID=Europe/Berlin:20241207T120000
LOCATION:Sportovní areál Univerzity Pardubice\, Studentská 95 Pardubice - P
 olabiny
SUMMARY:1-U22M-A: Pardubice-Liberec
END:VEVENT
BEGIN:VEVENT
UID:64313665-3332-4464-b135-336135383566
DTSTAMP:20260422T070110Z
DESCRIPTION:18/70 Pardubice - Liberec 1:3 (30\,-7\,-16\,-19)
DTSTART;TZID=Europe/Berlin:20241207T140000
DTEND;TZID=Europe/Berlin:20241207T160000
LOCATION:Sportovní areál Univerzity Pardubice\, Studentská 95 Pardubice - P
 olabiny
SUMMARY:1-U22M-A: Pardubice-Liberec
END:VEVENT
BEGIN:VEVENT
UID:31396330-3238-4463-b535-356466333032
DTSTAMP:20260422T070110Z
DESCRIPTION:23/92 Rychnov n. K. - Liberec 3:0 (29\,26\,23)
DTSTART;TZID=Europe/Berlin:20250112T100000
DTEND;TZID=Europe/Berlin:20250112T120000
LOCATION:Hala VOŠ a SPŠS\, U Stadionu 1166 Rychnov nad Kněžnou
SUMMARY:1-U22M-A: Rychnov n. K.-Liberec
END:VEVENT
BEGIN:VEVENT
UID:61363637-6533-4165-b839-386636613430
DTSTAMP:20260422T070110Z
DESCRIPTION:24/96 Rychnov n. K. - Liberec 3:1 (-20\,24\,23\,20)
DTSTART;TZID=Europe/Berlin:20250112T140000
DTEND;TZID=Europe/Berlin:20250112T160000
LOCATION:Hala VOŠ a SPŠS\, U Stadionu 1166 Rychnov nad Kněžnou
SUMMARY:1-U22M-A: Rychnov n. K.-Liberec
END:VEVENT
BEGIN:VEVENT
UID:36396439-3834-4530-a537-356436326538
DTSTAMP:20260422T070110Z
DESCRIPTION:27/107 Choceň - Liberec 3:2 (22\,-15\,19\,-23\,11)
DTSTART;TZID=Europe/Berlin:20250330T100000
DTEND;TZID=Europe/Berlin:20250330T120000
LOCATION:Volejbalová hala \, U Koupaliště 1734 Choceň
SUMMARY:1-U22M-A: Choceň-Liberec
END:VEVENT
BEGIN:VEVENT
UID:65376562-3865-4338-b265-386535396266
DTSTAMP:20260422T070110Z
DESCRIPTION:28/111 Choceň - Liberec 3:1 (23\,-22\,23\,16)
DTSTART;TZID=Europe/Berlin:20250330T140000
DTEND;TZID=Europe/Berlin:20250330T160000
LOCATION:Volejbalová hala \, U Koupaliště 1734 Choceň
SUMMARY:1-U22M-A: Choceň-Liberec
END:VEVENT
END:VCALENDAR
