BEGIN:VCALENDAR
VERSION:2.0
PRODID:-//VK SPORT Rychnov nad Kněžnou85948//NONSGML kigkonsult.se iCalcreator 2.41.80//
CALSCALE:GREGORIAN
UID:33643363-3738-4132-a562-373963396461
BEGIN:VEVENT
UID:30353534-6364-4334-b439-346235653166
DTSTAMP:20260422T052715Z
DESCRIPTION:3/11 Rychnov n. K. - Dansport 3:2 (21\,-19\,-16\,10\,13)
DTSTART;TZID=Europe/Berlin:20240929T100000
DTEND;TZID=Europe/Berlin:20240929T120000
LOCATION:Hala VOŠ a SPŠS\, U Stadionu 1166 Rychnov nad Kněžnou
SUMMARY:1-U22M-A: Rychnov n. K.-Dansport
END:VEVENT
BEGIN:VEVENT
UID:38626632-3063-4063-a432-613136383231
DTSTAMP:20260422T052715Z
DESCRIPTION:4/15 Rychnov n. K. - Dansport 0:3 (-24\,-22\,-19)
DTSTART;TZID=Europe/Berlin:20240929T140000
DTEND;TZID=Europe/Berlin:20240929T160000
LOCATION:Hala VOŠ a SPŠS\, U Stadionu 1166 Rychnov nad Kněžnou
SUMMARY:1-U22M-A: Rychnov n. K.-Dansport
END:VEVENT
BEGIN:VEVENT
UID:30616633-3335-4235-a436-666132666532
DTSTAMP:20260422T052715Z
DESCRIPTION:7/26 Rychnov n. K. - Odolena Voda 1:3 (-12\,-12\,17\,-14)
DTSTART;TZID=Europe/Berlin:20241027T110000
DTEND;TZID=Europe/Berlin:20241027T130000
LOCATION:Hala VOŠ a SPŠS\, U Stadionu 1166 Rychnov nad Kněžnou
SUMMARY:1-U22M-A: Rychnov n. K.-Odolena Voda
END:VEVENT
BEGIN:VEVENT
UID:64303032-6566-4238-b062-306261333961
DTSTAMP:20260422T052715Z
DESCRIPTION:8/30 Rychnov n. K. - Odolena Voda 0:3 (-21\,-18\,-23)
DTSTART;TZID=Europe/Berlin:20241027T150000
DTEND;TZID=Europe/Berlin:20241027T170000
LOCATION:Hala VOŠ a SPŠS\, U Stadionu 1166 Rychnov nad Kněžnou
SUMMARY:1-U22M-A: Rychnov n. K.-Odolena Voda
END:VEVENT
BEGIN:VEVENT
UID:66653135-3963-4861-b934-376639343434
DTSTAMP:20260422T052715Z
DESCRIPTION:13/52 Rychnov n. K. - Meteor A 3:1 (-23\,14\,19\,20)
DTSTART;TZID=Europe/Berlin:20241123T110000
DTEND;TZID=Europe/Berlin:20241123T130000
LOCATION:Hala VOŠ a SPŠS\, U Stadionu 1166 Rychnov nad Kněžnou
SUMMARY:1-U22M-A: Rychnov n. K.-Meteor A
END:VEVENT
BEGIN:VEVENT
UID:38653036-3635-4830-b335-646161396239
DTSTAMP:20260422T052715Z
DESCRIPTION:14/56 Rychnov n. K. - Meteor A 3:0 (20\,9\,19)
DTSTART;TZID=Europe/Berlin:20241123T150000
DTEND;TZID=Europe/Berlin:20241123T170000
LOCATION:Hala VOŠ a SPŠS\, U Stadionu 1166 Rychnov nad Kněžnou
SUMMARY:1-U22M-A: Rychnov n. K.-Meteor A
END:VEVENT
BEGIN:VEVENT
UID:64653462-3237-4964-b535-306631393136
DTSTAMP:20260422T052715Z
DESCRIPTION:15/58 Rychnov n. K. - Choceň 3:0 (18\,19\,13)
DTSTART;TZID=Europe/Berlin:20241124T100000
DTEND;TZID=Europe/Berlin:20241124T120000
LOCATION:Hala VOŠ a SPŠS\, U Stadionu 1166 Rychnov nad Kněžnou
SUMMARY:1-U22M-A: Rychnov n. K.-Choceň
END:VEVENT
BEGIN:VEVENT
UID:32313862-3565-4632-a638-386462326335
DTSTAMP:20260422T052715Z
DESCRIPTION:16/62 Rychnov n. K. - Choceň 3:1 (18\,-17\,13\,11)
DTSTART;TZID=Europe/Berlin:20241124T140000
DTEND;TZID=Europe/Berlin:20241124T160000
LOCATION:Hala VOŠ a SPŠS\, U Stadionu 1166 Rychnov nad Kněžnou
SUMMARY:1-U22M-A: Rychnov n. K.-Choceň
END:VEVENT
BEGIN:VEVENT
UID:66636561-6366-4661-b833-303064663465
DTSTAMP:20260422T052715Z
DESCRIPTION:19/75 Rychnov n. K. - Pardubice 3:1 (18\,19\,-20\,18)
DTSTART;TZID=Europe/Berlin:20241208T090000
DTEND;TZID=Europe/Berlin:20241208T110000
LOCATION:Hala VOŠ a SPŠS\, U Stadionu 1166 Rychnov nad Kněžnou
SUMMARY:1-U22M-A: Rychnov n. K.-Pardubice
END:VEVENT
BEGIN:VEVENT
UID:35386231-3764-4932-b363-363134393065
DTSTAMP:20260422T052715Z
DESCRIPTION:20/79 Rychnov n. K. - Pardubice 3:0 (16\,19\,12)
DTSTART;TZID=Europe/Berlin:20241208T130000
DTEND;TZID=Europe/Berlin:20241208T150000
LOCATION:Hala VOŠ a SPŠS\, U Stadionu 1166 Rychnov nad Kněžnou
SUMMARY:1-U22M-A: Rychnov n. K.-Pardubice
END:VEVENT
BEGIN:VEVENT
UID:62346566-3732-4932-a137-616531663361
DTSTAMP:20260422T052715Z
DESCRIPTION:23/92 Rychnov n. K. - Liberec 3:0 (29\,26\,23)
DTSTART;TZID=Europe/Berlin:20250112T100000
DTEND;TZID=Europe/Berlin:20250112T120000
LOCATION:Hala VOŠ a SPŠS\, U Stadionu 1166 Rychnov nad Kněžnou
SUMMARY:1-U22M-A: Rychnov n. K.-Liberec
END:VEVENT
BEGIN:VEVENT
UID:34376538-3732-4262-b964-643266363937
DTSTAMP:20260422T052715Z
DESCRIPTION:24/96 Rychnov n. K. - Liberec 3:1 (-20\,24\,23\,20)
DTSTART;TZID=Europe/Berlin:20250112T140000
DTEND;TZID=Europe/Berlin:20250112T160000
LOCATION:Hala VOŠ a SPŠS\, U Stadionu 1166 Rychnov nad Kněžnou
SUMMARY:1-U22M-A: Rychnov n. K.-Liberec
END:VEVENT
BEGIN:VEVENT
UID:62393465-3437-4134-b337-636234393832
DTSTAMP:20260422T052715Z
DESCRIPTION:25/97 Rychnov n. K. - Hronov 3:1 (-24\,18\,17\,13)
DTSTART;TZID=Europe/Berlin:20250315T090000
DTEND;TZID=Europe/Berlin:20250315T110000
LOCATION:Sportovní hala R.Šebrleho\, Hrdinů odboje 36 Rychnov nad Kněžnou
SUMMARY:1-U22M-A: Rychnov n. K.-Hronov
END:VEVENT
BEGIN:VEVENT
UID:66653061-6331-4961-b433-373230653436
DTSTAMP:20260422T052715Z
DESCRIPTION:26/101 Rychnov n. K. - Hronov 3:0 (14\,18\,20)
DTSTART;TZID=Europe/Berlin:20250315T130000
DTEND;TZID=Europe/Berlin:20250315T150000
LOCATION:Sportovní hala R.Šebrleho\, Hrdinů odboje 36 Rychnov nad Kněžnou
SUMMARY:1-U22M-A: Rychnov n. K.-Hronov
END:VEVENT
BEGIN:VEVENT
UID:39326532-6562-4066-b930-313563303465
DTSTAMP:20260422T052715Z
DESCRIPTION:1/2 Choceň - Rychnov n. K. 3:1 (-25\,12\,21\,21)
DTSTART;TZID=Europe/Berlin:20240928T110000
DTEND;TZID=Europe/Berlin:20240928T130000
LOCATION:Volejbalová hala \, U Koupaliště 1734 Choceň
SUMMARY:1-U22M-A: Choceň-Rychnov n. K.
END:VEVENT
BEGIN:VEVENT
UID:66393930-3034-4336-b962-343839323939
DTSTAMP:20260422T052715Z
DESCRIPTION:2/6 Choceň - Rychnov n. K. 2:3 (21\,23\,-22\,-22\,-9)
DTSTART;TZID=Europe/Berlin:20240928T150000
DTEND;TZID=Europe/Berlin:20240928T170000
LOCATION:Volejbalová hala \, U Koupaliště 1734 Choceň
SUMMARY:1-U22M-A: Choceň-Rychnov n. K.
END:VEVENT
BEGIN:VEVENT
UID:37363030-3831-4335-a564-626538643561
DTSTAMP:20260422T052715Z
DESCRIPTION:5/19 Pardubice - Rychnov n. K. 0:3 (-16\,-18\,-15)
DTSTART;TZID=Europe/Berlin:20241026T100000
DTEND;TZID=Europe/Berlin:20241026T120000
LOCATION:Sportovní hala\, Masarykovo nám. 108 Lázně Bohdaneč
SUMMARY:1-U22M-A: Pardubice-Rychnov n. K.
END:VEVENT
BEGIN:VEVENT
UID:62363261-3833-4536-a339-633732366334
DTSTAMP:20260422T052715Z
DESCRIPTION:6/23 Pardubice - Rychnov n. K. 0:3 (-20\,-11\,-14)
DTSTART;TZID=Europe/Berlin:20241026T140000
DTEND;TZID=Europe/Berlin:20241026T160000
LOCATION:Sportovní hala\, Masarykovo nám. 108 Lázně Bohdaneč
SUMMARY:1-U22M-A: Pardubice-Rychnov n. K.
END:VEVENT
BEGIN:VEVENT
UID:66626534-3663-4735-b366-616435633835
DTSTAMP:20260422T052715Z
DESCRIPTION:9/36 Liberec - Rychnov n. K. 3:1 (18\,23\,-20\,20)
DTSTART;TZID=Europe/Berlin:20241214T100000
DTEND;TZID=Europe/Berlin:20241214T120000
LOCATION:Základní škola\, Liberec\, Švermova 403/40\, Švermova 403 Liberec 
 - Liberec X-Františkov
SUMMARY:1-U22M-A: Liberec-Rychnov n. K.
END:VEVENT
BEGIN:VEVENT
UID:62346463-3031-4038-b863-313938613766
DTSTAMP:20260422T052715Z
DESCRIPTION:10/40 Liberec - Rychnov n. K. 3:0 (17\,20\,15)
DTSTART;TZID=Europe/Berlin:20241214T140000
DTEND;TZID=Europe/Berlin:20241214T160000
LOCATION:Základní škola\, Liberec\, Švermova 403/40\, Švermova 403 Liberec 
 - Liberec X-Františkov
SUMMARY:1-U22M-A: Liberec-Rychnov n. K.
END:VEVENT
BEGIN:VEVENT
UID:61643066-3161-4033-b263-353038343232
DTSTAMP:20260422T052715Z
DESCRIPTION:11/41 Hronov - Rychnov n. K. 1:3 (17\,-19\,-17\,-19)
DTSTART;TZID=Europe/Berlin:20241110T100000
DTEND;TZID=Europe/Berlin:20241110T120000
LOCATION:ZŠ Hronov\, Palackého 162 Hronov
SUMMARY:1-U22M-A: Hronov-Rychnov n. K.
END:VEVENT
BEGIN:VEVENT
UID:34323065-3165-4864-a630-306133373631
DTSTAMP:20260422T052715Z
DESCRIPTION:12/45 Hronov - Rychnov n. K. 0:3 (-14\,-25\,-22)
DTSTART;TZID=Europe/Berlin:20241110T140000
DTEND;TZID=Europe/Berlin:20241110T160000
LOCATION:ZŠ Hronov\, Palackého 162 Hronov
SUMMARY:1-U22M-A: Hronov-Rychnov n. K.
END:VEVENT
BEGIN:VEVENT
UID:34633738-6238-4739-b931-336534646435
DTSTAMP:20260422T052715Z
DESCRIPTION:17/67 Dansport - Rychnov n. K. 3:0 (22\,17\,16)
DTSTART;TZID=Europe/Berlin:20241207T090000
DTEND;TZID=Europe/Berlin:20241207T110000
LOCATION:Sportovní hala Gymnázia Jana Keplera\, Parléřova 118 Praha - Hradč
 any
SUMMARY:1-U22M-A: Dansport-Rychnov n. K.
END:VEVENT
BEGIN:VEVENT
UID:36636431-3966-4361-b738-336236646131
DTSTAMP:20260422T052715Z
DESCRIPTION:18/71 Dansport - Rychnov n. K. 3:0 (23\,11\,23)
DTSTART;TZID=Europe/Berlin:20241207T130000
DTEND;TZID=Europe/Berlin:20241207T150000
LOCATION:Sportovní hala Gymnázia Jana Keplera\, Parléřova 118 Praha - Hradč
 any
SUMMARY:1-U22M-A: Dansport-Rychnov n. K.
END:VEVENT
BEGIN:VEVENT
UID:37326266-6164-4234-a266-373661303538
DTSTAMP:20260422T052715Z
DESCRIPTION:21/82 Odolena Voda - Rychnov n. K. 3:1 (22\,-20\,8\,14)
DTSTART;TZID=Europe/Berlin:20250111T100000
DTEND;TZID=Europe/Berlin:20250111T120000
LOCATION:Sportovní hala\, Ke Stadionu 375 Odolena Voda
SUMMARY:1-U22M-A: Odolena Voda-Rychnov n. K.
END:VEVENT
BEGIN:VEVENT
UID:66666466-6166-4339-a330-653436356431
DTSTAMP:20260422T052715Z
DESCRIPTION:22/86 Odolena Voda - Rychnov n. K. 3:0 (17\,15\,20)
DTSTART;TZID=Europe/Berlin:20250111T140000
DTEND;TZID=Europe/Berlin:20250111T160000
LOCATION:Sportovní hala\, Ke Stadionu 375 Odolena Voda
SUMMARY:1-U22M-A: Odolena Voda-Rychnov n. K.
END:VEVENT
BEGIN:VEVENT
UID:39663163-3636-4730-a462-306466653566
DTSTAMP:20260422T052715Z
DESCRIPTION:27/108 Meteor A - Rychnov n. K. 1:3 (21\,-22\,-19\,-17)
DTSTART;TZID=Europe/Berlin:20250330T090000
DTEND;TZID=Europe/Berlin:20250330T110000
LOCATION:ZŠ Žernosecká\, Žernosecká 1597 Praha - Kobylisy
SUMMARY:1-U22M-A: Meteor A-Rychnov n. K.
END:VEVENT
BEGIN:VEVENT
UID:35643832-3134-4439-b365-313736633032
DTSTAMP:20260422T052715Z
DESCRIPTION:28/112 Meteor A - Rychnov n. K. 0:3 (-21\,-20\,-21)
DTSTART;TZID=Europe/Berlin:20250330T130000
DTEND;TZID=Europe/Berlin:20250330T150000
LOCATION:ZŠ Žernosecká\, Žernosecká 1597 Praha - Kobylisy
SUMMARY:1-U22M-A: Meteor A-Rychnov n. K.
END:VEVENT
END:VCALENDAR
