BEGIN:VCALENDAR
VERSION:2.0
PRODID:-//Kladno volejbal cz85957//NONSGML kigkonsult.se iCalcreator 2.41.80//
CALSCALE:GREGORIAN
UID:31306132-3132-4465-a234-353634393837
BEGIN:VEVENT
UID:63336639-6632-4832-b364-353336616236
DTSTAMP:20260423T022330Z
DESCRIPTION:3/7 Kladno - Plzeň B 3:0 (13\,21\,10)
DTSTART;TZID=Europe/Berlin:20240928T100000
DTEND;TZID=Europe/Berlin:20240928T120000
LOCATION:Kladenská sportovní hala\, Sportovců 817 Kladno - Rozdělov
SUMMARY:1-U22Z-B: Kladno-Plzeň B
END:VEVENT
BEGIN:VEVENT
UID:35306461-3561-4662-a363-383163356364
DTSTAMP:20260423T022330Z
DESCRIPTION:4/10 Kladno - Plzeň B 3:0 (6\,22\,6)
DTSTART;TZID=Europe/Berlin:20240928T140000
DTEND;TZID=Europe/Berlin:20240928T160000
LOCATION:Kladenská sportovní hala\, Sportovců 817 Kladno - Rozdělov
SUMMARY:1-U22Z-B: Kladno-Plzeň B
END:VEVENT
BEGIN:VEVENT
UID:33643630-3131-4536-a666-313064646461
DTSTAMP:20260423T022330Z
DESCRIPTION:7/19 Kladno - České Budějovice 3:1 (11\,19\,-19\,16)
DTSTART;TZID=Europe/Berlin:20241012T100000
DTEND;TZID=Europe/Berlin:20241012T120000
LOCATION:Přetlaková sportovní hala Brjanská\, Severní 3127 Kladno
SUMMARY:1-U22Z-B: Kladno-České Budějovice
END:VEVENT
BEGIN:VEVENT
UID:62666639-6437-4332-b066-386364333432
DTSTAMP:20260423T022330Z
DESCRIPTION:8/22 Kladno - České Budějovice 2:3 (-23\,24\,14\,-22\,-9)
DTSTART;TZID=Europe/Berlin:20241012T140000
DTEND;TZID=Europe/Berlin:20241012T160000
LOCATION:Přetlaková sportovní hala Brjanská\, Severní 3127 Kladno
SUMMARY:1-U22Z-B: Kladno-České Budějovice
END:VEVENT
BEGIN:VEVENT
UID:35623937-3364-4361-a332-636634623662
DTSTAMP:20260423T022330Z
DESCRIPTION:11/31 Kladno - Kometa 3:0 (15\,9\,16)
DTSTART;TZID=Europe/Berlin:20241109T100000
DTEND;TZID=Europe/Berlin:20241109T120000
LOCATION:Kladenská sportovní hala\, Sportovců 817 Kladno - Rozdělov
SUMMARY:1-U22Z-B: Kladno-Kometa
END:VEVENT
BEGIN:VEVENT
UID:62633762-3465-4338-a239-373334333563
DTSTAMP:20260423T022330Z
DESCRIPTION:12/34 Kladno - Kometa 3:0 (14\,13\,19)
DTSTART;TZID=Europe/Berlin:20241109T140000
DTEND;TZID=Europe/Berlin:20241109T160000
LOCATION:Kladenská sportovní hala\, Sportovců 817 Kladno - Rozdělov
SUMMARY:1-U22Z-B: Kladno-Kometa
END:VEVENT
BEGIN:VEVENT
UID:37633739-3333-4864-a132-636564666630
DTSTAMP:20260423T022330Z
DESCRIPTION:15/43 Kladno - Vejprnice 3:1 (15\,-20\,18\,18)
DTSTART;TZID=Europe/Berlin:20241207T100000
DTEND;TZID=Europe/Berlin:20241207T120000
LOCATION:Kladenská sportovní hala\, Sportovců 817 Kladno - Rozdělov
SUMMARY:1-U22Z-B: Kladno-Vejprnice
END:VEVENT
BEGIN:VEVENT
UID:34376161-3833-4131-b231-323730616361
DTSTAMP:20260423T022330Z
DESCRIPTION:16/46 Kladno - Vejprnice 3:1 (21\,21\,-22\,21)
DTSTART;TZID=Europe/Berlin:20241207T140000
DTEND;TZID=Europe/Berlin:20241207T160000
LOCATION:Kladenská sportovní hala\, Sportovců 817 Kladno - Rozdělov
SUMMARY:1-U22Z-B: Kladno-Vejprnice
END:VEVENT
BEGIN:VEVENT
UID:63313336-3738-4135-a630-393931623233
DTSTAMP:20260423T022330Z
DESCRIPTION:19/55 Kladno - Roztoky 3:2 (23\,-26\,14\,-18\,13)
DTSTART;TZID=Europe/Berlin:20250119T140000
DTEND;TZID=Europe/Berlin:20250119T160000
LOCATION:Kladenská sportovní hala\, Sportovců 817 Kladno - Rozdělov
SUMMARY:1-U22Z-B: Kladno-Roztoky
END:VEVENT
BEGIN:VEVENT
UID:31323832-3736-4938-b633-643066326266
DTSTAMP:20260423T022330Z
DESCRIPTION:20/58 Kladno - Roztoky 3:1 (24\,25\,-24\,11)
DTSTART;TZID=Europe/Berlin:20250119T160000
DTEND;TZID=Europe/Berlin:20250119T180000
LOCATION:Kladenská sportovní hala\, Sportovců 817 Kladno - Rozdělov
SUMMARY:1-U22Z-B: Kladno-Roztoky
END:VEVENT
BEGIN:VEVENT
UID:32353132-6637-4236-a138-313465356331
DTSTAMP:20260423T022330Z
DESCRIPTION:1/1 Kometa - Kladno 2:3 (-14\,16\,21\,-19\,-11)
DTSTART;TZID=Europe/Berlin:20250104T100000
DTEND;TZID=Europe/Berlin:20250104T120000
LOCATION:Tělocvična ZŠ Na Šutce\, Na Šutce 440 Praha - Troja
SUMMARY:1-U22Z-B: Kometa-Kladno
END:VEVENT
BEGIN:VEVENT
UID:37383965-6435-4161-a534-386633636238
DTSTAMP:20260423T022330Z
DESCRIPTION:2/4 Kometa - Kladno 0:3 (-22\,-9\,-17)
DTSTART;TZID=Europe/Berlin:20250104T140000
DTEND;TZID=Europe/Berlin:20250104T160000
LOCATION:Tělocvična ZŠ Na Šutce\, Na Šutce 440 Praha - Troja
SUMMARY:1-U22Z-B: Kometa-Kladno
END:VEVENT
BEGIN:VEVENT
UID:65643261-3565-4465-b862-366638643438
DTSTAMP:20260423T022330Z
DESCRIPTION:5/13 Vejprnice - Kladno 0:3 (-18\,-18\,-11)
DTSTART;TZID=Europe/Berlin:20241005T100000
DTEND;TZID=Europe/Berlin:20241005T120000
LOCATION:Tělocvična ZŠ Vejprnice\, Jakuba Husníka 527 Vejprnice
SUMMARY:1-U22Z-B: Vejprnice-Kladno
END:VEVENT
BEGIN:VEVENT
UID:62383539-6339-4261-a634-373931313038
DTSTAMP:20260423T022330Z
DESCRIPTION:6/16 Vejprnice - Kladno 1:3 (-19\,16\,-15\,-20)
DTSTART;TZID=Europe/Berlin:20241005T140000
DTEND;TZID=Europe/Berlin:20241005T160000
LOCATION:Tělocvična ZŠ Vejprnice\, Jakuba Husníka 527 Vejprnice
SUMMARY:1-U22Z-B: Vejprnice-Kladno
END:VEVENT
BEGIN:VEVENT
UID:64393463-6231-4965-b435-386566376439
DTSTAMP:20260423T022330Z
DESCRIPTION:9/25 Roztoky - Kladno 3:2 (-16\,22\,-23\,13\,13)
DTSTART;TZID=Europe/Berlin:20241026T100000
DTEND;TZID=Europe/Berlin:20241026T120000
LOCATION:Tělocvična ZŠ Roztoky\, Školní nám. 470 Roztoky
SUMMARY:1-U22Z-B: Roztoky-Kladno
END:VEVENT
BEGIN:VEVENT
UID:39656565-6139-4163-b033-363934353939
DTSTAMP:20260423T022330Z
DESCRIPTION:10/28 Roztoky - Kladno 3:1 (-17\,20\,21\,21)
DTSTART;TZID=Europe/Berlin:20241026T140000
DTEND;TZID=Europe/Berlin:20241026T160000
LOCATION:Tělocvična ZŠ Roztoky\, Školní nám. 470 Roztoky
SUMMARY:1-U22Z-B: Roztoky-Kladno
END:VEVENT
BEGIN:VEVENT
UID:36346635-6166-4066-b161-373661643131
DTSTAMP:20260423T022330Z
DESCRIPTION:13/37 Plzeň B - Kladno 0:3 (-22\,-18\,-19)
DTSTART;TZID=Europe/Berlin:20241130T110000
DTEND;TZID=Europe/Berlin:20241130T130000
LOCATION:Hala PF ZČU Plzeň\, Klatovská třída 1736 Plzeň - Jižní Předměstí
SUMMARY:1-U22Z-B: Plzeň B-Kladno
END:VEVENT
BEGIN:VEVENT
UID:35333666-3062-4236-b838-346130373364
DTSTAMP:20260423T022330Z
DESCRIPTION:14/40 Plzeň B - Kladno 0:3 (-24\,-15\,-19)
DTSTART;TZID=Europe/Berlin:20241130T150000
DTEND;TZID=Europe/Berlin:20241130T170000
LOCATION:Hala PF ZČU Plzeň\, Klatovská třída 1736 Plzeň - Jižní Předměstí
SUMMARY:1-U22Z-B: Plzeň B-Kladno
END:VEVENT
BEGIN:VEVENT
UID:65643031-6463-4435-b830-373838373539
DTSTAMP:20260423T022330Z
DESCRIPTION:17/49 České Budějovice - Kladno 3:1 (-21\,10\,21\,23)
DTSTART;TZID=Europe/Berlin:20250111T100000
DTEND;TZID=Europe/Berlin:20250111T120000
LOCATION:ZŠ Oskara Nedbala České Budějovice\, O. Nedbala 882 České Budějovi
 ce - České Budějovice 2
SUMMARY:1-U22Z-B: České Budějovice-Kladno
END:VEVENT
BEGIN:VEVENT
UID:32653164-3234-4333-b362-323764393862
DTSTAMP:20260423T022330Z
DESCRIPTION:18/52 České Budějovice - Kladno 3:0 (15\,16\,12)
DTSTART;TZID=Europe/Berlin:20250111T140000
DTEND;TZID=Europe/Berlin:20250111T160000
LOCATION:ZŠ Oskara Nedbala České Budějovice\, O. Nedbala 882 České Budějovi
 ce - České Budějovice 2
SUMMARY:1-U22Z-B: České Budějovice-Kladno
END:VEVENT
BEGIN:VEVENT
UID:35346136-3439-4464-b162-356365393263
DTSTAMP:20260423T022330Z
DESCRIPTION:3/7 Kladno - Turnov 3:0 (21\,23\,14)
DTSTART;TZID=Europe/Berlin:20250329T090000
DTEND;TZID=Europe/Berlin:20250329T110000
LOCATION:Kladenská sportovní hala\, Sportovců 817 Kladno - Rozdělov
SUMMARY:1-U22Z-I: Kladno-Turnov
END:VEVENT
BEGIN:VEVENT
UID:62303831-6161-4639-a365-393839313839
DTSTAMP:20260423T022330Z
DESCRIPTION:4/10 Kladno - Turnov 3:2 (23\,21\,-22\,-21\,9)
DTSTART;TZID=Europe/Berlin:20250329T130000
DTEND;TZID=Europe/Berlin:20250329T150000
LOCATION:Kladenská sportovní hala\, Sportovců 817 Kladno - Rozdělov
SUMMARY:1-U22Z-I: Kladno-Turnov
END:VEVENT
BEGIN:VEVENT
UID:39343039-6432-4739-b164-303336343064
DTSTAMP:20260423T022330Z
DESCRIPTION:7/20 Kladno - Ústí n. L. 3:1 (18\,18\,-24\,6)
DTSTART;TZID=Europe/Berlin:20250322T090000
DTEND;TZID=Europe/Berlin:20250322T110000
LOCATION:Kladenská sportovní hala\, Sportovců 817 Kladno - Rozdělov
SUMMARY:1-U22Z-I: Kladno-Ústí n. L.
END:VEVENT
BEGIN:VEVENT
UID:62313861-3233-4864-a639-623565393639
DTSTAMP:20260423T022330Z
DESCRIPTION:8/23 Kladno - Ústí n. L. 3:0 (12\,23\,13)
DTSTART;TZID=Europe/Berlin:20250322T130000
DTEND;TZID=Europe/Berlin:20250322T150000
LOCATION:Kladenská sportovní hala\, Sportovců 817 Kladno - Rozdělov
SUMMARY:1-U22Z-I: Kladno-Ústí n. L.
END:VEVENT
BEGIN:VEVENT
UID:39373536-3938-4335-b736-323362333262
DTSTAMP:20260423T022330Z
DESCRIPTION:11/33 Kladno - Jičín 3:1 (15\,-23\,13\,16)
DTSTART;TZID=Europe/Berlin:20250406T090000
DTEND;TZID=Europe/Berlin:20250406T110000
LOCATION:Kladenská sportovní hala\, Sportovců 817 Kladno - Rozdělov
SUMMARY:1-U22Z-I: Kladno-Jičín
END:VEVENT
BEGIN:VEVENT
UID:32636263-3635-4436-a336-646137643065
DTSTAMP:20260423T022330Z
DESCRIPTION:12/36 Kladno - Jičín 3:2 (16\,22\,-26\,-21\,13)
DTSTART;TZID=Europe/Berlin:20250406T130000
DTEND;TZID=Europe/Berlin:20250406T150000
LOCATION:Kladenská sportovní hala\, Sportovců 817 Kladno - Rozdělov
SUMMARY:1-U22Z-I: Kladno-Jičín
END:VEVENT
BEGIN:VEVENT
UID:62376437-3031-4161-b462-393363643264
DTSTAMP:20260423T022330Z
DESCRIPTION:1/2 Ústí n. L. - Kladno 3:1 (-23\,22\,19\,18)
DTSTART;TZID=Europe/Berlin:20250309T100000
DTEND;TZID=Europe/Berlin:20250309T120000
LOCATION:Střední průmyslová škola strojní a elektro\, Resslova 210 Ústí nad
  Labem - Klíše
SUMMARY:1-U22Z-I: Ústí n. L.-Kladno
END:VEVENT
BEGIN:VEVENT
UID:30653534-3534-4534-b430-316137643934
DTSTAMP:20260423T022330Z
DESCRIPTION:2/5 Ústí n. L. - Kladno 0:3 (-23\,-22\,-15)
DTSTART;TZID=Europe/Berlin:20250309T140000
DTEND;TZID=Europe/Berlin:20250309T160000
LOCATION:Střední průmyslová škola strojní a elektro\, Resslova 210 Ústí nad
  Labem - Klíše
SUMMARY:1-U22Z-I: Ústí n. L.-Kladno
END:VEVENT
BEGIN:VEVENT
UID:65363864-6166-4233-a165-636462653233
DTSTAMP:20260423T022330Z
DESCRIPTION:5/15 Jičín - Kladno 3:1 (22\,14\,-18\,15)
DTSTART;TZID=Europe/Berlin:20250308T100000
DTEND;TZID=Europe/Berlin:20250308T120000
LOCATION:Hala 3. základní školy Jičín\, Poděbradova 18 Jičín - Nové Město
SUMMARY:1-U22Z-I: Jičín-Kladno
END:VEVENT
BEGIN:VEVENT
UID:31303337-6232-4734-a631-626334613832
DTSTAMP:20260423T022330Z
DESCRIPTION:6/18 Jičín - Kladno 3:1 (-23\,14\,15\,15)
DTSTART;TZID=Europe/Berlin:20250308T140000
DTEND;TZID=Europe/Berlin:20250308T160000
LOCATION:Hala 3. základní školy Jičín\, Poděbradova 18 Jičín - Nové Město
SUMMARY:1-U22Z-I: Jičín-Kladno
END:VEVENT
BEGIN:VEVENT
UID:34373832-3761-4433-a165-356238656635
DTSTAMP:20260423T022330Z
DESCRIPTION:9/25 Turnov - Kladno 0:3 (-20\,-18\,-20)
DTSTART;TZID=Europe/Berlin:20250208T110000
DTEND;TZID=Europe/Berlin:20250208T130000
LOCATION:TJ Turnov\, Skálova 207 Turnov
SUMMARY:1-U22Z-I: Turnov-Kladno
END:VEVENT
BEGIN:VEVENT
UID:38336532-3834-4762-b433-393963666234
DTSTAMP:20260423T022330Z
DESCRIPTION:10/28 Turnov - Kladno 0:3 (-13\,-15\,-17)
DTSTART;TZID=Europe/Berlin:20250208T150000
DTEND;TZID=Europe/Berlin:20250208T170000
LOCATION:TJ Turnov\, Skálova 207 Turnov
SUMMARY:1-U22Z-I: Turnov-Kladno
END:VEVENT
BEGIN:VEVENT
UID:33333739-3934-4033-a137-373062663765
DTSTAMP:20260423T022330Z
DESCRIPTION:1/2 Kojetín - Kladno 1:3 (23\,-12\,-15\,-21)
DTSTART;TZID=Europe/Berlin:20250418T170000
DTEND;TZID=Europe/Berlin:20250418T190000
LOCATION:Městská sportovní hala\, Hanusíkova 1476 Kojetín - Kojetín I-Město
SUMMARY:EX-U22Z-KI: Kojetín-Kladno
END:VEVENT
BEGIN:VEVENT
UID:30343865-6334-4334-b537-626663366530
DTSTAMP:20260423T022330Z
DESCRIPTION:2/4 Kojetín - Kladno 2:3 (-19\,-10\,13\,16\,-3)
DTSTART;TZID=Europe/Berlin:20250419T100000
DTEND;TZID=Europe/Berlin:20250419T120000
LOCATION:Městská sportovní hala\, Hanusíkova 1476 Kojetín - Kojetín I-Město
SUMMARY:EX-U22Z-KI: Kojetín-Kladno
END:VEVENT
BEGIN:VEVENT
UID:39663039-3133-4064-a561-326130633939
DTSTAMP:20260423T022330Z
DESCRIPTION:1/2 Kladno - České Budějovice 0:3 (-11\,-19\,-22)
DTSTART;TZID=Europe/Berlin:20250503T130000
DTEND;TZID=Europe/Berlin:20250503T150000
LOCATION:ZŠ Dolní Břežany\, Na Vršku 290 Dolní Břežany
SUMMARY:EX-U22Z-KII: Kladno-České Budějovice
END:VEVENT
BEGIN:VEVENT
UID:37393034-3664-4432-a331-363462353565
DTSTAMP:20260423T022330Z
DESCRIPTION:1/1 Orion Praha - Kladno 3:1 (21\,-23\,21\,23)
DTSTART;TZID=Europe/Berlin:20250503T100000
DTEND;TZID=Europe/Berlin:20250503T120000
LOCATION:ZŠ Dolní Břežany\, Na Vršku 290 Dolní Břežany
SUMMARY:EX-U22Z-KII: Orion Praha-Kladno
END:VEVENT
END:VCALENDAR
