BEGIN:VCALENDAR
VERSION:2.0
PRODID:-//SK Kojetín 201685959//NONSGML kigkonsult.se iCalcreator 2.41.80//
CALSCALE:GREGORIAN
UID:34626134-3861-4564-b163-613766356636
BEGIN:VEVENT
UID:66343335-3533-4639-b131-323562643735
DTSTAMP:20260425T155159Z
DESCRIPTION:5/15 Kojetín - Olomouc 3:1 (-21\,18\,20\,21)
DTSTART;TZID=Europe/Berlin:20241005T100000
DTEND;TZID=Europe/Berlin:20241005T120000
LOCATION:Tělocvična ZŠ\, Velká Dlážka 914 Přerov - Přerov I-Město
SUMMARY:1-U22Z-D: Kojetín-Olomouc
END:VEVENT
BEGIN:VEVENT
UID:34616536-3764-4462-b139-353465323235
DTSTAMP:20260425T155159Z
DESCRIPTION:6/18 Kojetín - Olomouc 3:2 (-23\,22\,-19\,16\,11)
DTSTART;TZID=Europe/Berlin:20241005T140000
DTEND;TZID=Europe/Berlin:20241005T160000
LOCATION:Tělocvična ZŠ\, Velká Dlážka 914 Přerov - Přerov I-Město
SUMMARY:1-U22Z-D: Kojetín-Olomouc
END:VEVENT
BEGIN:VEVENT
UID:35313439-6539-4462-b432-643834333866
DTSTAMP:20260425T155159Z
DESCRIPTION:9/26 Kojetín - Jehnice 3:0 (20\,21\,20)
DTSTART;TZID=Europe/Berlin:20241026T100000
DTEND;TZID=Europe/Berlin:20241026T120000
LOCATION:Městská sportovní hala\, Hanusíkova 1476 Kojetín - Kojetín I-Město
SUMMARY:1-U22Z-D: Kojetín-Jehnice
END:VEVENT
BEGIN:VEVENT
UID:38633830-3237-4839-b266-306266393866
DTSTAMP:20260425T155159Z
DESCRIPTION:10/29 Kojetín - Jehnice 3:0 (16\,19\,16)
DTSTART;TZID=Europe/Berlin:20241026T140000
DTEND;TZID=Europe/Berlin:20241026T160000
LOCATION:Městská sportovní hala\, Hanusíkova 1476 Kojetín - Kojetín I-Město
SUMMARY:1-U22Z-D: Kojetín-Jehnice
END:VEVENT
BEGIN:VEVENT
UID:63396532-6138-4365-a463-386432373731
DTSTAMP:20260425T155159Z
DESCRIPTION:11/33 Kojetín - KP Brno B 3:1 (21\,-14\,24\,17)
DTSTART;TZID=Europe/Berlin:20241109T100000
DTEND;TZID=Europe/Berlin:20241109T120000
LOCATION:Městská sportovní hala\, Hanusíkova 1476 Kojetín - Kojetín I-Město
SUMMARY:1-U22Z-D: Kojetín-KP Brno B
END:VEVENT
BEGIN:VEVENT
UID:66663633-6564-4332-a665-633138393331
DTSTAMP:20260425T155159Z
DESCRIPTION:12/36 Kojetín - KP Brno B 3:0 (20\,19\,14)
DTSTART;TZID=Europe/Berlin:20241109T140000
DTEND;TZID=Europe/Berlin:20241109T160000
LOCATION:Městská sportovní hala\, Hanusíkova 1476 Kojetín - Kojetín I-Město
SUMMARY:1-U22Z-D: Kojetín-KP Brno B
END:VEVENT
BEGIN:VEVENT
UID:66386166-3966-4666-a232-386165333134
DTSTAMP:20260425T155159Z
DESCRIPTION:13/37 Kojetín - Vsetín 3:1 (19\,18\,-18\,13)
DTSTART;TZID=Europe/Berlin:20241130T090000
DTEND;TZID=Europe/Berlin:20241130T110000
LOCATION:Městská sportovní hala\, Hanusíkova 1476 Kojetín - Kojetín I-Město
SUMMARY:1-U22Z-D: Kojetín-Vsetín
END:VEVENT
BEGIN:VEVENT
UID:39663261-6266-4436-b964-343637653966
DTSTAMP:20260425T155159Z
DESCRIPTION:14/40 Kojetín - Vsetín 3:1 (23\,-23\,18\,26)
DTSTART;TZID=Europe/Berlin:20241130T130000
DTEND;TZID=Europe/Berlin:20241130T150000
LOCATION:Městská sportovní hala\, Hanusíkova 1476 Kojetín - Kojetín I-Město
SUMMARY:1-U22Z-D: Kojetín-Vsetín
END:VEVENT
BEGIN:VEVENT
UID:63666366-3434-4138-b866-643733356439
DTSTAMP:20260425T155159Z
DESCRIPTION:17/50 Kojetín - Zlín 3:0 (19\,19\,14)
DTSTART;TZID=Europe/Berlin:20250111T093000
DTEND;TZID=Europe/Berlin:20250111T113000
LOCATION:Městská sportovní hala\, Hanusíkova 1476 Kojetín - Kojetín I-Město
SUMMARY:1-U22Z-D: Kojetín-Zlín
END:VEVENT
BEGIN:VEVENT
UID:63376638-3265-4631-a639-326265323835
DTSTAMP:20260425T155159Z
DESCRIPTION:18/53 Kojetín - Zlín 3:0 (11\,19\,17)
DTSTART;TZID=Europe/Berlin:20250111T133000
DTEND;TZID=Europe/Berlin:20250111T153000
LOCATION:Městská sportovní hala\, Hanusíkova 1476 Kojetín - Kojetín I-Město
SUMMARY:1-U22Z-D: Kojetín-Zlín
END:VEVENT
BEGIN:VEVENT
UID:63323937-3566-4133-b165-396662363633
DTSTAMP:20260425T155159Z
DESCRIPTION:1/3 KP Brno B - Kojetín 3:0 (10\,23\,15)
DTSTART;TZID=Europe/Berlin:20240914T100000
DTEND;TZID=Europe/Berlin:20240914T120000
LOCATION:Sportovní gymnázium Ludvíka Daňka\, Botanická 63 Brno - Ponava
SUMMARY:1-U22Z-D: KP Brno B-Kojetín
END:VEVENT
BEGIN:VEVENT
UID:39376537-3732-4965-a364-303364383231
DTSTAMP:20260425T155159Z
DESCRIPTION:2/6 KP Brno B - Kojetín 3:2 (-21\,-11\,17\,21\,5)
DTSTART;TZID=Europe/Berlin:20240914T130000
DTEND;TZID=Europe/Berlin:20240914T150000
LOCATION:Sportovní gymnázium Ludvíka Daňka\, Botanická 63 Brno - Ponava
SUMMARY:1-U22Z-D: KP Brno B-Kojetín
END:VEVENT
BEGIN:VEVENT
UID:35326164-6663-4339-a238-313264653765
DTSTAMP:20260425T155159Z
DESCRIPTION:3/7 Vsetín - Kojetín 0:3 (-20\,-19\,-14)
DTSTART;TZID=Europe/Berlin:20240928T090000
DTEND;TZID=Europe/Berlin:20240928T110000
LOCATION:Sportovní hala Na Lapači\, Na Lapači 247 Vsetín - Rokytnice
SUMMARY:1-U22Z-D: Vsetín-Kojetín
END:VEVENT
BEGIN:VEVENT
UID:30623965-6239-4533-b435-376463336562
DTSTAMP:20260425T155159Z
DESCRIPTION:4/10 Vsetín - Kojetín 3:1 (15\,20\,-13\,22)
DTSTART;TZID=Europe/Berlin:20240928T130000
DTEND;TZID=Europe/Berlin:20240928T150000
LOCATION:Sportovní hala Na Lapači\, Na Lapači 247 Vsetín - Rokytnice
SUMMARY:1-U22Z-D: Vsetín-Kojetín
END:VEVENT
BEGIN:VEVENT
UID:37656439-3837-4864-b463-623332393266
DTSTAMP:20260425T155159Z
DESCRIPTION:7/20 Zlín - Kojetín 1:3 (-16\,-21\,17\,-22)
DTSTART;TZID=Europe/Berlin:20241012T100000
DTEND;TZID=Europe/Berlin:20241012T120000
LOCATION:Sportovní hala Datart Zlín\, U Zimního stadionu 4286 Zlín
SUMMARY:1-U22Z-D: Zlín-Kojetín
END:VEVENT
BEGIN:VEVENT
UID:32363331-3565-4335-b938-356436366263
DTSTAMP:20260425T155159Z
DESCRIPTION:8/23 Zlín - Kojetín 2:3 (23\,-18\,-22\,18\,-12)
DTSTART;TZID=Europe/Berlin:20241012T140000
DTEND;TZID=Europe/Berlin:20241012T160000
LOCATION:Sportovní hala Datart Zlín\, U Zimního stadionu 4286 Zlín
SUMMARY:1-U22Z-D: Zlín-Kojetín
END:VEVENT
BEGIN:VEVENT
UID:31376162-3666-4265-b637-346462626462
DTSTAMP:20260425T155159Z
DESCRIPTION:15/45 Olomouc - Kojetín 1:3 (-18\,19\,-15\,-14)
DTSTART;TZID=Europe/Berlin:20241207T100000
DTEND;TZID=Europe/Berlin:20241207T120000
LOCATION:VOŠ a SPŠE Olomouc\, Božetěchova 755 Olomouc - Hodolany
SUMMARY:1-U22Z-D: Olomouc-Kojetín
END:VEVENT
BEGIN:VEVENT
UID:61373866-6464-4630-a330-343639653864
DTSTAMP:20260425T155159Z
DESCRIPTION:16/48 Olomouc - Kojetín 3:0 (22\,17\,22)
DTSTART;TZID=Europe/Berlin:20241207T140000
DTEND;TZID=Europe/Berlin:20241207T160000
LOCATION:VOŠ a SPŠE Olomouc\, Božetěchova 755 Olomouc - Hodolany
SUMMARY:1-U22Z-D: Olomouc-Kojetín
END:VEVENT
BEGIN:VEVENT
UID:32616337-6564-4963-b238-626535313731
DTSTAMP:20260425T155159Z
DESCRIPTION:19/56 Jehnice - Kojetín 3:0 (26\,19\,23)
DTSTART;TZID=Europe/Berlin:20250119T100000
DTEND;TZID=Europe/Berlin:20250119T120000
LOCATION:TJ Sokol Jehnice\, Blanenská 1 Brno - Jehnice
SUMMARY:1-U22Z-D: Jehnice-Kojetín
END:VEVENT
BEGIN:VEVENT
UID:64663063-3832-4833-b034-323536333938
DTSTAMP:20260425T155159Z
DESCRIPTION:20/59 Jehnice - Kojetín 3:2 (-22\,20\,21\,-20\,20)
DTSTART;TZID=Europe/Berlin:20250119T140000
DTEND;TZID=Europe/Berlin:20250119T160000
LOCATION:TJ Sokol Jehnice\, Blanenská 1 Brno - Jehnice
SUMMARY:1-U22Z-D: Jehnice-Kojetín
END:VEVENT
BEGIN:VEVENT
UID:66326136-3132-4039-a235-623661373365
DTSTAMP:20260425T155159Z
DESCRIPTION:3/7 Kojetín - Nymburk 2:3 (-5\,-18\,13\,25\,-15)
DTSTART;TZID=Europe/Berlin:20250208T100000
DTEND;TZID=Europe/Berlin:20250208T120000
LOCATION:Městská sportovní hala\, Hanusíkova 1476 Kojetín - Kojetín I-Město
SUMMARY:1-U22Z-II: Kojetín-Nymburk
END:VEVENT
BEGIN:VEVENT
UID:32306636-3665-4736-a535-666561303863
DTSTAMP:20260425T155159Z
DESCRIPTION:4/10 Kojetín - Nymburk 3:2 (20\,-21\,18\,-12\,16)
DTSTART;TZID=Europe/Berlin:20250208T140000
DTEND;TZID=Europe/Berlin:20250208T160000
LOCATION:Městská sportovní hala\, Hanusíkova 1476 Kojetín - Kojetín I-Město
SUMMARY:1-U22Z-II: Kojetín-Nymburk
END:VEVENT
BEGIN:VEVENT
UID:63656464-6339-4530-b466-363933376532
DTSTAMP:20260425T155159Z
DESCRIPTION:7/20 Kojetín - Mikulova 3:1 (-21\,19\,15\,17)
DTSTART;TZID=Europe/Berlin:20250201T100000
DTEND;TZID=Europe/Berlin:20250201T120000
LOCATION:Městská sportovní hala\, Hanusíkova 1476 Kojetín - Kojetín I-Město
SUMMARY:1-U22Z-II: Kojetín-Mikulova
END:VEVENT
BEGIN:VEVENT
UID:64303832-3738-4831-b030-623335663430
DTSTAMP:20260425T155159Z
DESCRIPTION:8/23 Kojetín - Mikulova 3:0 (25\,22\,26)
DTSTART;TZID=Europe/Berlin:20250201T140000
DTEND;TZID=Europe/Berlin:20250201T160000
LOCATION:Městská sportovní hala\, Hanusíkova 1476 Kojetín - Kojetín I-Město
SUMMARY:1-U22Z-II: Kojetín-Mikulova
END:VEVENT
BEGIN:VEVENT
UID:35316138-6634-4136-b730-613164303835
DTSTAMP:20260425T155159Z
DESCRIPTION:11/33 Kojetín - Benátky n. J. 3:0 (18\,17\,21)
DTSTART;TZID=Europe/Berlin:20250301T110000
DTEND;TZID=Europe/Berlin:20250301T130000
LOCATION:Městská sportovní hala\, Hanusíkova 1476 Kojetín - Kojetín I-Město
SUMMARY:1-U22Z-II: Kojetín-Benátky n. J.
END:VEVENT
BEGIN:VEVENT
UID:34663735-6439-4230-b334-616561653962
DTSTAMP:20260425T155159Z
DESCRIPTION:12/36 Kojetín - Benátky n. J. 3:0 (20\,17\,23)
DTSTART;TZID=Europe/Berlin:20250301T150000
DTEND;TZID=Europe/Berlin:20250301T170000
LOCATION:Městská sportovní hala\, Hanusíkova 1476 Kojetín - Kojetín I-Město
SUMMARY:1-U22Z-II: Kojetín-Benátky n. J.
END:VEVENT
BEGIN:VEVENT
UID:38396264-3635-4865-a633-613933326165
DTSTAMP:20260425T155159Z
DESCRIPTION:1/2 Mikulova - Kojetín 3:0 (19\,25\,11)
DTSTART;TZID=Europe/Berlin:20250315T120000
DTEND;TZID=Europe/Berlin:20250315T140000
LOCATION:TJ Sokol Modřany\, K Vltavě 410 Praha - Modřany
SUMMARY:1-U22Z-II: Mikulova-Kojetín
END:VEVENT
BEGIN:VEVENT
UID:64393434-3961-4262-a466-333838663964
DTSTAMP:20260425T155159Z
DESCRIPTION:2/5 Mikulova - Kojetín 3:2 (15\,-22\,-23\,23\,11)
DTSTART;TZID=Europe/Berlin:20250315T160000
DTEND;TZID=Europe/Berlin:20250315T180000
LOCATION:TJ Sokol Modřany\, K Vltavě 410 Praha - Modřany
SUMMARY:1-U22Z-II: Mikulova-Kojetín
END:VEVENT
BEGIN:VEVENT
UID:61306335-6634-4262-a532-646563346464
DTSTAMP:20260425T155159Z
DESCRIPTION:5/15 Benátky n. J. - Kojetín 1:3 (-21\,16\,-22\,-22)
DTSTART;TZID=Europe/Berlin:20250406T120000
DTEND;TZID=Europe/Berlin:20250406T140000
LOCATION:Nibe aréna\, městská sportovní hala\, 5. května 746 Benátky nad Ji
 zerou - Benátky nad Jizerou II
SUMMARY:1-U22Z-II: Benátky n. J.-Kojetín
END:VEVENT
BEGIN:VEVENT
UID:33313431-3761-4762-b165-343764333561
DTSTAMP:20260425T155159Z
DESCRIPTION:6/18 Benátky n. J. - Kojetín 3:0 (23\,20\,20)
DTSTART;TZID=Europe/Berlin:20250406T160000
DTEND;TZID=Europe/Berlin:20250406T180000
LOCATION:Nibe aréna\, městská sportovní hala\, 5. května 746 Benátky nad Ji
 zerou - Benátky nad Jizerou II
SUMMARY:1-U22Z-II: Benátky n. J.-Kojetín
END:VEVENT
BEGIN:VEVENT
UID:39383532-3864-4466-b434-383765343064
DTSTAMP:20260425T155159Z
DESCRIPTION:9/25 Nymburk - Kojetín 3:0 (18\,23\,14)
DTSTART;TZID=Europe/Berlin:20250329T100000
DTEND;TZID=Europe/Berlin:20250329T120000
LOCATION:Bios\, V Kolonii 1804 Nymburk
SUMMARY:1-U22Z-II: Nymburk-Kojetín
END:VEVENT
BEGIN:VEVENT
UID:64633965-3239-4832-a138-653032376635
DTSTAMP:20260425T155159Z
DESCRIPTION:10/28 Nymburk - Kojetín 1:3 (24\,-23\,-20\,-23)
DTSTART;TZID=Europe/Berlin:20250329T140000
DTEND;TZID=Europe/Berlin:20250329T160000
LOCATION:Bios\, V Kolonii 1804 Nymburk
SUMMARY:1-U22Z-II: Nymburk-Kojetín
END:VEVENT
BEGIN:VEVENT
UID:65663738-3936-4531-b534-303530626234
DTSTAMP:20260425T155159Z
DESCRIPTION:1/2 Kojetín - Kladno 1:3 (23\,-12\,-15\,-21)
DTSTART;TZID=Europe/Berlin:20250418T170000
DTEND;TZID=Europe/Berlin:20250418T190000
LOCATION:Městská sportovní hala\, Hanusíkova 1476 Kojetín - Kojetín I-Město
SUMMARY:EX-U22Z-KI: Kojetín-Kladno
END:VEVENT
BEGIN:VEVENT
UID:39666534-3834-4138-b635-623363303136
DTSTAMP:20260425T155159Z
DESCRIPTION:2/4 Kojetín - Kladno 2:3 (-19\,-10\,13\,16\,-3)
DTSTART;TZID=Europe/Berlin:20250419T100000
DTEND;TZID=Europe/Berlin:20250419T120000
LOCATION:Městská sportovní hala\, Hanusíkova 1476 Kojetín - Kojetín I-Město
SUMMARY:EX-U22Z-KI: Kojetín-Kladno
END:VEVENT
END:VCALENDAR
