BEGIN:VCALENDAR
VERSION:2.0
PRODID:-//TJ Slavia Hradec Králové85987//NONSGML kigkonsult.se iCalcreator 2.41.80//
CALSCALE:GREGORIAN
UID:36323039-6163-4439-a661-316334386361
BEGIN:VEVENT
UID:61333534-3765-4665-b663-353739663862
DTSTAMP:20260422T093748Z
DESCRIPTION:1/8 Hradec Králové - Příbram 3:1 (-21\,22\,21\,22)
DTSTART;TZID=Europe/Berlin:20240922T130000
DTEND;TZID=Europe/Berlin:20240922T150000
LOCATION:Sportovní hala Lužiny\, Bellušova 1877 Praha - Stodůlky
SUMMARY:EX-U20M-1A: Hradec Králové-Příbram
END:VEVENT
BEGIN:VEVENT
UID:37303631-3766-4263-a364-333361313538
DTSTAMP:20260422T093748Z
DESCRIPTION:1/10 Hradec Králové - Lvi Praha 1:3 (-15\,22\,-17\,-24)
DTSTART;TZID=Europe/Berlin:20240922T170000
DTEND;TZID=Europe/Berlin:20240922T190000
LOCATION:Sportovní hala Lužiny\, Bellušova 1877 Praha - Stodůlky
SUMMARY:EX-U20M-1A: Hradec Králové-Lvi Praha
END:VEVENT
BEGIN:VEVENT
UID:61346262-3033-4030-b763-643331643934
DTSTAMP:20260422T093748Z
DESCRIPTION:1/2 Velké Meziříčí - Hradec Králové 3:0 (23\,26\,19)
DTSTART;TZID=Europe/Berlin:20240921T120000
DTEND;TZID=Europe/Berlin:20240921T140000
LOCATION:Sportovní hala Lužiny\, Bellušova 1877 Praha - Stodůlky
SUMMARY:EX-U20M-1A: Velké Meziříčí-Hradec Králové
END:VEVENT
BEGIN:VEVENT
UID:34643738-3534-4566-a133-623262653436
DTSTAMP:20260422T093748Z
DESCRIPTION:1/5 Blue Ostrava - Hradec Králové 0:3 (-20\,-17\,-20)
DTSTART;TZID=Europe/Berlin:20240921T180000
DTEND;TZID=Europe/Berlin:20240921T200000
LOCATION:Sportovní hala Lužiny\, Bellušova 1877 Praha - Stodůlky
SUMMARY:EX-U20M-1A: Blue Ostrava-Hradec Králové
END:VEVENT
BEGIN:VEVENT
UID:34333034-3138-4663-b133-663632363531
DTSTAMP:20260422T093748Z
DESCRIPTION:2/2 Hradec Králové - Velké Meziříčí 3:0 (17\,19\,20)
DTSTART;TZID=Europe/Berlin:20241005T120000
DTEND;TZID=Europe/Berlin:20241005T140000
LOCATION:Městská sportovní hala\, Hanusíkova 1476 Kojetín - Kojetín I-Město
SUMMARY:EX-U20M-2B: Hradec Králové-Velké Meziříčí
END:VEVENT
BEGIN:VEVENT
UID:63386466-6630-4839-a638-613335323335
DTSTAMP:20260422T093748Z
DESCRIPTION:2/9 Hradec Králové - Prosek 3:2 (-25\,15\,-22\,23\,10)
DTSTART;TZID=Europe/Berlin:20241006T150000
DTEND;TZID=Europe/Berlin:20241006T170000
LOCATION:Městská sportovní hala\, Hanusíkova 1476 Kojetín - Kojetín I-Město
SUMMARY:EX-U20M-2B: Hradec Králové-Prosek
END:VEVENT
BEGIN:VEVENT
UID:64373339-3635-4139-a263-376363313836
DTSTAMP:20260422T093748Z
DESCRIPTION:2/4 Kojetín - Hradec Králové 2:3 (22\,-15\,-22\,20\,-11)
DTSTART;TZID=Europe/Berlin:20241005T160000
DTEND;TZID=Europe/Berlin:20241005T180000
LOCATION:Městská sportovní hala\, Hanusíkova 1476 Kojetín - Kojetín I-Město
SUMMARY:EX-U20M-2B: Kojetín-Hradec Králové
END:VEVENT
BEGIN:VEVENT
UID:30626437-6439-4264-b534-393131373938
DTSTAMP:20260422T093748Z
DESCRIPTION:2/6 Green F-M - Hradec Králové 2:3 (17\,-21\,21\,-23\,-10)
DTSTART;TZID=Europe/Berlin:20241006T090000
DTEND;TZID=Europe/Berlin:20241006T110000
LOCATION:Městská sportovní hala\, Hanusíkova 1476 Kojetín - Kojetín I-Město
SUMMARY:EX-U20M-2B: Green F-M-Hradec Králové
END:VEVENT
BEGIN:VEVENT
UID:63393864-6239-4036-b832-353262613434
DTSTAMP:20260422T093748Z
DESCRIPTION:2/1 Hradec Králové - Liberec 0:3 (-24\,-21\,-25)
DTSTART;TZID=Europe/Berlin:20241102T100000
DTEND;TZID=Europe/Berlin:20241102T120000
LOCATION:Speciální školy Hradec Králové\, Hradecká 1231 Hradec Králové
SUMMARY:EX-U20M-3A: Hradec Králové-Liberec
END:VEVENT
BEGIN:VEVENT
UID:64643635-3835-4233-a132-353630373337
DTSTAMP:20260422T093748Z
DESCRIPTION:2/4 Hradec Králové - Lvi Praha 3:2 (-22\,20\,-15\,18\,6)
DTSTART;TZID=Europe/Berlin:20241102T160000
DTEND;TZID=Europe/Berlin:20241102T180000
LOCATION:Speciální školy Hradec Králové\, Hradecká 1231 Hradec Králové
SUMMARY:EX-U20M-3A: Hradec Králové-Lvi Praha
END:VEVENT
BEGIN:VEVENT
UID:62656365-6661-4566-a330-306233376539
DTSTAMP:20260422T093748Z
DESCRIPTION:2/7 Hradec Králové - Kladno 3:2 (17\,15\,-21\,-23\,8)
DTSTART;TZID=Europe/Berlin:20241103T110000
DTEND;TZID=Europe/Berlin:20241103T130000
LOCATION:Speciální školy Hradec Králové\, Hradecká 1231 Hradec Králové
SUMMARY:EX-U20M-3A: Hradec Králové-Kladno
END:VEVENT
BEGIN:VEVENT
UID:30323463-3039-4632-b561-613338376530
DTSTAMP:20260422T093748Z
DESCRIPTION:2/10 Prosek - Hradec Králové 3:0 (19\,10\,21)
DTSTART;TZID=Europe/Berlin:20241103T170000
DTEND;TZID=Europe/Berlin:20241103T190000
LOCATION:Speciální školy Hradec Králové\, Hradecká 1231 Hradec Králové
SUMMARY:EX-U20M-3A: Prosek-Hradec Králové
END:VEVENT
BEGIN:VEVENT
UID:30656465-6632-4134-b137-313639386165
DTSTAMP:20260422T093748Z
DESCRIPTION:2/1 Hradec Králové - Velké Meziříčí 0:3 (-18\,-19\,-22)
DTSTART;TZID=Europe/Berlin:20250125T100000
DTEND;TZID=Europe/Berlin:20250125T120000
LOCATION:Speciální školy Hradec Králové\, Hradecká 1231 Hradec Králové
SUMMARY:EX-U20M-4B: Hradec Králové-Velké Meziříčí
END:VEVENT
BEGIN:VEVENT
UID:61363964-6438-4863-a435-646335316530
DTSTAMP:20260422T093748Z
DESCRIPTION:2/4 Hradec Králové - Kladno 0:3 (-19\,-17\,-20)
DTSTART;TZID=Europe/Berlin:20250125T160000
DTEND;TZID=Europe/Berlin:20250125T180000
LOCATION:Speciální školy Hradec Králové\, Hradecká 1231 Hradec Králové
SUMMARY:EX-U20M-4B: Hradec Králové-Kladno
END:VEVENT
BEGIN:VEVENT
UID:61306237-6238-4636-b465-383362303362
DTSTAMP:20260422T093748Z
DESCRIPTION:2/7 Hradec Králové - Blue Ostrava 0:3 (-14\,-20\,-26)
DTSTART;TZID=Europe/Berlin:20250126T110000
DTEND;TZID=Europe/Berlin:20250126T130000
LOCATION:Speciální školy Hradec Králové\, Hradecká 1231 Hradec Králové
SUMMARY:EX-U20M-4B: Hradec Králové-Blue Ostrava
END:VEVENT
BEGIN:VEVENT
UID:35343061-3462-4435-a562-623434363465
DTSTAMP:20260422T093748Z
DESCRIPTION:2/10 Brno - Hradec Králové 3:1 (-24\,18\,22\,20)
DTSTART;TZID=Europe/Berlin:20250126T170000
DTEND;TZID=Europe/Berlin:20250126T190000
LOCATION:Speciální školy Hradec Králové\, Hradecká 1231 Hradec Králové
SUMMARY:EX-U20M-4B: Brno-Hradec Králové
END:VEVENT
BEGIN:VEVENT
UID:66633535-6237-4564-a466-613464376463
DTSTAMP:20260422T093748Z
DESCRIPTION:2/6 Hradec Králové - VK Ostrava 3:1 (16\,-22\,25\,23)
DTSTART;TZID=Europe/Berlin:20250216T090000
DTEND;TZID=Europe/Berlin:20250216T110000
LOCATION:ZŠ Komenského\, Komenského 1 Velké Meziříčí
SUMMARY:EX-U20M-5C: Hradec Králové-VK Ostrava
END:VEVENT
BEGIN:VEVENT
UID:30346236-3030-4165-a232-373463396333
DTSTAMP:20260422T093748Z
DESCRIPTION:2/1 Velké Meziříčí - Hradec Králové 0:3 (-15\,-18\,-20)
DTSTART;TZID=Europe/Berlin:20250215T100000
DTEND;TZID=Europe/Berlin:20250215T120000
LOCATION:ZŠ Komenského\, Komenského 1 Velké Meziříčí
SUMMARY:EX-U20M-5C: Velké Meziříčí-Hradec Králové
END:VEVENT
BEGIN:VEVENT
UID:31663230-6561-4662-a131-346334343534
DTSTAMP:20260422T093748Z
DESCRIPTION:2/3 Ústí n. L. - Hradec Králové 3:2 (-20\,-16\,23\,26\,12)
DTSTART;TZID=Europe/Berlin:20250215T140000
DTEND;TZID=Europe/Berlin:20250215T160000
LOCATION:ZŠ Komenského\, Komenského 1 Velké Meziříčí
SUMMARY:EX-U20M-5C: Ústí n. L.-Hradec Králové
END:VEVENT
BEGIN:VEVENT
UID:65643535-3762-4438-a361-366231356130
DTSTAMP:20260422T093748Z
DESCRIPTION:2/8 Kojetín - Hradec Králové 1:3 (-25\,21\,-17\,-14)
DTSTART;TZID=Europe/Berlin:20250216T130000
DTEND;TZID=Europe/Berlin:20250216T150000
LOCATION:ZŠ Komenského\, Komenského 1 Velké Meziříčí
SUMMARY:EX-U20M-5C: Kojetín-Hradec Králové
END:VEVENT
BEGIN:VEVENT
UID:37363262-6530-4238-b961-323762303163
DTSTAMP:20260422T093748Z
DESCRIPTION:2/8 Hradec Králové - Příbram 0:3 (-20\,-24\,-16)
DTSTART;TZID=Europe/Berlin:20250316T130000
DTEND;TZID=Europe/Berlin:20250316T150000
LOCATION:Kladenská sportovní hala\, Sportovců 817 Kladno - Rozdělov
SUMMARY:EX-U20M-6B: Hradec Králové-Příbram
END:VEVENT
BEGIN:VEVENT
UID:38383933-6437-4061-b833-653833616663
DTSTAMP:20260422T093748Z
DESCRIPTION:2/10 Hradec Králové - Kladno 3:1 (-22\,22\,20\,20)
DTSTART;TZID=Europe/Berlin:20250316T170000
DTEND;TZID=Europe/Berlin:20250316T190000
LOCATION:Kladenská sportovní hala\, Sportovců 817 Kladno - Rozdělov
SUMMARY:EX-U20M-6B: Hradec Králové-Kladno
END:VEVENT
BEGIN:VEVENT
UID:36376566-6662-4165-b964-663130323937
DTSTAMP:20260422T093748Z
DESCRIPTION:2/2 Nový Jičín - Hradec Králové 1:3 (-23\,-21\,23\,-18)
DTSTART;TZID=Europe/Berlin:20250315T120000
DTEND;TZID=Europe/Berlin:20250315T140000
LOCATION:Kladenská sportovní hala\, Sportovců 817 Kladno - Rozdělov
SUMMARY:EX-U20M-6B: Nový Jičín-Hradec Králové
END:VEVENT
BEGIN:VEVENT
UID:66353339-3732-4036-a339-623233353966
DTSTAMP:20260422T093748Z
DESCRIPTION:2/5 Blue Ostrava - Hradec Králové 3:1 (28\,23\,-18\,21)
DTSTART;TZID=Europe/Berlin:20250315T180000
DTEND;TZID=Europe/Berlin:20250315T200000
LOCATION:Kladenská sportovní hala\, Sportovců 817 Kladno - Rozdělov
SUMMARY:EX-U20M-6B: Blue Ostrava-Hradec Králové
END:VEVENT
BEGIN:VEVENT
UID:36656335-6263-4130-a139-373664653031
DTSTAMP:20260422T093748Z
DESCRIPTION:1/1 Hradec Králové - Green F-M 0:3 (-23\,-23\,-23)
DTSTART;TZID=Europe/Berlin:20250424T150000
DTEND;TZID=Europe/Berlin:20250424T170000
LOCATION:Sportovní gymnázium Ludvíka Daňka\, Botanická 63 Brno - Ponava
SUMMARY:EX-U20M-F1: Hradec Králové-Green F-M
END:VEVENT
BEGIN:VEVENT
UID:65636639-6263-4436-a463-613332666332
DTSTAMP:20260422T093748Z
DESCRIPTION:1/5 Lvi Praha - Hradec Králové 3:1 (23\,-23\,19\,21)
DTSTART;TZID=Europe/Berlin:20250425T090000
DTEND;TZID=Europe/Berlin:20250425T110000
LOCATION:Sportovní gymnázium Ludvíka Daňka\, Botanická 63 Brno - Ponava
SUMMARY:EX-U20M-F1: Lvi Praha-Hradec Králové
END:VEVENT
BEGIN:VEVENT
UID:62346564-3662-4735-b537-336230646266
DTSTAMP:20260422T093748Z
DESCRIPTION:1/9 Kladno - Hradec Králové 3:0 (22\,15\,21)
DTSTART;TZID=Europe/Berlin:20250425T160000
DTEND;TZID=Europe/Berlin:20250425T180000
LOCATION:Sportovní gymnázium Ludvíka Daňka\, Botanická 63 Brno - Ponava
SUMMARY:EX-U20M-F1: Kladno-Hradec Králové
END:VEVENT
BEGIN:VEVENT
UID:63313565-6466-4364-b663-336631636464
DTSTAMP:20260422T093748Z
DESCRIPTION:1/2 Prosek - Hradec Králové 1:3 (-23\,-24\,19\,-16)\n3F2-4F1
DTSTART;TZID=Europe/Berlin:20250426T123000
DTEND;TZID=Europe/Berlin:20250426T143000
LOCATION:SH SK Prosek\, Lovosická 559 Praha - Letňany
SUMMARY:EX-U20M-F: Prosek-Hradec Králové
END:VEVENT
BEGIN:VEVENT
UID:66363830-3434-4664-b366-663933613665
DTSTAMP:20260422T093748Z
DESCRIPTION:2/6 Brno - Hradec Králové 3:2 (15\,-14\,-19\,17\,14)\no 5.-6. m
 ísto
DTSTART;TZID=Europe/Berlin:20250427T123000
DTEND;TZID=Europe/Berlin:20250427T143000
LOCATION:Sportovní gymnázium Ludvíka Daňka\, Botanická 63 Brno - Ponava
SUMMARY:EX-U20M-F: Brno-Hradec Králové
END:VEVENT
END:VCALENDAR
