BEGIN:VCALENDAR
VERSION:2.0
PRODID:-//TJ Kralupy85999//NONSGML kigkonsult.se iCalcreator 2.41.80//
CALSCALE:GREGORIAN
UID:30323063-3931-4665-b332-393066303861
BEGIN:VEVENT
UID:62623661-3835-4564-b862-626238366561
DTSTAMP:20260422T164813Z
DESCRIPTION:3/8 Kralupy - Olymp 3:0 (20\,12\,25)
DTSTART;TZID=Europe/Berlin:20240929T100000
DTEND;TZID=Europe/Berlin:20240929T120000
LOCATION:TJ KRALUPY\, z.s.\, Gen. Klapálka 1029 Kralupy nad Vltavou
SUMMARY:EX-U20Z-A: Kralupy-Olymp
END:VEVENT
BEGIN:VEVENT
UID:65646531-6639-4464-b836-386638633933
DTSTAMP:20260422T164813Z
DESCRIPTION:4/11 Kralupy - Olymp 2:3 (22\,24\,-22\,-19\,-12)
DTSTART;TZID=Europe/Berlin:20240929T140000
DTEND;TZID=Europe/Berlin:20240929T160000
LOCATION:TJ KRALUPY\, z.s.\, Gen. Klapálka 1029 Kralupy nad Vltavou
SUMMARY:EX-U20Z-A: Kralupy-Olymp
END:VEVENT
BEGIN:VEVENT
UID:63653039-3637-4462-b935-366233643331
DTSTAMP:20260422T164813Z
DESCRIPTION:9/27 Kralupy - České Budějovice 3:0 (14\,23\,15)
DTSTART;TZID=Europe/Berlin:20241027T100000
DTEND;TZID=Europe/Berlin:20241027T120000
LOCATION:TJ KRALUPY\, z.s.\, Gen. Klapálka 1029 Kralupy nad Vltavou
SUMMARY:EX-U20Z-A: Kralupy-České Budějovice
END:VEVENT
BEGIN:VEVENT
UID:36386561-6638-4636-b332-643263633235
DTSTAMP:20260422T164813Z
DESCRIPTION:10/30 Kralupy - České Budějovice 3:0 (23\,16\,18)
DTSTART;TZID=Europe/Berlin:20241027T140000
DTEND;TZID=Europe/Berlin:20241027T160000
LOCATION:TJ KRALUPY\, z.s.\, Gen. Klapálka 1029 Kralupy nad Vltavou
SUMMARY:EX-U20Z-A: Kralupy-České Budějovice
END:VEVENT
BEGIN:VEVENT
UID:38653134-3864-4164-b635-663837666464
DTSTAMP:20260422T164813Z
DESCRIPTION:11/32 Kralupy - Jihlava 3:1 (-19\,17\,19\,17)
DTSTART;TZID=Europe/Berlin:20241103T100000
DTEND;TZID=Europe/Berlin:20241103T120000
LOCATION:TJ KRALUPY\, z.s.\, Gen. Klapálka 1029 Kralupy nad Vltavou
SUMMARY:EX-U20Z-A: Kralupy-Jihlava
END:VEVENT
BEGIN:VEVENT
UID:30343430-3935-4838-b661-626431313137
DTSTAMP:20260422T164813Z
DESCRIPTION:12/35 Kralupy - Jihlava 2:3 (13\,-22\,-22\,19\,-6)
DTSTART;TZID=Europe/Berlin:20241103T140000
DTEND;TZID=Europe/Berlin:20241103T160000
LOCATION:TJ KRALUPY\, z.s.\, Gen. Klapálka 1029 Kralupy nad Vltavou
SUMMARY:EX-U20Z-A: Kralupy-Jihlava
END:VEVENT
BEGIN:VEVENT
UID:32303264-3863-4032-b937-333261623635
DTSTAMP:20260422T164813Z
DESCRIPTION:15/45 Kralupy - Liberec 0:3 (-21\,-22\,-18)
DTSTART;TZID=Europe/Berlin:20241124T100000
DTEND;TZID=Europe/Berlin:20241124T120000
LOCATION:TJ KRALUPY\, z.s.\, Gen. Klapálka 1029 Kralupy nad Vltavou
SUMMARY:EX-U20Z-A: Kralupy-Liberec
END:VEVENT
BEGIN:VEVENT
UID:35396363-3235-4166-b331-373937313064
DTSTAMP:20260422T164813Z
DESCRIPTION:16/48 Kralupy - Liberec 1:3 (-14\,-29\,22\,-9)
DTSTART;TZID=Europe/Berlin:20241124T140000
DTEND;TZID=Europe/Berlin:20241124T160000
LOCATION:TJ KRALUPY\, z.s.\, Gen. Klapálka 1029 Kralupy nad Vltavou
SUMMARY:EX-U20Z-A: Kralupy-Liberec
END:VEVENT
BEGIN:VEVENT
UID:64633465-6639-4262-a430-336632383732
DTSTAMP:20260422T164813Z
DESCRIPTION:17/49 Kralupy - Plzeň 3:0 (23\,16\,14)
DTSTART;TZID=Europe/Berlin:20241201T100000
DTEND;TZID=Europe/Berlin:20241201T120000
LOCATION:TJ KRALUPY\, z.s.\, Gen. Klapálka 1029 Kralupy nad Vltavou
SUMMARY:EX-U20Z-A: Kralupy-Plzeň
END:VEVENT
BEGIN:VEVENT
UID:31393037-3538-4531-b537-363132323436
DTSTAMP:20260422T164813Z
DESCRIPTION:18/52 Kralupy - Plzeň 3:0 (15\,21\,22)
DTSTART;TZID=Europe/Berlin:20241201T140000
DTEND;TZID=Europe/Berlin:20241201T160000
LOCATION:TJ KRALUPY\, z.s.\, Gen. Klapálka 1029 Kralupy nad Vltavou
SUMMARY:EX-U20Z-A: Kralupy-Plzeň
END:VEVENT
BEGIN:VEVENT
UID:35666462-6266-4330-a534-386162626130
DTSTAMP:20260422T164813Z
DESCRIPTION:1/2 Jihlava - Kralupy 1:3 (-22\,-15\,21\,-17)
DTSTART;TZID=Europe/Berlin:20240922T100000
DTEND;TZID=Europe/Berlin:20240922T120000
LOCATION:Sportovní hala Nový Rychnov\,  Nový Rychnov207
SUMMARY:EX-U20Z-A: Jihlava-Kralupy
END:VEVENT
BEGIN:VEVENT
UID:37633033-3365-4334-b963-613431353461
DTSTAMP:20260422T164813Z
DESCRIPTION:2/5 Jihlava - Kralupy 1:3 (21\,-26\,-23\,-16)
DTSTART;TZID=Europe/Berlin:20240922T140000
DTEND;TZID=Europe/Berlin:20240922T160000
LOCATION:Sportovní hala Nový Rychnov\,  Nový Rychnov207
SUMMARY:EX-U20Z-A: Jihlava-Kralupy
END:VEVENT
BEGIN:VEVENT
UID:31313436-3033-4464-a466-396334313430
DTSTAMP:20260422T164813Z
DESCRIPTION:5/15 Liberec - Kralupy 3:1 (-24\,21\,12\,18)
DTSTART;TZID=Europe/Berlin:20241006T100000
DTEND;TZID=Europe/Berlin:20241006T120000
LOCATION:Dukla Liberec\, Jeronýmova 558 Liberec - Liberec VII-Horní Růžodol
SUMMARY:EX-U20Z-A: Liberec-Kralupy
END:VEVENT
BEGIN:VEVENT
UID:66613566-6432-4262-a664-623838373235
DTSTAMP:20260422T164813Z
DESCRIPTION:6/18 Liberec - Kralupy 3:0 (14\,18\,14)
DTSTART;TZID=Europe/Berlin:20241006T140000
DTEND;TZID=Europe/Berlin:20241006T160000
LOCATION:Dukla Liberec\, Jeronýmova 558 Liberec - Liberec VII-Horní Růžodol
SUMMARY:EX-U20Z-A: Liberec-Kralupy
END:VEVENT
BEGIN:VEVENT
UID:61376334-3262-4761-b564-626561313738
DTSTAMP:20260422T164813Z
DESCRIPTION:7/19 Plzeň - Kralupy 0:3 (-10\,-8\,-19)
DTSTART;TZID=Europe/Berlin:20241013T100000
DTEND;TZID=Europe/Berlin:20241013T120000
LOCATION:Sportovní hala - SG Plzeň\, Vejprnická 663 Plzeň - Skvrňany
SUMMARY:EX-U20Z-A: Plzeň-Kralupy
END:VEVENT
BEGIN:VEVENT
UID:35363234-6231-4330-a338-343030363062
DTSTAMP:20260422T164813Z
DESCRIPTION:8/22 Plzeň - Kralupy 0:3 (-18\,-24\,-17)
DTSTART;TZID=Europe/Berlin:20241013T140000
DTEND;TZID=Europe/Berlin:20241013T160000
LOCATION:Sportovní hala - SG Plzeň\, Vejprnická 663 Plzeň - Skvrňany
SUMMARY:EX-U20Z-A: Plzeň-Kralupy
END:VEVENT
BEGIN:VEVENT
UID:38663666-6239-4535-a366-336662366665
DTSTAMP:20260422T164813Z
DESCRIPTION:13/38 Olymp - Kralupy 3:1 (-21\,26\,23\,16)
DTSTART;TZID=Europe/Berlin:20241110T100000
DTEND;TZID=Europe/Berlin:20241110T120000
LOCATION:PVK Olymp Praha\, Přípotoční 300 Praha - Vršovice
SUMMARY:EX-U20Z-A: Olymp-Kralupy
END:VEVENT
BEGIN:VEVENT
UID:31613862-6565-4366-b661-643737303236
DTSTAMP:20260422T164813Z
DESCRIPTION:14/41 Olymp - Kralupy 0:3 (-15\,-24\,-17)
DTSTART;TZID=Europe/Berlin:20241110T140000
DTEND;TZID=Europe/Berlin:20241110T160000
LOCATION:PVK Olymp Praha\, Přípotoční 300 Praha - Vršovice
SUMMARY:EX-U20Z-A: Olymp-Kralupy
END:VEVENT
BEGIN:VEVENT
UID:34363932-6431-4532-b531-356432613337
DTSTAMP:20260422T164813Z
DESCRIPTION:19/57 České Budějovice - Kralupy 0:3 (-16\,-13\,-20)
DTSTART;TZID=Europe/Berlin:20241208T100000
DTEND;TZID=Europe/Berlin:20241208T120000
LOCATION:Sportovní hala\, Stromovka 1216 České Budějovice - České Budějovic
 e 2
SUMMARY:EX-U20Z-A: České Budějovice-Kralupy
END:VEVENT
BEGIN:VEVENT
UID:34343236-6130-4165-b937-343666303439
DTSTAMP:20260422T164813Z
DESCRIPTION:20/60 České Budějovice - Kralupy 2:3 (-17\,20\,11\,-22\,-15)
DTSTART;TZID=Europe/Berlin:20241208T140000
DTEND;TZID=Europe/Berlin:20241208T160000
LOCATION:Sportovní hala\, Stromovka 1216 České Budějovice - České Budějovic
 e 2
SUMMARY:EX-U20Z-A: České Budějovice-Kralupy
END:VEVENT
BEGIN:VEVENT
UID:31353037-6330-4666-b566-356131666330
DTSTAMP:20260422T164813Z
DESCRIPTION:1/1 Kralupy - KP Brno 3:1 (13\,14\,-19\,18)
DTSTART;TZID=Europe/Berlin:20250112T150000
DTEND;TZID=Europe/Berlin:20250112T170000
LOCATION:TJ KRALUPY\, z.s.\, Gen. Klapálka 1029 Kralupy nad Vltavou
SUMMARY:EX-U20Z-IIB: Kralupy-KP Brno
END:VEVENT
BEGIN:VEVENT
UID:61303163-6433-4562-b731-656238306166
DTSTAMP:20260422T164813Z
DESCRIPTION:3/5 Kralupy - Jihlava 3:1 (19\,-22\,14\,21)
DTSTART;TZID=Europe/Berlin:20250126T150000
DTEND;TZID=Europe/Berlin:20250126T170000
LOCATION:TJ KRALUPY\, z.s.\, Gen. Klapálka 1029 Kralupy nad Vltavou
SUMMARY:EX-U20Z-IIB: Kralupy-Jihlava
END:VEVENT
BEGIN:VEVENT
UID:36386530-3662-4062-b933-363532386431
DTSTAMP:20260422T164813Z
DESCRIPTION:5/10 Kralupy - Frýdek - Místek 3:1 (-24\,15\,17\,23)
DTSTART;TZID=Europe/Berlin:20250216T150000
DTEND;TZID=Europe/Berlin:20250216T170000
LOCATION:TJ KRALUPY\, z.s.\, Gen. Klapálka 1029 Kralupy nad Vltavou
SUMMARY:EX-U20Z-IIB: Kralupy-Frýdek - Místek
END:VEVENT
BEGIN:VEVENT
UID:61373436-3963-4262-b634-633330393164
DTSTAMP:20260422T164813Z
DESCRIPTION:2/4 Frýdek - Místek - Kralupy 3:2 (20\,-17\,-19\,24\,11)
DTSTART;TZID=Europe/Berlin:20250119T170000
DTEND;TZID=Europe/Berlin:20250119T190000
LOCATION:ZŠ 1.máje 1700 Frýdek-Místek\, 1. máje 1700 Frýdek-Místek - Místek
SUMMARY:EX-U20Z-IIB: Frýdek - Místek-Kralupy
END:VEVENT
BEGIN:VEVENT
UID:36343931-3336-4563-b931-616630393566
DTSTAMP:20260422T164813Z
DESCRIPTION:4/7 KP Brno - Kralupy 0:3 (-22\,-17\,-16)
DTSTART;TZID=Europe/Berlin:20250209T163000
DTEND;TZID=Europe/Berlin:20250209T183000
LOCATION:Sportovní gymnázium Ludvíka Daňka\, Botanická 63 Brno - Ponava
SUMMARY:EX-U20Z-IIB: KP Brno-Kralupy
END:VEVENT
BEGIN:VEVENT
UID:63323231-6138-4461-b865-613838323062
DTSTAMP:20260422T164813Z
DESCRIPTION:6/11 Jihlava - Kralupy 0:3 (-21\,-23\,-23)
DTSTART;TZID=Europe/Berlin:20250302T150000
DTEND;TZID=Europe/Berlin:20250302T170000
LOCATION:Sportovní hala Nový Rychnov\,  Nový Rychnov207
SUMMARY:EX-U20Z-IIB: Jihlava-Kralupy
END:VEVENT
BEGIN:VEVENT
UID:63323637-6237-4630-a234-313134383036
DTSTAMP:20260422T164813Z
DESCRIPTION:2/2 Ostrava - Kralupy 3:1 (17\,19\,-21\,22)\nčtvrtfinále 2
DTSTART;TZID=Europe/Berlin:20250314T180000
DTEND;TZID=Europe/Berlin:20250314T200000
LOCATION:Hala míčových sportů\, Varenská 3098 Ostrava - Moravská Ostrava
SUMMARY:EX-U20Z-F: Ostrava-Kralupy
END:VEVENT
BEGIN:VEVENT
UID:63376431-3762-4063-b238-633030626261
DTSTAMP:20260422T164813Z
DESCRIPTION:3/3 Prostějov - Kralupy 3:2 (24\,-19\,17\,-22\,8)\no 5.-6. míst
 o
DTSTART;TZID=Europe/Berlin:20250315T100000
DTEND;TZID=Europe/Berlin:20250315T120000
LOCATION:Hala míčových sportů\, Varenská 3098 Ostrava - Moravská Ostrava
SUMMARY:EX-U20Z-F: Prostějov-Kralupy
END:VEVENT
END:VCALENDAR
