BEGIN:VCALENDAR
VERSION:2.0
PRODID:-//TJ Sokol Bedřichov Jihlava86017//NONSGML kigkonsult.se iCalcreator 2.41.80//
CALSCALE:GREGORIAN
UID:65633836-3031-4862-a439-343262623438
BEGIN:VEVENT
UID:61383965-6331-4830-b234-616463663630
DTSTAMP:20260422T075406Z
DESCRIPTION:1/3 Bedřichov - Šternberk 3:1 (22\,24\,-14\,21)
DTSTART;TZID=Europe/Berlin:20240922T100000
DTEND;TZID=Europe/Berlin:20240922T120000
LOCATION:TJ Sokol Bedřichov\, Jihlava\, Sokolovská 4656 Jihlava
SUMMARY:1-U20Z-B: Bedřichov-Šternberk
END:VEVENT
BEGIN:VEVENT
UID:37313333-6633-4237-a334-343162336130
DTSTAMP:20260422T075406Z
DESCRIPTION:2/6 Bedřichov - Šternberk 3:1 (20\,18\,-20\,9)
DTSTART;TZID=Europe/Berlin:20240922T140000
DTEND;TZID=Europe/Berlin:20240922T160000
LOCATION:TJ Sokol Bedřichov\, Jihlava\, Sokolovská 4656 Jihlava
SUMMARY:1-U20Z-B: Bedřichov-Šternberk
END:VEVENT
BEGIN:VEVENT
UID:37346331-3536-4334-a461-376262376564
DTSTAMP:20260422T075406Z
DESCRIPTION:5/14 Bedřichov - Nové Veselí 3:2 (19\,-19\,24\,-20\,11)
DTSTART;TZID=Europe/Berlin:20241006T100000
DTEND;TZID=Europe/Berlin:20241006T120000
LOCATION:TJ Sokol Bedřichov\, Jihlava\, Sokolovská 4656 Jihlava
SUMMARY:1-U20Z-B: Bedřichov-Nové Veselí
END:VEVENT
BEGIN:VEVENT
UID:34626130-3437-4565-b565-336233303332
DTSTAMP:20260422T075406Z
DESCRIPTION:6/17 Bedřichov - Nové Veselí 3:1 (17\,23\,-16\,19)
DTSTART;TZID=Europe/Berlin:20241006T140000
DTEND;TZID=Europe/Berlin:20241006T160000
LOCATION:TJ Sokol Bedřichov\, Jihlava\, Sokolovská 4656 Jihlava
SUMMARY:1-U20Z-B: Bedřichov-Nové Veselí
END:VEVENT
BEGIN:VEVENT
UID:62636431-6663-4766-b131-393232643131
DTSTAMP:20260422T075406Z
DESCRIPTION:9/25 Bedřichov - Sokol H. Brod 3:0 (22\,19\,17)
DTSTART;TZID=Europe/Berlin:20241027T100000
DTEND;TZID=Europe/Berlin:20241027T120000
LOCATION:TJ Sokol Bedřichov\, Jihlava\, Sokolovská 4656 Jihlava
SUMMARY:1-U20Z-B: Bedřichov-Sokol H. Brod
END:VEVENT
BEGIN:VEVENT
UID:31326163-6262-4263-b338-666534333235
DTSTAMP:20260422T075406Z
DESCRIPTION:10/28 Bedřichov - Sokol H. Brod 3:2 (-14\,22\,16\,-22\,10)
DTSTART;TZID=Europe/Berlin:20241027T140000
DTEND;TZID=Europe/Berlin:20241027T160000
LOCATION:TJ Sokol Bedřichov\, Jihlava\, Sokolovská 4656 Jihlava
SUMMARY:1-U20Z-B: Bedřichov-Sokol H. Brod
END:VEVENT
BEGIN:VEVENT
UID:65303964-3435-4165-a135-323663356132
DTSTAMP:20260422T075406Z
DESCRIPTION:13/38 Bedřichov - Hradec Králové 3:1 (18\,-20\,22\,22)
DTSTART;TZID=Europe/Berlin:20241201T100000
DTEND;TZID=Europe/Berlin:20241201T120000
LOCATION:TJ Sokol Bedřichov\, Jihlava\, Sokolovská 4656 Jihlava
SUMMARY:1-U20Z-B: Bedřichov-Hradec Králové
END:VEVENT
BEGIN:VEVENT
UID:65353462-6430-4163-b234-616639313637
DTSTAMP:20260422T075406Z
DESCRIPTION:14/41 Bedřichov - Hradec Králové 2:3 (21\,-20\,12\,-15\,-13)
DTSTART;TZID=Europe/Berlin:20241201T140000
DTEND;TZID=Europe/Berlin:20241201T160000
LOCATION:TJ Sokol Bedřichov\, Jihlava\, Sokolovská 4656 Jihlava
SUMMARY:1-U20Z-B: Bedřichov-Hradec Králové
END:VEVENT
BEGIN:VEVENT
UID:62316461-3664-4234-b830-366239313232
DTSTAMP:20260422T075406Z
DESCRIPTION:17/51 Bedřichov - Jiskra H. Brod 0:3 (-17\,-19\,-24)
DTSTART;TZID=Europe/Berlin:20250112T100000
DTEND;TZID=Europe/Berlin:20250112T120000
LOCATION:TJ Sokol Bedřichov\, Jihlava\, Sokolovská 4656 Jihlava
SUMMARY:1-U20Z-B: Bedřichov-Jiskra H. Brod
END:VEVENT
BEGIN:VEVENT
UID:31373864-3339-4862-b434-333264336135
DTSTAMP:20260422T075406Z
DESCRIPTION:18/54 Bedřichov - Jiskra H. Brod 1:3 (25\,-20\,-23\,-25)
DTSTART;TZID=Europe/Berlin:20250112T140000
DTEND;TZID=Europe/Berlin:20250112T160000
LOCATION:TJ Sokol Bedřichov\, Jihlava\, Sokolovská 4656 Jihlava
SUMMARY:1-U20Z-B: Bedřichov-Jiskra H. Brod
END:VEVENT
BEGIN:VEVENT
UID:37623765-3136-4265-b661-653265373935
DTSTAMP:20260422T075406Z
DESCRIPTION:3/8 Hradec Králové - Bedřichov 3:1 (14\,23\,-15\,18)
DTSTART;TZID=Europe/Berlin:20240929T100000
DTEND;TZID=Europe/Berlin:20240929T120000
LOCATION:TJ Slavia Hradec Králové\, Víta Nejedlého 1216 Hradec Králové
SUMMARY:1-U20Z-B: Hradec Králové-Bedřichov
END:VEVENT
BEGIN:VEVENT
UID:30363761-3763-4338-b233-373932666363
DTSTAMP:20260422T075406Z
DESCRIPTION:4/11 Hradec Králové - Bedřichov 3:0 (23\,23\,20)
DTSTART;TZID=Europe/Berlin:20240929T140000
DTEND;TZID=Europe/Berlin:20240929T160000
LOCATION:TJ Slavia Hradec Králové\, Víta Nejedlého 1216 Hradec Králové
SUMMARY:1-U20Z-B: Hradec Králové-Bedřichov
END:VEVENT
BEGIN:VEVENT
UID:36313362-6263-4834-b363-323735346363
DTSTAMP:20260422T075406Z
DESCRIPTION:7/21 Jiskra H. Brod - Bedřichov 3:2 (-18\,17\,25\,-23\,13)
DTSTART;TZID=Europe/Berlin:20241013T100000
DTEND;TZID=Europe/Berlin:20241013T120000
LOCATION:Sportovní hala TJ Jiskra\, Ledečská 3028 Havlíčkův Brod
SUMMARY:1-U20Z-B: Jiskra H. Brod-Bedřichov
END:VEVENT
BEGIN:VEVENT
UID:65373536-3039-4264-a332-366162643036
DTSTAMP:20260422T075406Z
DESCRIPTION:8/24 Jiskra H. Brod - Bedřichov 2:3 (-20\,20\,-19\,23\,-7)
DTSTART;TZID=Europe/Berlin:20241013T140000
DTEND;TZID=Europe/Berlin:20241013T160000
LOCATION:Sportovní hala TJ Jiskra\, Ledečská 3028 Havlíčkův Brod
SUMMARY:1-U20Z-B: Jiskra H. Brod-Bedřichov
END:VEVENT
BEGIN:VEVENT
UID:34336431-3134-4631-b062-393036383339
DTSTAMP:20260422T075406Z
DESCRIPTION:11/33 Šternberk - Bedřichov 3:2 (16\,-10\,-24\,16\,6)
DTSTART;TZID=Europe/Berlin:20241124T100000
DTEND;TZID=Europe/Berlin:20241124T120000
LOCATION:UP Olomouc\, U sportovní haly 38 Olomouc - Lazce
SUMMARY:1-U20Z-B: Šternberk-Bedřichov
END:VEVENT
BEGIN:VEVENT
UID:34323430-6338-4437-b162-393735373733
DTSTAMP:20260422T075406Z
DESCRIPTION:12/36 Šternberk - Bedřichov 3:1 (23\,20\,-23\,19)
DTSTART;TZID=Europe/Berlin:20241124T140000
DTEND;TZID=Europe/Berlin:20241124T160000
LOCATION:UP Olomouc\, U sportovní haly 38 Olomouc - Lazce
SUMMARY:1-U20Z-B: Šternberk-Bedřichov
END:VEVENT
BEGIN:VEVENT
UID:30653437-3863-4364-b039-313066386663
DTSTAMP:20260422T075406Z
DESCRIPTION:15/44 Nové Veselí - Bedřichov 3:0 (18\,25\,21)
DTSTART;TZID=Europe/Berlin:20241208T100000
DTEND;TZID=Europe/Berlin:20241208T120000
LOCATION:Víceúčelová sportovní hala Nové Veselí\, Žďárská 356 Nové Veselí
SUMMARY:1-U20Z-B: Nové Veselí-Bedřichov
END:VEVENT
BEGIN:VEVENT
UID:31633662-3764-4565-b463-363932386231
DTSTAMP:20260422T075406Z
DESCRIPTION:16/47 Nové Veselí - Bedřichov 3:0 (21\,23\,13)
DTSTART;TZID=Europe/Berlin:20241208T140000
DTEND;TZID=Europe/Berlin:20241208T160000
LOCATION:Víceúčelová sportovní hala Nové Veselí\, Žďárská 356 Nové Veselí
SUMMARY:1-U20Z-B: Nové Veselí-Bedřichov
END:VEVENT
BEGIN:VEVENT
UID:32353833-3739-4331-b661-323662313333
DTSTAMP:20260422T075406Z
DESCRIPTION:19/55 Sokol H. Brod - Bedřichov 0:3 (-17\,-14\,-23)
DTSTART;TZID=Europe/Berlin:20250119T110000
DTEND;TZID=Europe/Berlin:20250119T130000
LOCATION:Střední zdravotnická škola Havlíčkův Brod\, Masarykova 2033 Havlíč
 kův Brod
SUMMARY:1-U20Z-B: Sokol H. Brod-Bedřichov
END:VEVENT
BEGIN:VEVENT
UID:31636637-6564-4135-b832-616238633965
DTSTAMP:20260422T075406Z
DESCRIPTION:20/58 Sokol H. Brod - Bedřichov 2:3 (-21\,18\,-16\,23\,-14)
DTSTART;TZID=Europe/Berlin:20250119T150000
DTEND;TZID=Europe/Berlin:20250119T170000
LOCATION:Střední zdravotnická škola Havlíčkův Brod\, Masarykova 2033 Havlíč
 kův Brod
SUMMARY:1-U20Z-B: Sokol H. Brod-Bedřichov
END:VEVENT
BEGIN:VEVENT
UID:63396163-3839-4036-b534-613239326165
DTSTAMP:20260422T075406Z
DESCRIPTION:3/8 Bedřichov - Orion Praha 3:0 (13\,18\,17)
DTSTART;TZID=Europe/Berlin:20250326T160000
DTEND;TZID=Europe/Berlin:20250326T180000
LOCATION:TJ Sokol Bedřichov\, Jihlava\, Sokolovská 4656 Jihlava
SUMMARY:1-U20Z-N: Bedřichov-Orion Praha
END:VEVENT
BEGIN:VEVENT
UID:65366162-3065-4265-a133-376437636139
DTSTAMP:20260422T075406Z
DESCRIPTION:4/11 Bedřichov - Orion Praha 3:0 (19\,20\,9)
DTSTART;TZID=Europe/Berlin:20250326T190000
DTEND;TZID=Europe/Berlin:20250326T210000
LOCATION:TJ Sokol Bedřichov\, Jihlava\, Sokolovská 4656 Jihlava
SUMMARY:1-U20Z-N: Bedřichov-Orion Praha
END:VEVENT
BEGIN:VEVENT
UID:39363233-3263-4535-b735-643663356162
DTSTAMP:20260422T075406Z
DESCRIPTION:7/21 Bedřichov - Chodov 3:2 (15\,-22\,25\,-22\,12)
DTSTART;TZID=Europe/Berlin:20250316T120000
DTEND;TZID=Europe/Berlin:20250316T140000
LOCATION:TJ Sokol Bedřichov\, Jihlava\, Sokolovská 4656 Jihlava
SUMMARY:1-U20Z-N: Bedřichov-Chodov
END:VEVENT
BEGIN:VEVENT
UID:37336136-6564-4736-b064-633562323337
DTSTAMP:20260422T075406Z
DESCRIPTION:8/24 Bedřichov - Chodov 3:2 (13\,-18\,10\,-23\,9)
DTSTART;TZID=Europe/Berlin:20250316T160000
DTEND;TZID=Europe/Berlin:20250316T180000
LOCATION:TJ Sokol Bedřichov\, Jihlava\, Sokolovská 4656 Jihlava
SUMMARY:1-U20Z-N: Bedřichov-Chodov
END:VEVENT
BEGIN:VEVENT
UID:30363862-6539-4535-a630-343766313732
DTSTAMP:20260422T075406Z
DESCRIPTION:11/31 Bedřichov - Střešovice 3:0 (24\,20\,19)
DTSTART;TZID=Europe/Berlin:20250405T100000
DTEND;TZID=Europe/Berlin:20250405T120000
LOCATION:TJ Sokol Bedřichov\, Jihlava\, Sokolovská 4656 Jihlava
SUMMARY:1-U20Z-N: Bedřichov-Střešovice
END:VEVENT
BEGIN:VEVENT
UID:31333131-3434-4263-a664-666337666561
DTSTAMP:20260422T075406Z
DESCRIPTION:12/34 Bedřichov - Střešovice 3:0 (22\,22\,18)
DTSTART;TZID=Europe/Berlin:20250405T140000
DTEND;TZID=Europe/Berlin:20250405T160000
LOCATION:TJ Sokol Bedřichov\, Jihlava\, Sokolovská 4656 Jihlava
SUMMARY:1-U20Z-N: Bedřichov-Střešovice
END:VEVENT
BEGIN:VEVENT
UID:37626236-6465-4765-a139-316335646566
DTSTAMP:20260422T075406Z
DESCRIPTION:1/3 Chodov - Bedřichov 3:2 (19\,-18\,23\,-21\,9)
DTSTART;TZID=Europe/Berlin:20250202T100000
DTEND;TZID=Europe/Berlin:20250202T120000
LOCATION:Městská sportovní hala Chodov\, Tyršova 1201 Chodov
SUMMARY:1-U20Z-N: Chodov-Bedřichov
END:VEVENT
BEGIN:VEVENT
UID:62613639-6636-4532-a437-393166623533
DTSTAMP:20260422T075406Z
DESCRIPTION:2/6 Chodov - Bedřichov 0:3 (-23\,-21\,-15)
DTSTART;TZID=Europe/Berlin:20250202T140000
DTEND;TZID=Europe/Berlin:20250202T160000
LOCATION:Městská sportovní hala Chodov\, Tyršova 1201 Chodov
SUMMARY:1-U20Z-N: Chodov-Bedřichov
END:VEVENT
BEGIN:VEVENT
UID:38326535-3035-4938-b331-633037636135
DTSTAMP:20260422T075406Z
DESCRIPTION:5/13 Střešovice - Bedřichov 0:3 (-20\,-12\,-11)
DTSTART;TZID=Europe/Berlin:20250302T090000
DTEND;TZID=Europe/Berlin:20250302T110000
LOCATION:TJ Tatran Střešovice\, Sibeliova 368 Praha - Střešovice
SUMMARY:1-U20Z-N: Střešovice-Bedřichov
END:VEVENT
BEGIN:VEVENT
UID:64383466-3834-4433-a235-343666306533
DTSTAMP:20260422T075406Z
DESCRIPTION:6/16 Střešovice - Bedřichov 1:3 (-22\,-13\,25\,-21)
DTSTART;TZID=Europe/Berlin:20250302T130000
DTEND;TZID=Europe/Berlin:20250302T150000
LOCATION:TJ Tatran Střešovice\, Sibeliova 368 Praha - Střešovice
SUMMARY:1-U20Z-N: Střešovice-Bedřichov
END:VEVENT
BEGIN:VEVENT
UID:33626535-6163-4531-b666-663561383863
DTSTAMP:20260422T075406Z
DESCRIPTION:9/26 Orion Praha - Bedřichov 3:0 (19\,27\,27)
DTSTART;TZID=Europe/Berlin:20250330T100000
DTEND;TZID=Europe/Berlin:20250330T120000
LOCATION:ZŠ Dolní Břežany\, Na Vršku 290 Dolní Břežany
SUMMARY:1-U20Z-N: Orion Praha-Bedřichov
END:VEVENT
BEGIN:VEVENT
UID:66373165-3638-4536-b138-646161303432
DTSTAMP:20260422T075406Z
DESCRIPTION:10/29 Orion Praha - Bedřichov 1:3 (-25\,-16\,23\,-20)
DTSTART;TZID=Europe/Berlin:20250330T140000
DTEND;TZID=Europe/Berlin:20250330T160000
LOCATION:ZŠ Dolní Břežany\, Na Vršku 290 Dolní Břežany
SUMMARY:1-U20Z-N: Orion Praha-Bedřichov
END:VEVENT
END:VCALENDAR
