BEGIN:VCALENDAR
VERSION:2.0
PRODID:-//SK Kojetín 201686032//NONSGML kigkonsult.se iCalcreator 2.41.80//
CALSCALE:GREGORIAN
UID:30633238-3665-4230-b166-356234396239
BEGIN:VEVENT
UID:61383039-3131-4532-b265-653831343833
DTSTAMP:20260422T052728Z
DESCRIPTION:3/8 Kojetín - Uherské Hradiště 3:0 (9\,6\,7)
DTSTART;TZID=Europe/Berlin:20240921T100000
DTEND;TZID=Europe/Berlin:20240921T120000
LOCATION:Městská sportovní hala\, Hanusíkova 1476 Kojetín - Kojetín I-Město
SUMMARY:2-U20Z-E: Kojetín-Uherské Hradiště
END:VEVENT
BEGIN:VEVENT
UID:34336436-3538-4731-b337-353961643063
DTSTAMP:20260422T052728Z
DESCRIPTION:4/11 Kojetín - Uherské Hradiště 3:0 (9\,14\,8)
DTSTART;TZID=Europe/Berlin:20240921T140000
DTEND;TZID=Europe/Berlin:20240921T160000
LOCATION:Městská sportovní hala\, Hanusíkova 1476 Kojetín - Kojetín I-Město
SUMMARY:2-U20Z-E: Kojetín-Uherské Hradiště
END:VEVENT
BEGIN:VEVENT
UID:34303030-3135-4566-a565-633534326536
DTSTAMP:20260422T052728Z
DESCRIPTION:9/27 Kojetín - Zlín 3:2 (-21\,-16\,19\,22\,7)
DTSTART;TZID=Europe/Berlin:20241102T093000
DTEND;TZID=Europe/Berlin:20241102T113000
LOCATION:Městská sportovní hala\, Hanusíkova 1476 Kojetín - Kojetín I-Město
SUMMARY:2-U20Z-E: Kojetín-Zlín
END:VEVENT
BEGIN:VEVENT
UID:37356538-6461-4630-a466-336662633061
DTSTAMP:20260422T052728Z
DESCRIPTION:10/30 Kojetín - Zlín 2:3 (-23\,12\,-23\,21\,-14)
DTSTART;TZID=Europe/Berlin:20241102T133000
DTEND;TZID=Europe/Berlin:20241102T153000
LOCATION:Městská sportovní hala\, Hanusíkova 1476 Kojetín - Kojetín I-Město
SUMMARY:2-U20Z-E: Kojetín-Zlín
END:VEVENT
BEGIN:VEVENT
UID:31383663-3264-4333-b362-633332636534
DTSTAMP:20260422T052728Z
DESCRIPTION:11/32 Kojetín - Vyškov 3:0 (17\,20\,13)
DTSTART;TZID=Europe/Berlin:20250105T100000
DTEND;TZID=Europe/Berlin:20250105T120000
LOCATION:Městská sportovní hala\, Hanusíkova 1476 Kojetín - Kojetín I-Město
SUMMARY:2-U20Z-E: Kojetín-Vyškov
END:VEVENT
BEGIN:VEVENT
UID:65353935-3965-4365-a462-346138383035
DTSTAMP:20260422T052728Z
DESCRIPTION:12/35 Kojetín - Vyškov 3:0 (20\,20\,18)
DTSTART;TZID=Europe/Berlin:20250105T140000
DTEND;TZID=Europe/Berlin:20250105T160000
LOCATION:Městská sportovní hala\, Hanusíkova 1476 Kojetín - Kojetín I-Město
SUMMARY:2-U20Z-E: Kojetín-Vyškov
END:VEVENT
BEGIN:VEVENT
UID:31333236-3735-4937-a138-666231646630
DTSTAMP:20260422T052728Z
DESCRIPTION:15/45 Kojetín - Břeclav 3:0 (11\,20\,16)
DTSTART;TZID=Europe/Berlin:20241215T100000
DTEND;TZID=Europe/Berlin:20241215T120000
LOCATION:Městská sportovní hala\, Hanusíkova 1476 Kojetín - Kojetín I-Město
SUMMARY:2-U20Z-E: Kojetín-Břeclav
END:VEVENT
BEGIN:VEVENT
UID:66353436-6465-4530-a166-386361373462
DTSTAMP:20260422T052728Z
DESCRIPTION:16/48 Kojetín - Břeclav 3:0 (9\,22\,16)
DTSTART;TZID=Europe/Berlin:20241215T140000
DTEND;TZID=Europe/Berlin:20241215T160000
LOCATION:Městská sportovní hala\, Hanusíkova 1476 Kojetín - Kojetín I-Město
SUMMARY:2-U20Z-E: Kojetín-Břeclav
END:VEVENT
BEGIN:VEVENT
UID:61346235-6464-4336-b035-353861303137
DTSTAMP:20260422T052728Z
DESCRIPTION:17/49 Kojetín - Valašské Meziříčí 0:3 (-13\,-24\,-20)
DTSTART;TZID=Europe/Berlin:20250112T100000
DTEND;TZID=Europe/Berlin:20250112T120000
LOCATION:Městská sportovní hala\, Hanusíkova 1476 Kojetín - Kojetín I-Město
SUMMARY:2-U20Z-E: Kojetín-Valašské Meziříčí
END:VEVENT
BEGIN:VEVENT
UID:63356537-3962-4137-b732-363165383963
DTSTAMP:20260422T052728Z
DESCRIPTION:18/52 Kojetín - Valašské Meziříčí 1:3 (16\,-22\,-23\,-18)
DTSTART;TZID=Europe/Berlin:20250112T140000
DTEND;TZID=Europe/Berlin:20250112T160000
LOCATION:Městská sportovní hala\, Hanusíkova 1476 Kojetín - Kojetín I-Město
SUMMARY:2-U20Z-E: Kojetín-Valašské Meziříčí
END:VEVENT
BEGIN:VEVENT
UID:33313139-6132-4865-b435-623963326465
DTSTAMP:20260422T052728Z
DESCRIPTION:1/2 Vyškov - Kojetín 2:3 (13\,-22\,21\,-25\,-8)
DTSTART;TZID=Europe/Berlin:20240915T100000
DTEND;TZID=Europe/Berlin:20240915T120000
LOCATION:Tělocvična ZŠ Nádražní\, Nádražní 5 Vyškov - Vyškov-Město
SUMMARY:2-U20Z-E: Vyškov-Kojetín
END:VEVENT
BEGIN:VEVENT
UID:66383938-3037-4563-b661-386531663132
DTSTAMP:20260422T052728Z
DESCRIPTION:2/5 Vyškov - Kojetín 1:3 (18\,-12\,-19\,-16)
DTSTART;TZID=Europe/Berlin:20240915T140000
DTEND;TZID=Europe/Berlin:20240915T160000
LOCATION:Tělocvična ZŠ Nádražní\, Nádražní 5 Vyškov - Vyškov-Město
SUMMARY:2-U20Z-E: Vyškov-Kojetín
END:VEVENT
BEGIN:VEVENT
UID:34373033-3735-4036-a363-376532363263
DTSTAMP:20260422T052728Z
DESCRIPTION:5/15 Břeclav - Kojetín 0:3 (-18\,-20\,-18)
DTSTART;TZID=Europe/Berlin:20241006T100000
DTEND;TZID=Europe/Berlin:20241006T120000
LOCATION:TJ Lokomotiva Břeclav\, Veslařská 2753 Břeclav
SUMMARY:2-U20Z-E: Břeclav-Kojetín
END:VEVENT
BEGIN:VEVENT
UID:31333530-6633-4263-b164-656366333663
DTSTAMP:20260422T052728Z
DESCRIPTION:6/18 Břeclav - Kojetín 0:3 (-19\,-19\,-14)
DTSTART;TZID=Europe/Berlin:20241006T140000
DTEND;TZID=Europe/Berlin:20241006T160000
LOCATION:TJ Lokomotiva Břeclav\, Veslařská 2753 Břeclav
SUMMARY:2-U20Z-E: Břeclav-Kojetín
END:VEVENT
BEGIN:VEVENT
UID:30323831-3437-4635-a434-366131353539
DTSTAMP:20260422T052728Z
DESCRIPTION:7/19 Valašské Meziříčí - Kojetín 3:0 (19\,24\,14)
DTSTART;TZID=Europe/Berlin:20241019T090000
DTEND;TZID=Europe/Berlin:20241019T110000
LOCATION:ZŠ Šafaříkova\, Šafaříkova 726 Valašské Meziříčí
SUMMARY:2-U20Z-E: Valašské Meziříčí-Kojetín
END:VEVENT
BEGIN:VEVENT
UID:66633430-3535-4063-b065-323634646136
DTSTAMP:20260422T052728Z
DESCRIPTION:8/22 Valašské Meziříčí - Kojetín 3:0 (17\,12\,12)
DTSTART;TZID=Europe/Berlin:20241019T130000
DTEND;TZID=Europe/Berlin:20241019T150000
LOCATION:ZŠ Šafaříkova\, Šafaříkova 726 Valašské Meziříčí
SUMMARY:2-U20Z-E: Valašské Meziříčí-Kojetín
END:VEVENT
BEGIN:VEVENT
UID:65313338-6166-4234-b533-343933623537
DTSTAMP:20260422T052728Z
DESCRIPTION:13/38 Uherské Hradiště - Kojetín 0:3 (-26\,-20\,-11)
DTSTART;TZID=Europe/Berlin:20241214T100000
DTEND;TZID=Europe/Berlin:20241214T120000
LOCATION:Gymnázium Uherské Hradiště\, Velehradská třída 218 Uherské Hradišt
 ě
SUMMARY:2-U20Z-E: Uherské Hradiště-Kojetín
END:VEVENT
BEGIN:VEVENT
UID:61323930-6138-4663-a135-396165666234
DTSTAMP:20260422T052728Z
DESCRIPTION:14/41 Uherské Hradiště - Kojetín 0:3 (-13\,-17\,-20)
DTSTART;TZID=Europe/Berlin:20241214T140000
DTEND;TZID=Europe/Berlin:20241214T160000
LOCATION:Gymnázium Uherské Hradiště\, Velehradská třída 218 Uherské Hradišt
 ě
SUMMARY:2-U20Z-E: Uherské Hradiště-Kojetín
END:VEVENT
BEGIN:VEVENT
UID:35343165-6536-4161-a266-646461353461
DTSTAMP:20260422T052728Z
DESCRIPTION:19/57 Zlín - Kojetín 1:3 (22\,-26\,-22\,-22)
DTSTART;TZID=Europe/Berlin:20250118T090000
DTEND;TZID=Europe/Berlin:20250118T110000
LOCATION:Sportovní hala Datart Zlín\, U Zimního stadionu 4286 Zlín
SUMMARY:2-U20Z-E: Zlín-Kojetín
END:VEVENT
BEGIN:VEVENT
UID:31383733-6534-4830-b331-313538343263
DTSTAMP:20260422T052728Z
DESCRIPTION:20/60 Zlín - Kojetín 0:3 (-20\,-22\,-11)
DTSTART;TZID=Europe/Berlin:20250118T130000
DTEND;TZID=Europe/Berlin:20250118T150000
LOCATION:Sportovní hala Datart Zlín\, U Zimního stadionu 4286 Zlín
SUMMARY:2-U20Z-E: Zlín-Kojetín
END:VEVENT
BEGIN:VEVENT
UID:66366235-6139-4466-a533-306533383836
DTSTAMP:20260422T052728Z
DESCRIPTION:1/2 Kojetín - Opava 1:3 (-20\,23\,-23\,-22)
DTSTART;TZID=Europe/Berlin:20250202T100000
DTEND;TZID=Europe/Berlin:20250202T120000
LOCATION:Městská sportovní hala\, Hanusíkova 1476 Kojetín - Kojetín I-Město
SUMMARY:2-U20Z-III: Kojetín-Opava
END:VEVENT
BEGIN:VEVENT
UID:64653562-6265-4065-a535-656164626166
DTSTAMP:20260422T052728Z
DESCRIPTION:2/5 Kojetín - Opava 3:0 (19\,15\,18)
DTSTART;TZID=Europe/Berlin:20250202T140000
DTEND;TZID=Europe/Berlin:20250202T160000
LOCATION:Městská sportovní hala\, Hanusíkova 1476 Kojetín - Kojetín I-Město
SUMMARY:2-U20Z-III: Kojetín-Opava
END:VEVENT
BEGIN:VEVENT
UID:32373063-6637-4332-b036-336534653566
DTSTAMP:20260422T052728Z
DESCRIPTION:5/14 Kojetín - Frýdek - Místek B 3:1 (24\,7\,-23\,22)
DTSTART;TZID=Europe/Berlin:20250302T100000
DTEND;TZID=Europe/Berlin:20250302T120000
LOCATION:Městská sportovní hala\, Hanusíkova 1476 Kojetín - Kojetín I-Město
SUMMARY:2-U20Z-III: Kojetín-Frýdek - Místek B
END:VEVENT
BEGIN:VEVENT
UID:33323061-3966-4766-a139-396232353531
DTSTAMP:20260422T052728Z
DESCRIPTION:6/17 Kojetín - Frýdek - Místek B 1:3 (23\,-21\,-13\,-21)
DTSTART;TZID=Europe/Berlin:20250302T140000
DTEND;TZID=Europe/Berlin:20250302T160000
LOCATION:Městská sportovní hala\, Hanusíkova 1476 Kojetín - Kojetín I-Město
SUMMARY:2-U20Z-III: Kojetín-Frýdek - Místek B
END:VEVENT
BEGIN:VEVENT
UID:31393930-3536-4366-b765-623338373566
DTSTAMP:20260422T052728Z
DESCRIPTION:9/26 Kojetín - VAM Olomouc 1:3 (-17\,9\,-19\,-22)
DTSTART;TZID=Europe/Berlin:20250330T100000
DTEND;TZID=Europe/Berlin:20250330T120000
LOCATION:Městská sportovní hala\, Hanusíkova 1476 Kojetín - Kojetín I-Město
SUMMARY:2-U20Z-III: Kojetín-VAM Olomouc
END:VEVENT
BEGIN:VEVENT
UID:30346666-3830-4436-a138-646265653665
DTSTAMP:20260422T052728Z
DESCRIPTION:10/29 Kojetín - VAM Olomouc 0:3 (-19\,-18\,-19)
DTSTART;TZID=Europe/Berlin:20250330T140000
DTEND;TZID=Europe/Berlin:20250330T160000
LOCATION:Městská sportovní hala\, Hanusíkova 1476 Kojetín - Kojetín I-Město
SUMMARY:2-U20Z-III: Kojetín-VAM Olomouc
END:VEVENT
BEGIN:VEVENT
UID:66643331-3739-4964-b631-376265323362
DTSTAMP:20260422T052728Z
DESCRIPTION:3/8 VAM Olomouc - Kojetín 2:3 (-20\,23\,-23\,19\,-9)
DTSTART;TZID=Europe/Berlin:20250209T110000
DTEND;TZID=Europe/Berlin:20250209T130000
LOCATION:VOŠ a SPŠE Olomouc\, Božetěchova 755 Olomouc - Hodolany
SUMMARY:2-U20Z-III: VAM Olomouc-Kojetín
END:VEVENT
BEGIN:VEVENT
UID:66623432-6162-4566-a137-613434653031
DTSTAMP:20260422T052728Z
DESCRIPTION:4/11 VAM Olomouc - Kojetín 3:0 (21\,25\,18)
DTSTART;TZID=Europe/Berlin:20250209T150000
DTEND;TZID=Europe/Berlin:20250209T170000
LOCATION:VOŠ a SPŠE Olomouc\, Božetěchova 755 Olomouc - Hodolany
SUMMARY:2-U20Z-III: VAM Olomouc-Kojetín
END:VEVENT
BEGIN:VEVENT
UID:30396134-3834-4436-b635-336130613431
DTSTAMP:20260422T052728Z
DESCRIPTION:7/20 Opava - Kojetín 3:2 (-12\,19\,21\,-23\,14)
DTSTART;TZID=Europe/Berlin:20250316T090000
DTEND;TZID=Europe/Berlin:20250316T110000
LOCATION:Sportovní hala Obchodní akademie\, Hany Kvapilové 1656 Opava - Pře
 dměstí
SUMMARY:2-U20Z-III: Opava-Kojetín
END:VEVENT
BEGIN:VEVENT
UID:35666663-3338-4463-a237-363835373839
DTSTAMP:20260422T052728Z
DESCRIPTION:8/23 Opava - Kojetín 3:0 (12\,16\,22)
DTSTART;TZID=Europe/Berlin:20250316T130000
DTEND;TZID=Europe/Berlin:20250316T150000
LOCATION:Sportovní hala Obchodní akademie\, Hany Kvapilové 1656 Opava - Pře
 dměstí
SUMMARY:2-U20Z-III: Opava-Kojetín
END:VEVENT
BEGIN:VEVENT
UID:64393932-3666-4464-b434-323361663161
DTSTAMP:20260422T052728Z
DESCRIPTION:11/32 Frýdek - Místek B - Kojetín 3:0 (22\,22\,20)
DTSTART;TZID=Europe/Berlin:20250406T100000
DTEND;TZID=Europe/Berlin:20250406T120000
LOCATION:Sokolovna Frýdek-Místek\, Novodvorská 667 Frýdek-Místek - Frýdek
SUMMARY:2-U20Z-III: Frýdek - Místek B-Kojetín
END:VEVENT
BEGIN:VEVENT
UID:62376537-3662-4331-a565-366366633533
DTSTAMP:20260422T052728Z
DESCRIPTION:12/35 Frýdek - Místek B - Kojetín 3:1 (7\,16\,-16\,16)
DTSTART;TZID=Europe/Berlin:20250406T140000
DTEND;TZID=Europe/Berlin:20250406T160000
LOCATION:Sokolovna Frýdek-Místek\, Novodvorská 667 Frýdek-Místek - Frýdek
SUMMARY:2-U20Z-III: Frýdek - Místek B-Kojetín
END:VEVENT
END:VCALENDAR
