BEGIN:VCALENDAR
VERSION:2.0
PRODID:-//INLAB SK Meteor Praha86033//NONSGML kigkonsult.se iCalcreator 2.41.80//
CALSCALE:GREGORIAN
UID:38366361-3065-4337-b231-666365356137
BEGIN:VEVENT
UID:61616635-3135-4366-b866-326430366639
DTSTAMP:20260422T052731Z
DESCRIPTION:5/15 Meteor - Mikulova 3:1 (-21\,12\,11\,15)
DTSTART;TZID=Europe/Berlin:20241006T100000
DTEND;TZID=Europe/Berlin:20241006T120000
LOCATION:ZŠ Žernosecká\, Žernosecká 1597 Praha - Kobylisy
SUMMARY:2-U20Z-C: Meteor-Mikulova
END:VEVENT
BEGIN:VEVENT
UID:64316265-6562-4535-b163-633466623665
DTSTAMP:20260422T052731Z
DESCRIPTION:6/18 Meteor - Mikulova 1:3 (-24\,18\,-24\,-9)
DTSTART;TZID=Europe/Berlin:20241006T140000
DTEND;TZID=Europe/Berlin:20241006T160000
LOCATION:ZŠ Žernosecká\, Žernosecká 1597 Praha - Kobylisy
SUMMARY:2-U20Z-C: Meteor-Mikulova
END:VEVENT
BEGIN:VEVENT
UID:32356532-6333-4135-a630-656639326461
DTSTAMP:20260422T052731Z
DESCRIPTION:9/26 Meteor - Český Krumlov 3:0 (9\,6\,13)
DTSTART;TZID=Europe/Berlin:20241019T100000
DTEND;TZID=Europe/Berlin:20241019T120000
LOCATION:ZŠ Žernosecká\, Žernosecká 1597 Praha - Kobylisy
SUMMARY:2-U20Z-C: Meteor-Český Krumlov
END:VEVENT
BEGIN:VEVENT
UID:63356265-3532-4230-b363-663731396464
DTSTAMP:20260422T052731Z
DESCRIPTION:10/29 Meteor - Český Krumlov 3:0 (17\,21\,13)
DTSTART;TZID=Europe/Berlin:20241019T140000
DTEND;TZID=Europe/Berlin:20241019T160000
LOCATION:ZŠ Žernosecká\, Žernosecká 1597 Praha - Kobylisy
SUMMARY:2-U20Z-C: Meteor-Český Krumlov
END:VEVENT
BEGIN:VEVENT
UID:65366166-3237-4661-a632-316133353465
DTSTAMP:20260422T052731Z
DESCRIPTION:11/33 Meteor - Slavia Praha 3:1 (17\,20\,-20\,17)
DTSTART;TZID=Europe/Berlin:20240915T100000
DTEND;TZID=Europe/Berlin:20240915T120000
LOCATION:ZŠ Žernosecká\, Žernosecká 1597 Praha - Kobylisy
SUMMARY:2-U20Z-C: Meteor-Slavia Praha
END:VEVENT
BEGIN:VEVENT
UID:30386531-6331-4361-b632-366265326231
DTSTAMP:20260422T052731Z
DESCRIPTION:12/36 Meteor - Slavia Praha 3:1 (-20\,17\,16\,19)
DTSTART;TZID=Europe/Berlin:20240915T140000
DTEND;TZID=Europe/Berlin:20240915T160000
LOCATION:ZŠ Žernosecká\, Žernosecká 1597 Praha - Kobylisy
SUMMARY:2-U20Z-C: Meteor-Slavia Praha
END:VEVENT
BEGIN:VEVENT
UID:61323964-3234-4038-a564-373761373462
DTSTAMP:20260422T052731Z
DESCRIPTION:13/37 Meteor - České Budějovice B 3:0 (18\,5\,11)
DTSTART;TZID=Europe/Berlin:20241201T100000
DTEND;TZID=Europe/Berlin:20241201T120000
LOCATION:ZŠ Žernosecká\, Žernosecká 1597 Praha - Kobylisy
SUMMARY:2-U20Z-C: Meteor-České Budějovice B
END:VEVENT
BEGIN:VEVENT
UID:37303861-6461-4334-b339-303666616632
DTSTAMP:20260422T052731Z
DESCRIPTION:14/40 Meteor - České Budějovice B 3:0 (23\,13\,13)
DTSTART;TZID=Europe/Berlin:20241201T140000
DTEND;TZID=Europe/Berlin:20241201T160000
LOCATION:ZŠ Žernosecká\, Žernosecká 1597 Praha - Kobylisy
SUMMARY:2-U20Z-C: Meteor-České Budějovice B
END:VEVENT
BEGIN:VEVENT
UID:34393863-6136-4565-b263-623135333037
DTSTAMP:20260422T052731Z
DESCRIPTION:17/50 Meteor - Třebín 3:0 (22\,27\,19)
DTSTART;TZID=Europe/Berlin:20240922T110000
DTEND;TZID=Europe/Berlin:20240922T130000
LOCATION:ZŠ Žernosecká\, Žernosecká 1597 Praha - Kobylisy
SUMMARY:2-U20Z-C: Meteor-Třebín
END:VEVENT
BEGIN:VEVENT
UID:61333761-3339-4163-b562-396161386261
DTSTAMP:20260422T052731Z
DESCRIPTION:18/53 Meteor - Třebín 1:3 (-18\,21\,-19\,-14)
DTSTART;TZID=Europe/Berlin:20240922T150000
DTEND;TZID=Europe/Berlin:20240922T170000
LOCATION:ZŠ Žernosecká\, Žernosecká 1597 Praha - Kobylisy
SUMMARY:2-U20Z-C: Meteor-Třebín
END:VEVENT
BEGIN:VEVENT
UID:64353037-6566-4365-b762-623934353365
DTSTAMP:20260422T052731Z
DESCRIPTION:1/3 Slavia Praha - Meteor 3:2 (-16\,19\,23\,-26\,7)
DTSTART;TZID=Europe/Berlin:20241110T100000
DTEND;TZID=Europe/Berlin:20241110T120000
LOCATION:Jana\, Vladivostocká 1460 Praha - Vršovice
SUMMARY:2-U20Z-C: Slavia Praha-Meteor
END:VEVENT
BEGIN:VEVENT
UID:62643461-6632-4439-a166-363264353761
DTSTAMP:20260422T052731Z
DESCRIPTION:2/6 Slavia Praha - Meteor 3:1 (14\,-18\,19\,19)
DTSTART;TZID=Europe/Berlin:20241110T140000
DTEND;TZID=Europe/Berlin:20241110T160000
LOCATION:Jana\, Vladivostocká 1460 Praha - Vršovice
SUMMARY:2-U20Z-C: Slavia Praha-Meteor
END:VEVENT
BEGIN:VEVENT
UID:37363738-3563-4066-b137-373935323037
DTSTAMP:20260422T052731Z
DESCRIPTION:3/7 České Budějovice B - Meteor 1:3 (15\,-24\,-20\,-11)
DTSTART;TZID=Europe/Berlin:20240929T100000
DTEND;TZID=Europe/Berlin:20240929T120000
LOCATION:Sportovní hala\, Stromovka 1216 České Budějovice - České Budějovic
 e 2
SUMMARY:2-U20Z-C: České Budějovice B-Meteor
END:VEVENT
BEGIN:VEVENT
UID:39373230-3939-4666-a534-656131343937
DTSTAMP:20260422T052731Z
DESCRIPTION:4/10 České Budějovice B - Meteor 1:3 (-10\,25\,-16\,-16)
DTSTART;TZID=Europe/Berlin:20240929T140000
DTEND;TZID=Europe/Berlin:20240929T160000
LOCATION:Sportovní hala\, Stromovka 1216 České Budějovice - České Budějovic
 e 2
SUMMARY:2-U20Z-C: České Budějovice B-Meteor
END:VEVENT
BEGIN:VEVENT
UID:61306461-3236-4864-a262-646137323834
DTSTAMP:20260422T052731Z
DESCRIPTION:7/20 Třebín - Meteor 2:3 (21\,24\,-21\,-18\,-18)
DTSTART;TZID=Europe/Berlin:20241013T100000
DTEND;TZID=Europe/Berlin:20241013T120000
LOCATION:ZŠ Hluboká\, Karla Čapka 800 Hluboká nad Vltavou
SUMMARY:2-U20Z-C: Třebín-Meteor
END:VEVENT
BEGIN:VEVENT
UID:65343332-6531-4531-a466-306564656230
DTSTAMP:20260422T052731Z
DESCRIPTION:8/23 Třebín - Meteor 3:0 (17\,23\,11)
DTSTART;TZID=Europe/Berlin:20241013T140000
DTEND;TZID=Europe/Berlin:20241013T160000
LOCATION:ZŠ Hluboká\, Karla Čapka 800 Hluboká nad Vltavou
SUMMARY:2-U20Z-C: Třebín-Meteor
END:VEVENT
BEGIN:VEVENT
UID:31616230-3166-4438-a339-643166353264
DTSTAMP:20260422T052731Z
DESCRIPTION:15/45 Mikulova - Meteor 1:3 (24\,-18\,-20\,-20)
DTSTART;TZID=Europe/Berlin:20241207T120000
DTEND;TZID=Europe/Berlin:20241207T140000
LOCATION:Sportovní hala DDM Praha 12 - Monet\, Herrmannova 2016 Praha - Mod
 řany
SUMMARY:2-U20Z-C: Mikulova-Meteor
END:VEVENT
BEGIN:VEVENT
UID:35343130-6135-4539-a532-616164303033
DTSTAMP:20260422T052731Z
DESCRIPTION:16/48 Mikulova - Meteor 3:1 (-20\,13\,28\,16)
DTSTART;TZID=Europe/Berlin:20241207T160000
DTEND;TZID=Europe/Berlin:20241207T180000
LOCATION:Sportovní hala DDM Praha 12 - Monet\, Herrmannova 2016 Praha - Mod
 řany
SUMMARY:2-U20Z-C: Mikulova-Meteor
END:VEVENT
BEGIN:VEVENT
UID:61613639-3634-4563-a264-366335613837
DTSTAMP:20260422T052731Z
DESCRIPTION:19/56 Český Krumlov - Meteor 0:3 (-22\,-18\,-13)
DTSTART;TZID=Europe/Berlin:20250119T100000
DTEND;TZID=Europe/Berlin:20250119T120000
LOCATION:ZŠ Za Nádražím Český Krumlov\, Za Nádražím 222 Český Krumlov - Nád
 ražní Předměstí
SUMMARY:2-U20Z-C: Český Krumlov-Meteor
END:VEVENT
BEGIN:VEVENT
UID:65396137-6237-4033-a532-313463306364
DTSTAMP:20260422T052731Z
DESCRIPTION:20/59 Český Krumlov - Meteor 3:1 (25\,-18\,12\,23)
DTSTART;TZID=Europe/Berlin:20250119T140000
DTEND;TZID=Europe/Berlin:20250119T160000
LOCATION:ZŠ Za Nádražím Český Krumlov\, Za Nádražím 222 Český Krumlov - Nád
 ražní Předměstí
SUMMARY:2-U20Z-C: Český Krumlov-Meteor
END:VEVENT
BEGIN:VEVENT
UID:34656631-3330-4534-a266-666430393134
DTSTAMP:20260422T052731Z
DESCRIPTION:1/3 Meteor - Znojmo 3:0 (23\,12\,18)
DTSTART;TZID=Europe/Berlin:20250329T120000
DTEND;TZID=Europe/Berlin:20250329T140000
LOCATION:ZŠ Žernosecká\, Žernosecká 1597 Praha - Kobylisy
SUMMARY:2-U20Z-II: Meteor-Znojmo
END:VEVENT
BEGIN:VEVENT
UID:39316166-3733-4433-a439-623138643731
DTSTAMP:20260422T052731Z
DESCRIPTION:2/6 Meteor - Znojmo 0:3 (-19\,-17\,-26)
DTSTART;TZID=Europe/Berlin:20250329T160000
DTEND;TZID=Europe/Berlin:20250329T180000
LOCATION:ZŠ Žernosecká\, Žernosecká 1597 Praha - Kobylisy
SUMMARY:2-U20Z-II: Meteor-Znojmo
END:VEVENT
BEGIN:VEVENT
UID:63643836-3465-4633-a332-633731363366
DTSTAMP:20260422T052731Z
DESCRIPTION:5/15 Meteor - KP Brno B 3:1 (-19\,21\,22\,19)
DTSTART;TZID=Europe/Berlin:20250302T110000
DTEND;TZID=Europe/Berlin:20250302T130000
LOCATION:ZŠ Žernosecká\, Žernosecká 1597 Praha - Kobylisy
SUMMARY:2-U20Z-II: Meteor-KP Brno B
END:VEVENT
BEGIN:VEVENT
UID:63303030-3838-4161-a539-306463313063
DTSTAMP:20260422T052731Z
DESCRIPTION:6/18 Meteor - KP Brno B 0:3 (-18\,-21\,-24)
DTSTART;TZID=Europe/Berlin:20250302T140000
DTEND;TZID=Europe/Berlin:20250302T160000
LOCATION:ZŠ Žernosecká\, Žernosecká 1597 Praha - Kobylisy
SUMMARY:2-U20Z-II: Meteor-KP Brno B
END:VEVENT
BEGIN:VEVENT
UID:36393337-6164-4637-b832-393937626265
DTSTAMP:20260422T052731Z
DESCRIPTION:9/27 Meteor - Svitavy 3:0 (21\,15\,18)
DTSTART;TZID=Europe/Berlin:20250330T110000
DTEND;TZID=Europe/Berlin:20250330T130000
LOCATION:ZŠ Žernosecká\, Žernosecká 1597 Praha - Kobylisy
SUMMARY:2-U20Z-II: Meteor-Svitavy
END:VEVENT
BEGIN:VEVENT
UID:61666262-3634-4232-b934-363933663864
DTSTAMP:20260422T052731Z
DESCRIPTION:10/30 Meteor - Svitavy 3:0 (20\,21\,18)
DTSTART;TZID=Europe/Berlin:20250330T150000
DTEND;TZID=Europe/Berlin:20250330T170000
LOCATION:ZŠ Žernosecká\, Žernosecká 1597 Praha - Kobylisy
SUMMARY:2-U20Z-II: Meteor-Svitavy
END:VEVENT
BEGIN:VEVENT
UID:33343630-3534-4230-b936-306233336232
DTSTAMP:20260422T052731Z
DESCRIPTION:3/9 Svitavy - Meteor 0:3 (-20\,-21\,-16)
DTSTART;TZID=Europe/Berlin:20250309T110000
DTEND;TZID=Europe/Berlin:20250309T130000
LOCATION:Sportovní hala Na Střelnici\, Pražská 2162 Svitavy - Předměstí
SUMMARY:2-U20Z-II: Svitavy-Meteor
END:VEVENT
BEGIN:VEVENT
UID:62643336-6564-4633-b336-326231383963
DTSTAMP:20260422T052731Z
DESCRIPTION:4/12 Svitavy - Meteor 0:3 (-11\,-23\,-21)
DTSTART;TZID=Europe/Berlin:20250309T150000
DTEND;TZID=Europe/Berlin:20250309T170000
LOCATION:Sportovní hala Na Střelnici\, Pražská 2162 Svitavy - Předměstí
SUMMARY:2-U20Z-II: Svitavy-Meteor
END:VEVENT
BEGIN:VEVENT
UID:61616632-6632-4036-b832-373566386362
DTSTAMP:20260422T052731Z
DESCRIPTION:7/21 Znojmo - Meteor 1:3 (20\,-21\,-29\,-20)
DTSTART;TZID=Europe/Berlin:20250316T110000
DTEND;TZID=Europe/Berlin:20250316T130000
LOCATION:Gymnázium Dr. Karla Polesného\, náměstí Komenského 945 Znojmo
SUMMARY:2-U20Z-II: Znojmo-Meteor
END:VEVENT
BEGIN:VEVENT
UID:36346534-3630-4263-a430-646239663935
DTSTAMP:20260422T052731Z
DESCRIPTION:8/24 Znojmo - Meteor 2:3 (-26\,14\,20\,-18\,-17)
DTSTART;TZID=Europe/Berlin:20250316T150000
DTEND;TZID=Europe/Berlin:20250316T170000
LOCATION:Gymnázium Dr. Karla Polesného\, náměstí Komenského 945 Znojmo
SUMMARY:2-U20Z-II: Znojmo-Meteor
END:VEVENT
BEGIN:VEVENT
UID:30353462-6466-4137-b831-646433363734
DTSTAMP:20260422T052731Z
DESCRIPTION:11/33 KP Brno B - Meteor 3:1 (23\,-17\,17\,21)
DTSTART;TZID=Europe/Berlin:20250406T110000
DTEND;TZID=Europe/Berlin:20250406T130000
LOCATION:ZŠ Milénova 14\, Milénova 808 Brno - Lesná
SUMMARY:2-U20Z-II: KP Brno B-Meteor
END:VEVENT
BEGIN:VEVENT
UID:65316562-3332-4636-b065-613962663533
DTSTAMP:20260422T052731Z
DESCRIPTION:12/36 KP Brno B - Meteor 3:1 (-22\,22\,10\,14)
DTSTART;TZID=Europe/Berlin:20250406T140000
DTEND;TZID=Europe/Berlin:20250406T160000
LOCATION:ZŠ Milénova 14\, Milénova 808 Brno - Lesná
SUMMARY:2-U20Z-II: KP Brno B-Meteor
END:VEVENT
END:VCALENDAR
