BEGIN:VCALENDAR
VERSION:2.0
PRODID:-//Volejbal Vyškov86037//NONSGML kigkonsult.se iCalcreator 2.41.80//
CALSCALE:GREGORIAN
UID:30626632-6232-4533-b830-643637356532
BEGIN:VEVENT
UID:37646338-3133-4539-b939-366366316633
DTSTAMP:20260422T001357Z
DESCRIPTION:1/2 Vyškov - Kojetín 2:3 (13\,-22\,21\,-25\,-8)
DTSTART;TZID=Europe/Berlin:20240915T100000
DTEND;TZID=Europe/Berlin:20240915T120000
LOCATION:Tělocvična ZŠ Nádražní\, Nádražní 5 Vyškov - Vyškov-Město
SUMMARY:2-U20Z-E: Vyškov-Kojetín
END:VEVENT
BEGIN:VEVENT
UID:38623236-3439-4238-a330-656632316234
DTSTAMP:20260422T001357Z
DESCRIPTION:2/5 Vyškov - Kojetín 1:3 (18\,-12\,-19\,-16)
DTSTART;TZID=Europe/Berlin:20240915T140000
DTEND;TZID=Europe/Berlin:20240915T160000
LOCATION:Tělocvična ZŠ Nádražní\, Nádražní 5 Vyškov - Vyškov-Město
SUMMARY:2-U20Z-E: Vyškov-Kojetín
END:VEVENT
BEGIN:VEVENT
UID:61653834-3837-4139-b064-313334663037
DTSTAMP:20260422T001357Z
DESCRIPTION:5/13 Vyškov - Valašské Meziříčí 0:3 (-16\,-15\,-17)
DTSTART;TZID=Europe/Berlin:20241006T100000
DTEND;TZID=Europe/Berlin:20241006T120000
LOCATION:Tělocvična ZŠ Nádražní\, Nádražní 5 Vyškov - Vyškov-Město
SUMMARY:2-U20Z-E: Vyškov-Valašské Meziříčí
END:VEVENT
BEGIN:VEVENT
UID:31633766-3434-4162-b038-633566373235
DTSTAMP:20260422T001357Z
DESCRIPTION:6/16 Vyškov - Valašské Meziříčí 0:3 (-16\,-21\,-15)
DTSTART;TZID=Europe/Berlin:20241006T140000
DTEND;TZID=Europe/Berlin:20241006T160000
LOCATION:Tělocvična ZŠ Nádražní\, Nádražní 5 Vyškov - Vyškov-Město
SUMMARY:2-U20Z-E: Vyškov-Valašské Meziříčí
END:VEVENT
BEGIN:VEVENT
UID:30616539-3562-4231-a663-633962366164
DTSTAMP:20260422T001357Z
DESCRIPTION:7/21 Vyškov - Uherské Hradiště 3:1 (-21\,21\,14\,17)
DTSTART;TZID=Europe/Berlin:20241013T100000
DTEND;TZID=Europe/Berlin:20241013T120000
LOCATION:Tělocvična ZŠ Nádražní\, Nádražní 5 Vyškov - Vyškov-Město
SUMMARY:2-U20Z-E: Vyškov-Uherské Hradiště
END:VEVENT
BEGIN:VEVENT
UID:63373836-3336-4762-b732-393761666132
DTSTAMP:20260422T001357Z
DESCRIPTION:8/24 Vyškov - Uherské Hradiště 3:2 (20\,-21\,-20\,11\,12)
DTSTART;TZID=Europe/Berlin:20241013T140000
DTEND;TZID=Europe/Berlin:20241013T160000
LOCATION:Tělocvična ZŠ Nádražní\, Nádražní 5 Vyškov - Vyškov-Město
SUMMARY:2-U20Z-E: Vyškov-Uherské Hradiště
END:VEVENT
BEGIN:VEVENT
UID:38383238-6365-4537-a433-336665643961
DTSTAMP:20260422T001357Z
DESCRIPTION:13/39 Vyškov - Zlín 0:3 (-30\,-9\,-12)
DTSTART;TZID=Europe/Berlin:20241201T100000
DTEND;TZID=Europe/Berlin:20241201T120000
LOCATION:Tělocvična ZŠ Nádražní\, Nádražní 5 Vyškov - Vyškov-Město
SUMMARY:2-U20Z-E: Vyškov-Zlín
END:VEVENT
BEGIN:VEVENT
UID:35333534-3662-4237-b236-386366656565
DTSTAMP:20260422T001357Z
DESCRIPTION:14/42 Vyškov - Zlín 0:3 (-12\,-18\,-19)
DTSTART;TZID=Europe/Berlin:20241201T140000
DTEND;TZID=Europe/Berlin:20241201T160000
LOCATION:Tělocvična ZŠ Nádražní\, Nádražní 5 Vyškov - Vyškov-Město
SUMMARY:2-U20Z-E: Vyškov-Zlín
END:VEVENT
BEGIN:VEVENT
UID:34313732-3136-4763-b436-636230383262
DTSTAMP:20260422T001357Z
DESCRIPTION:19/56 Vyškov - Břeclav 1:3 (-18\,22\,-22\,-18)
DTSTART;TZID=Europe/Berlin:20250119T100000
DTEND;TZID=Europe/Berlin:20250119T120000
LOCATION:Tělocvična ZŠ Nádražní\, Nádražní 5 Vyškov - Vyškov-Město
SUMMARY:2-U20Z-E: Vyškov-Břeclav
END:VEVENT
BEGIN:VEVENT
UID:36313335-6537-4538-b964-333235313438
DTSTAMP:20260422T001357Z
DESCRIPTION:20/59 Vyškov - Břeclav 3:0 (15\,14\,23)
DTSTART;TZID=Europe/Berlin:20250119T140000
DTEND;TZID=Europe/Berlin:20250119T160000
LOCATION:Tělocvična ZŠ Nádražní\, Nádražní 5 Vyškov - Vyškov-Město
SUMMARY:2-U20Z-E: Vyškov-Břeclav
END:VEVENT
BEGIN:VEVENT
UID:38313565-3062-4135-b362-316533663734
DTSTAMP:20260422T001357Z
DESCRIPTION:3/9 Zlín - Vyškov 3:0 (12\,8\,10)
DTSTART;TZID=Europe/Berlin:20240929T100000
DTEND;TZID=Europe/Berlin:20240929T120000
LOCATION:Sportovní hala Datart Zlín\, U Zimního stadionu 4286 Zlín
SUMMARY:2-U20Z-E: Zlín-Vyškov
END:VEVENT
BEGIN:VEVENT
UID:35393730-6332-4065-a361-393664356136
DTSTAMP:20260422T001357Z
DESCRIPTION:4/12 Zlín - Vyškov 3:0 (18\,15\,19)
DTSTART;TZID=Europe/Berlin:20240929T140000
DTEND;TZID=Europe/Berlin:20240929T160000
LOCATION:Sportovní hala Datart Zlín\, U Zimního stadionu 4286 Zlín
SUMMARY:2-U20Z-E: Zlín-Vyškov
END:VEVENT
BEGIN:VEVENT
UID:31363236-3334-4762-b633-333836386466
DTSTAMP:20260422T001357Z
DESCRIPTION:9/26 Břeclav - Vyškov 0:3 (-13\,-22\,-16)
DTSTART;TZID=Europe/Berlin:20241027T100000
DTEND;TZID=Europe/Berlin:20241027T120000
LOCATION:TJ Lokomotiva Břeclav\, Veslařská 2753 Břeclav
SUMMARY:2-U20Z-E: Břeclav-Vyškov
END:VEVENT
BEGIN:VEVENT
UID:65346133-3039-4162-b962-396535646133
DTSTAMP:20260422T001357Z
DESCRIPTION:10/29 Břeclav - Vyškov 1:3 (-15\,24\,-23\,-23)
DTSTART;TZID=Europe/Berlin:20241027T140000
DTEND;TZID=Europe/Berlin:20241027T160000
LOCATION:TJ Lokomotiva Břeclav\, Veslařská 2753 Břeclav
SUMMARY:2-U20Z-E: Břeclav-Vyškov
END:VEVENT
BEGIN:VEVENT
UID:62633234-6263-4134-b636-313135623134
DTSTAMP:20260422T001357Z
DESCRIPTION:11/32 Kojetín - Vyškov 3:0 (17\,20\,13)
DTSTART;TZID=Europe/Berlin:20250105T100000
DTEND;TZID=Europe/Berlin:20250105T120000
LOCATION:Městská sportovní hala\, Hanusíkova 1476 Kojetín - Kojetín I-Město
SUMMARY:2-U20Z-E: Kojetín-Vyškov
END:VEVENT
BEGIN:VEVENT
UID:66666436-6537-4530-a464-363339616365
DTSTAMP:20260422T001357Z
DESCRIPTION:12/35 Kojetín - Vyškov 3:0 (20\,20\,18)
DTSTART;TZID=Europe/Berlin:20250105T140000
DTEND;TZID=Europe/Berlin:20250105T160000
LOCATION:Městská sportovní hala\, Hanusíkova 1476 Kojetín - Kojetín I-Město
SUMMARY:2-U20Z-E: Kojetín-Vyškov
END:VEVENT
BEGIN:VEVENT
UID:65356662-6161-4563-a132-613161313064
DTSTAMP:20260422T001357Z
DESCRIPTION:15/43 Valašské Meziříčí - Vyškov 0:3 (-21\,-17\,-20)
DTSTART;TZID=Europe/Berlin:20241208T100000
DTEND;TZID=Europe/Berlin:20241208T120000
LOCATION:ZŠ Šafaříkova\, Šafaříkova 726 Valašské Meziříčí
SUMMARY:2-U20Z-E: Valašské Meziříčí-Vyškov
END:VEVENT
BEGIN:VEVENT
UID:62396234-3433-4936-a336-386535623437
DTSTAMP:20260422T001357Z
DESCRIPTION:16/46 Valašské Meziříčí - Vyškov 2:3 (22\,23\,-19\,-16\,-12)
DTSTART;TZID=Europe/Berlin:20241208T140000
DTEND;TZID=Europe/Berlin:20241208T160000
LOCATION:ZŠ Šafaříkova\, Šafaříkova 726 Valašské Meziříčí
SUMMARY:2-U20Z-E: Valašské Meziříčí-Vyškov
END:VEVENT
BEGIN:VEVENT
UID:30663739-3937-4166-b265-393037353130
DTSTAMP:20260422T001357Z
DESCRIPTION:17/51 Uherské Hradiště - Vyškov 1:3 (-13\,-19\,14\,-16)
DTSTART;TZID=Europe/Berlin:20250118T100000
DTEND;TZID=Europe/Berlin:20250118T120000
LOCATION:Městská sportovní hala\, Stonky 860 Uherské Hradiště
SUMMARY:2-U20Z-E: Uherské Hradiště-Vyškov
END:VEVENT
BEGIN:VEVENT
UID:63303230-3561-4932-a131-383933663462
DTSTAMP:20260422T001357Z
DESCRIPTION:18/54 Uherské Hradiště - Vyškov 0:3 (-12\,-20\,-22)
DTSTART;TZID=Europe/Berlin:20250118T140000
DTEND;TZID=Europe/Berlin:20250118T160000
LOCATION:Městská sportovní hala\, Stonky 860 Uherské Hradiště
SUMMARY:2-U20Z-E: Uherské Hradiště-Vyškov
END:VEVENT
BEGIN:VEVENT
UID:63343730-3437-4831-a131-393061653032
DTSTAMP:20260422T001357Z
DESCRIPTION:1/1 Vyškov - UP Olomouc 3:1 (15\,15\,-15\,16)
DTSTART;TZID=Europe/Berlin:20250130T174500
DTEND;TZID=Europe/Berlin:20250130T194500
LOCATION:Tělocvična ZŠ Nádražní\, Nádražní 5 Vyškov - Vyškov-Město
SUMMARY:2-U20Z-P: Vyškov-UP Olomouc
END:VEVENT
BEGIN:VEVENT
UID:39303131-6136-4961-a336-633563313765
DTSTAMP:20260422T001357Z
DESCRIPTION:2/4 Vyškov - UP Olomouc 3:0 (6\,21\,18)
DTSTART;TZID=Europe/Berlin:20250130T194500
DTEND;TZID=Europe/Berlin:20250130T214500
LOCATION:Tělocvična ZŠ Nádražní\, Nádražní 5 Vyškov - Vyškov-Město
SUMMARY:2-U20Z-P: Vyškov-UP Olomouc
END:VEVENT
BEGIN:VEVENT
UID:65666236-6462-4833-a266-353062623831
DTSTAMP:20260422T001357Z
DESCRIPTION:5/13 Vyškov - Nový Jičín 3:1 (21\,16\,-21\,24)
DTSTART;TZID=Europe/Berlin:20250309T100000
DTEND;TZID=Europe/Berlin:20250309T120000
LOCATION:Tělocvična ZŠ Nádražní\, Nádražní 5 Vyškov - Vyškov-Město
SUMMARY:2-U20Z-P: Vyškov-Nový Jičín
END:VEVENT
BEGIN:VEVENT
UID:61356462-3963-4661-a132-303235303834
DTSTAMP:20260422T001357Z
DESCRIPTION:6/16 Vyškov - Nový Jičín 1:3 (17\,-22\,-13\,-24)
DTSTART;TZID=Europe/Berlin:20250309T140000
DTEND;TZID=Europe/Berlin:20250309T160000
LOCATION:Tělocvična ZŠ Nádražní\, Nádražní 5 Vyškov - Vyškov-Město
SUMMARY:2-U20Z-P: Vyškov-Nový Jičín
END:VEVENT
BEGIN:VEVENT
UID:33653838-3364-4136-b864-633936363131
DTSTAMP:20260422T001357Z
DESCRIPTION:9/25 Vyškov - Ostrava B 3:0 (19\,19\,16)
DTSTART;TZID=Europe/Berlin:20250330T100000
DTEND;TZID=Europe/Berlin:20250330T120000
LOCATION:Tělocvična ZŠ Nádražní\, Nádražní 5 Vyškov - Vyškov-Město
SUMMARY:2-U20Z-P: Vyškov-Ostrava B
END:VEVENT
BEGIN:VEVENT
UID:35373330-3233-4330-b565-396566636161
DTSTAMP:20260422T001357Z
DESCRIPTION:10/28 Vyškov - Ostrava B 2:3 (15\,-11\,22\,-24\,-12)
DTSTART;TZID=Europe/Berlin:20250330T140000
DTEND;TZID=Europe/Berlin:20250330T160000
LOCATION:Tělocvična ZŠ Nádražní\, Nádražní 5 Vyškov - Vyškov-Město
SUMMARY:2-U20Z-P: Vyškov-Ostrava B
END:VEVENT
BEGIN:VEVENT
UID:65393335-3065-4937-b462-333038636566
DTSTAMP:20260422T001357Z
DESCRIPTION:3/7 Ostrava B - Vyškov 0:3 (-17\,-13\,-24)
DTSTART;TZID=Europe/Berlin:20250405T100000
DTEND;TZID=Europe/Berlin:20250405T120000
LOCATION:Tělocvična ZŠ Gen. Píky \, Gen. Píky 2975 Ostrava - Moravská Ostra
 va
SUMMARY:2-U20Z-P: Ostrava B-Vyškov
END:VEVENT
BEGIN:VEVENT
UID:62663938-3235-4637-b565-623935313634
DTSTAMP:20260422T001357Z
DESCRIPTION:4/10 Ostrava B - Vyškov 0:3 (-13\,-11\,-20)
DTSTART;TZID=Europe/Berlin:20250405T140000
DTEND;TZID=Europe/Berlin:20250405T160000
LOCATION:Tělocvična ZŠ Gen. Píky \, Gen. Píky 2975 Ostrava - Moravská Ostra
 va
SUMMARY:2-U20Z-P: Ostrava B-Vyškov
END:VEVENT
BEGIN:VEVENT
UID:37663239-3963-4332-b830-373934386562
DTSTAMP:20260422T001357Z
DESCRIPTION:7/19 UP Olomouc - Vyškov 3:0 (21\,12\,22)
DTSTART;TZID=Europe/Berlin:20250327T173000
DTEND;TZID=Europe/Berlin:20250327T193000
LOCATION:UP Olomouc\, U sportovní haly 38 Olomouc - Lazce
SUMMARY:2-U20Z-P: UP Olomouc-Vyškov
END:VEVENT
BEGIN:VEVENT
UID:39653234-6537-4538-a237-643335663234
DTSTAMP:20260422T001357Z
DESCRIPTION:8/22 UP Olomouc - Vyškov 3:0 (23\,23\,25)
DTSTART;TZID=Europe/Berlin:20250327T200000
DTEND;TZID=Europe/Berlin:20250327T220000
LOCATION:UP Olomouc\, U sportovní haly 38 Olomouc - Lazce
SUMMARY:2-U20Z-P: UP Olomouc-Vyškov
END:VEVENT
BEGIN:VEVENT
UID:36346633-3636-4930-a132-613861643432
DTSTAMP:20260422T001357Z
DESCRIPTION:11/31 Nový Jičín - Vyškov 3:2 (-18\,20\,-22\,23\,4)
DTSTART;TZID=Europe/Berlin:20250406T100000
DTEND;TZID=Europe/Berlin:20250406T120000
LOCATION:Tělocvična Msgr. Šrámka\, Msgr. Šrámka 1105 Nový Jičín
SUMMARY:2-U20Z-P: Nový Jičín-Vyškov
END:VEVENT
BEGIN:VEVENT
UID:37343838-6239-4264-a335-366661616130
DTSTAMP:20260422T001357Z
DESCRIPTION:12/34 Nový Jičín - Vyškov 3:2 (-17\,17\,-19\,22\,12)
DTSTART;TZID=Europe/Berlin:20250406T140000
DTEND;TZID=Europe/Berlin:20250406T160000
LOCATION:Tělocvična Msgr. Šrámka\, Msgr. Šrámka 1105 Nový Jičín
SUMMARY:2-U20Z-P: Nový Jičín-Vyškov
END:VEVENT
END:VCALENDAR
