BEGIN:VCALENDAR
VERSION:2.0
PRODID:-//TJ Sokol Frýdek - Místek B86040//NONSGML kigkonsult.se iCalcreator 2.41.80//
CALSCALE:GREGORIAN
UID:38326230-3139-4239-a133-333633666139
BEGIN:VEVENT
UID:61666332-3433-4365-b061-626338636138
DTSTAMP:20260422T034533Z
DESCRIPTION:3/7 Frýdek - Místek B - Ostrava B 1:3 (-23\,19\,-10\,-18)
DTSTART;TZID=Europe/Berlin:20240929T100000
DTEND;TZID=Europe/Berlin:20240929T120000
LOCATION:Sokolovna Frýdek-Místek\, Novodvorská 667 Frýdek-Místek - Frýdek
SUMMARY:2-U20Z-F: Frýdek - Místek B-Ostrava B
END:VEVENT
BEGIN:VEVENT
UID:39303562-3461-4132-b466-323039363236
DTSTAMP:20260422T034533Z
DESCRIPTION:4/10 Frýdek - Místek B - Ostrava B 3:0 (21\,22\,16)
DTSTART;TZID=Europe/Berlin:20240929T140000
DTEND;TZID=Europe/Berlin:20240929T160000
LOCATION:Sokolovna Frýdek-Místek\, Novodvorská 667 Frýdek-Místek - Frýdek
SUMMARY:2-U20Z-F: Frýdek - Místek B-Ostrava B
END:VEVENT
BEGIN:VEVENT
UID:65346538-6536-4632-b361-353766346638
DTSTAMP:20260422T034533Z
DESCRIPTION:7/19 Frýdek - Místek B - VAM Olomouc 0:3 (-14\,-19\,-19)
DTSTART;TZID=Europe/Berlin:20241013T100000
DTEND;TZID=Europe/Berlin:20241013T120000
LOCATION:Sokolovna Frýdek-Místek\, Novodvorská 667 Frýdek-Místek - Frýdek
SUMMARY:2-U20Z-F: Frýdek - Místek B-VAM Olomouc
END:VEVENT
BEGIN:VEVENT
UID:30346331-3863-4761-b965-373733636231
DTSTAMP:20260422T034533Z
DESCRIPTION:8/22 Frýdek - Místek B - VAM Olomouc 0:3 (-21\,-18\,-10)
DTSTART;TZID=Europe/Berlin:20241013T140000
DTEND;TZID=Europe/Berlin:20241013T160000
LOCATION:Sokolovna Frýdek-Místek\, Novodvorská 667 Frýdek-Místek - Frýdek
SUMMARY:2-U20Z-F: Frýdek - Místek B-VAM Olomouc
END:VEVENT
BEGIN:VEVENT
UID:32653932-3634-4232-b535-393465353965
DTSTAMP:20260422T034533Z
DESCRIPTION:11/31 Frýdek - Místek B - Opava 3:0 (19\,21\,20)
DTSTART;TZID=Europe/Berlin:20241110T100000
DTEND;TZID=Europe/Berlin:20241110T120000
LOCATION:Sokolovna Frýdek-Místek\, Novodvorská 667 Frýdek-Místek - Frýdek
SUMMARY:2-U20Z-F: Frýdek - Místek B-Opava
END:VEVENT
BEGIN:VEVENT
UID:34623262-3137-4132-b665-623334353038
DTSTAMP:20260422T034533Z
DESCRIPTION:12/34 Frýdek - Místek B - Opava 1:3 (-17\,17\,-17\,-16)
DTSTART;TZID=Europe/Berlin:20241110T140000
DTEND;TZID=Europe/Berlin:20241110T160000
LOCATION:Sokolovna Frýdek-Místek\, Novodvorská 667 Frýdek-Místek - Frýdek
SUMMARY:2-U20Z-F: Frýdek - Místek B-Opava
END:VEVENT
BEGIN:VEVENT
UID:66333439-6130-4631-b162-396238373835
DTSTAMP:20260422T034533Z
DESCRIPTION:15/43 Frýdek - Místek B - UP Olomouc 3:0 (17\,12\,19)
DTSTART;TZID=Europe/Berlin:20241208T100000
DTEND;TZID=Europe/Berlin:20241208T120000
LOCATION:Sokolovna Frýdek-Místek\, Novodvorská 667 Frýdek-Místek - Frýdek
SUMMARY:2-U20Z-F: Frýdek - Místek B-UP Olomouc
END:VEVENT
BEGIN:VEVENT
UID:65326666-6361-4638-b363-343133336366
DTSTAMP:20260422T034533Z
DESCRIPTION:16/46 Frýdek - Místek B - UP Olomouc 3:0 (16\,11\,14)
DTSTART;TZID=Europe/Berlin:20241208T140000
DTEND;TZID=Europe/Berlin:20241208T160000
LOCATION:Sokolovna Frýdek-Místek\, Novodvorská 667 Frýdek-Místek - Frýdek
SUMMARY:2-U20Z-F: Frýdek - Místek B-UP Olomouc
END:VEVENT
BEGIN:VEVENT
UID:30303934-6565-4330-b331-383065303636
DTSTAMP:20260422T034533Z
DESCRIPTION:19/55 Frýdek - Místek B - Nový Jičín 3:0 (18\,20\,20)
DTSTART;TZID=Europe/Berlin:20250119T100000
DTEND;TZID=Europe/Berlin:20250119T120000
LOCATION:Sokolovna Frýdek-Místek\, Novodvorská 667 Frýdek-Místek - Frýdek
SUMMARY:2-U20Z-F: Frýdek - Místek B-Nový Jičín
END:VEVENT
BEGIN:VEVENT
UID:39306338-3562-4339-b863-383961663964
DTSTAMP:20260422T034533Z
DESCRIPTION:20/58 Frýdek - Místek B - Nový Jičín 3:0 (14\,21\,23)
DTSTART;TZID=Europe/Berlin:20250119T140000
DTEND;TZID=Europe/Berlin:20250119T160000
LOCATION:Sokolovna Frýdek-Místek\, Novodvorská 667 Frýdek-Místek - Frýdek
SUMMARY:2-U20Z-F: Frýdek - Místek B-Nový Jičín
END:VEVENT
BEGIN:VEVENT
UID:37303466-3934-4835-b636-313561663362
DTSTAMP:20260422T034533Z
DESCRIPTION:1/1 Opava - Frýdek - Místek B 1:3 (-21\,17\,-22\,-16)
DTSTART;TZID=Europe/Berlin:20241117T100000
DTEND;TZID=Europe/Berlin:20241117T120000
LOCATION:Sportovní hala Obchodní akademie\, Hany Kvapilové 1656 Opava - Pře
 dměstí
SUMMARY:2-U20Z-F: Opava-Frýdek - Místek B
END:VEVENT
BEGIN:VEVENT
UID:65633534-6234-4239-b436-623034373037
DTSTAMP:20260422T034533Z
DESCRIPTION:2/4 Opava - Frýdek - Místek B 3:0 (23\,18\,22)
DTSTART;TZID=Europe/Berlin:20241117T140000
DTEND;TZID=Europe/Berlin:20241117T160000
LOCATION:Sportovní hala Obchodní akademie\, Hany Kvapilové 1656 Opava - Pře
 dměstí
SUMMARY:2-U20Z-F: Opava-Frýdek - Místek B
END:VEVENT
BEGIN:VEVENT
UID:32613864-3236-4663-a663-323432623865
DTSTAMP:20260422T034533Z
DESCRIPTION:5/13 UP Olomouc - Frýdek - Místek B 3:0 (19\,24\,19)
DTSTART;TZID=Europe/Berlin:20241006T090000
DTEND;TZID=Europe/Berlin:20241006T110000
LOCATION:UP Olomouc\, U sportovní haly 38 Olomouc - Lazce
SUMMARY:2-U20Z-F: UP Olomouc-Frýdek - Místek B
END:VEVENT
BEGIN:VEVENT
UID:62656638-3264-4362-b866-333862303534
DTSTAMP:20260422T034533Z
DESCRIPTION:6/16 UP Olomouc - Frýdek - Místek B 0:3 (-15\,-18\,-20)
DTSTART;TZID=Europe/Berlin:20241006T130000
DTEND;TZID=Europe/Berlin:20241006T150000
LOCATION:UP Olomouc\, U sportovní haly 38 Olomouc - Lazce
SUMMARY:2-U20Z-F: UP Olomouc-Frýdek - Místek B
END:VEVENT
BEGIN:VEVENT
UID:32656539-3036-4464-a439-353134346635
DTSTAMP:20260422T034533Z
DESCRIPTION:9/25 Nový Jičín - Frýdek - Místek B 0:3 (-18\,-22\,-11)
DTSTART;TZID=Europe/Berlin:20241027T100000
DTEND;TZID=Europe/Berlin:20241027T120000
LOCATION:Hala ABC\, Purkyňova 116 Nový Jičín
SUMMARY:2-U20Z-F: Nový Jičín-Frýdek - Místek B
END:VEVENT
BEGIN:VEVENT
UID:34393165-3138-4662-b637-623035316562
DTSTAMP:20260422T034533Z
DESCRIPTION:10/28 Nový Jičín - Frýdek - Místek B 0:3 (-10\,-18\,-13)
DTSTART;TZID=Europe/Berlin:20241027T140000
DTEND;TZID=Europe/Berlin:20241027T160000
LOCATION:Hala ABC\, Purkyňova 116 Nový Jičín
SUMMARY:2-U20Z-F: Nový Jičín-Frýdek - Místek B
END:VEVENT
BEGIN:VEVENT
UID:66313830-6137-4434-a337-353162333332
DTSTAMP:20260422T034533Z
DESCRIPTION:13/37 Ostrava B - Frýdek - Místek B 3:2 (23\,-23\,-17\,19\,8)
DTSTART;TZID=Europe/Berlin:20241201T100000
DTEND;TZID=Europe/Berlin:20241201T120000
LOCATION:Tělocvična ZŠ Gen. Píky \, Gen. Píky 2975 Ostrava - Moravská Ostra
 va
SUMMARY:2-U20Z-F: Ostrava B-Frýdek - Místek B
END:VEVENT
BEGIN:VEVENT
UID:61346366-6630-4066-a338-613331376536
DTSTAMP:20260422T034533Z
DESCRIPTION:14/40 Ostrava B - Frýdek - Místek B 0:3 (-9\,-22\,-20)
DTSTART;TZID=Europe/Berlin:20241201T140000
DTEND;TZID=Europe/Berlin:20241201T160000
LOCATION:Tělocvična ZŠ Gen. Píky \, Gen. Píky 2975 Ostrava - Moravská Ostra
 va
SUMMARY:2-U20Z-F: Ostrava B-Frýdek - Místek B
END:VEVENT
BEGIN:VEVENT
UID:33353036-6461-4262-b435-353262336666
DTSTAMP:20260422T034533Z
DESCRIPTION:17/49 VAM Olomouc - Frýdek - Místek B 3:2 (13\,20\,-19\,-22\,13
 )
DTSTART;TZID=Europe/Berlin:20250112T100000
DTEND;TZID=Europe/Berlin:20250112T120000
LOCATION:VOŠ a SPŠE Olomouc\, Božetěchova 755 Olomouc - Hodolany
SUMMARY:2-U20Z-F: VAM Olomouc-Frýdek - Místek B
END:VEVENT
BEGIN:VEVENT
UID:63373632-6233-4235-b261-653533316139
DTSTAMP:20260422T034533Z
DESCRIPTION:18/52 VAM Olomouc - Frýdek - Místek B 3:0 (9\,15\,19)
DTSTART;TZID=Europe/Berlin:20250112T140000
DTEND;TZID=Europe/Berlin:20250112T160000
LOCATION:VOŠ a SPŠE Olomouc\, Božetěchova 755 Olomouc - Hodolany
SUMMARY:2-U20Z-F: VAM Olomouc-Frýdek - Místek B
END:VEVENT
BEGIN:VEVENT
UID:61636234-3761-4632-b066-346136643035
DTSTAMP:20260422T034533Z
DESCRIPTION:3/9 Frýdek - Místek B - Zlín 0:3 (-13\,-18\,-22)
DTSTART;TZID=Europe/Berlin:20250209T100000
DTEND;TZID=Europe/Berlin:20250209T120000
LOCATION:Sokolovna Frýdek-Místek\, Novodvorská 667 Frýdek-Místek - Frýdek
SUMMARY:2-U20Z-III: Frýdek - Místek B-Zlín
END:VEVENT
BEGIN:VEVENT
UID:66396663-3230-4864-b536-326131666163
DTSTAMP:20260422T034533Z
DESCRIPTION:4/12 Frýdek - Místek B - Zlín 1:3 (-20\,22\,-8\,-21)
DTSTART;TZID=Europe/Berlin:20250209T140000
DTEND;TZID=Europe/Berlin:20250209T160000
LOCATION:Sokolovna Frýdek-Místek\, Novodvorská 667 Frýdek-Místek - Frýdek
SUMMARY:2-U20Z-III: Frýdek - Místek B-Zlín
END:VEVENT
BEGIN:VEVENT
UID:38373361-3864-4463-a463-623530383233
DTSTAMP:20260422T034533Z
DESCRIPTION:7/19 Frýdek - Místek B - Valašské Meziříčí 0:3 (-24\,-18\,-18)
DTSTART;TZID=Europe/Berlin:20250316T100000
DTEND;TZID=Europe/Berlin:20250316T120000
LOCATION:Sokolovna Frýdek-Místek\, Novodvorská 667 Frýdek-Místek - Frýdek
SUMMARY:2-U20Z-III: Frýdek - Místek B-Valašské Meziříčí
END:VEVENT
BEGIN:VEVENT
UID:39663932-6262-4235-b739-616364383033
DTSTAMP:20260422T034533Z
DESCRIPTION:8/22 Frýdek - Místek B - Valašské Meziříčí 0:3 (-13\,-15\,-16)
DTSTART;TZID=Europe/Berlin:20250316T140000
DTEND;TZID=Europe/Berlin:20250316T160000
LOCATION:Sokolovna Frýdek-Místek\, Novodvorská 667 Frýdek-Místek - Frýdek
SUMMARY:2-U20Z-III: Frýdek - Místek B-Valašské Meziříčí
END:VEVENT
BEGIN:VEVENT
UID:39393865-6132-4538-b664-653134396632
DTSTAMP:20260422T034533Z
DESCRIPTION:11/32 Frýdek - Místek B - Kojetín 3:0 (22\,22\,20)
DTSTART;TZID=Europe/Berlin:20250406T100000
DTEND;TZID=Europe/Berlin:20250406T120000
LOCATION:Sokolovna Frýdek-Místek\, Novodvorská 667 Frýdek-Místek - Frýdek
SUMMARY:2-U20Z-III: Frýdek - Místek B-Kojetín
END:VEVENT
BEGIN:VEVENT
UID:34346537-6263-4464-a661-626561346239
DTSTAMP:20260422T034533Z
DESCRIPTION:12/35 Frýdek - Místek B - Kojetín 3:1 (7\,16\,-16\,16)
DTSTART;TZID=Europe/Berlin:20250406T140000
DTEND;TZID=Europe/Berlin:20250406T160000
LOCATION:Sokolovna Frýdek-Místek\, Novodvorská 667 Frýdek-Místek - Frýdek
SUMMARY:2-U20Z-III: Frýdek - Místek B-Kojetín
END:VEVENT
BEGIN:VEVENT
UID:34663361-3132-4665-a162-636139303631
DTSTAMP:20260422T034533Z
DESCRIPTION:1/1 Valašské Meziříčí - Frýdek - Místek B 3:0 (11\,12\,14)
DTSTART;TZID=Europe/Berlin:20250202T100000
DTEND;TZID=Europe/Berlin:20250202T120000
LOCATION:ZŠ Šafaříkova\, Šafaříkova 726 Valašské Meziříčí
SUMMARY:2-U20Z-III: Valašské Meziříčí-Frýdek - Místek B
END:VEVENT
BEGIN:VEVENT
UID:65353736-3062-4535-a464-616634303234
DTSTAMP:20260422T034533Z
DESCRIPTION:2/4 Valašské Meziříčí - Frýdek - Místek B 3:0 (14\,15\,25)
DTSTART;TZID=Europe/Berlin:20250202T140000
DTEND;TZID=Europe/Berlin:20250202T160000
LOCATION:ZŠ Šafaříkova\, Šafaříkova 726 Valašské Meziříčí
SUMMARY:2-U20Z-III: Valašské Meziříčí-Frýdek - Místek B
END:VEVENT
BEGIN:VEVENT
UID:65373237-6230-4936-b563-646264346633
DTSTAMP:20260422T034533Z
DESCRIPTION:5/14 Kojetín - Frýdek - Místek B 3:1 (24\,7\,-23\,22)
DTSTART;TZID=Europe/Berlin:20250302T100000
DTEND;TZID=Europe/Berlin:20250302T120000
LOCATION:Městská sportovní hala\, Hanusíkova 1476 Kojetín - Kojetín I-Město
SUMMARY:2-U20Z-III: Kojetín-Frýdek - Místek B
END:VEVENT
BEGIN:VEVENT
UID:62666434-6536-4438-b036-366133303332
DTSTAMP:20260422T034533Z
DESCRIPTION:6/17 Kojetín - Frýdek - Místek B 1:3 (23\,-21\,-13\,-21)
DTSTART;TZID=Europe/Berlin:20250302T140000
DTEND;TZID=Europe/Berlin:20250302T160000
LOCATION:Městská sportovní hala\, Hanusíkova 1476 Kojetín - Kojetín I-Město
SUMMARY:2-U20Z-III: Kojetín-Frýdek - Místek B
END:VEVENT
BEGIN:VEVENT
UID:37323332-3933-4862-b261-336362343133
DTSTAMP:20260422T034533Z
DESCRIPTION:9/27 Zlín - Frýdek - Místek B 3:0 (15\,13\,21)
DTSTART;TZID=Europe/Berlin:20250330T100000
DTEND;TZID=Europe/Berlin:20250330T120000
LOCATION:Sportovní hala Datart Zlín\, U Zimního stadionu 4286 Zlín
SUMMARY:2-U20Z-III: Zlín-Frýdek - Místek B
END:VEVENT
BEGIN:VEVENT
UID:64303839-6539-4139-b533-323439646134
DTSTAMP:20260422T034533Z
DESCRIPTION:10/30 Zlín - Frýdek - Místek B 3:0 (18\,15\,15)
DTSTART;TZID=Europe/Berlin:20250330T140000
DTEND;TZID=Europe/Berlin:20250330T160000
LOCATION:Sportovní hala Datart Zlín\, U Zimního stadionu 4286 Zlín
SUMMARY:2-U20Z-III: Zlín-Frýdek - Místek B
END:VEVENT
END:VCALENDAR
