BEGIN:VCALENDAR
VERSION:2.0
PRODID:-//NEVOGA Znojmo86041//NONSGML kigkonsult.se iCalcreator 2.41.80//
CALSCALE:GREGORIAN
UID:30303338-3561-4166-a536-386639326665
BEGIN:VEVENT
UID:36653431-3335-4334-a562-626633373331
DTSTAMP:20260422T010258Z
DESCRIPTION:1/1 Znojmo - KP Brno B 0:3 (-24\,-23\,-19)
DTSTART;TZID=Europe/Berlin:20240915T100000
DTEND;TZID=Europe/Berlin:20240915T120000
LOCATION:Gymnázium Dr. Karla Polesného\, náměstí Komenského 945 Znojmo
SUMMARY:2-U20Z-D: Znojmo-KP Brno B
END:VEVENT
BEGIN:VEVENT
UID:61396534-6563-4534-b866-303030383564
DTSTAMP:20260422T010258Z
DESCRIPTION:2/4 Znojmo - KP Brno B 3:0 (20\,15\,17)
DTSTART;TZID=Europe/Berlin:20240915T140000
DTEND;TZID=Europe/Berlin:20240915T160000
LOCATION:Gymnázium Dr. Karla Polesného\, náměstí Komenského 945 Znojmo
SUMMARY:2-U20Z-D: Znojmo-KP Brno B
END:VEVENT
BEGIN:VEVENT
UID:33643336-6165-4535-b430-313836316163
DTSTAMP:20260422T010258Z
DESCRIPTION:3/7 Znojmo - Třebíč 1:3 (-23\,24\,-22\,-24)
DTSTART;TZID=Europe/Berlin:20240929T100000
DTEND;TZID=Europe/Berlin:20240929T120000
LOCATION:Gymnázium Dr. Karla Polesného\, náměstí Komenského 945 Znojmo
SUMMARY:2-U20Z-D: Znojmo-Třebíč
END:VEVENT
BEGIN:VEVENT
UID:35383336-3161-4563-b962-303166636532
DTSTAMP:20260422T010258Z
DESCRIPTION:4/10 Znojmo - Třebíč 3:0 (23\,15\,19)
DTSTART;TZID=Europe/Berlin:20240929T140000
DTEND;TZID=Europe/Berlin:20240929T160000
LOCATION:Gymnázium Dr. Karla Polesného\, náměstí Komenského 945 Znojmo
SUMMARY:2-U20Z-D: Znojmo-Třebíč
END:VEVENT
BEGIN:VEVENT
UID:38623363-3162-4864-b337-376462326564
DTSTAMP:20260422T010258Z
DESCRIPTION:7/19 Znojmo - Svitavy 3:2 (16\,-15\,-16\,26\,7)
DTSTART;TZID=Europe/Berlin:20241013T100000
DTEND;TZID=Europe/Berlin:20241013T120000
LOCATION:Gymnázium Dr. Karla Polesného\, náměstí Komenského 945 Znojmo
SUMMARY:2-U20Z-D: Znojmo-Svitavy
END:VEVENT
BEGIN:VEVENT
UID:34373830-3834-4731-b861-336135323530
DTSTAMP:20260422T010258Z
DESCRIPTION:8/22 Znojmo - Svitavy 3:1 (17\,16\,-20\,13)
DTSTART;TZID=Europe/Berlin:20241013T140000
DTEND;TZID=Europe/Berlin:20241013T160000
LOCATION:Gymnázium Dr. Karla Polesného\, náměstí Komenského 945 Znojmo
SUMMARY:2-U20Z-D: Znojmo-Svitavy
END:VEVENT
BEGIN:VEVENT
UID:37333533-3830-4964-b062-323637663434
DTSTAMP:20260422T010258Z
DESCRIPTION:15/43 Znojmo - Tábor 3:0 (7\,18\,25)
DTSTART;TZID=Europe/Berlin:20241208T100000
DTEND;TZID=Europe/Berlin:20241208T120000
LOCATION:Gymnázium Dr. Karla Polesného\, náměstí Komenského 945 Znojmo
SUMMARY:2-U20Z-D: Znojmo-Tábor
END:VEVENT
BEGIN:VEVENT
UID:64616363-6139-4535-b164-376265333063
DTSTAMP:20260422T010258Z
DESCRIPTION:16/46 Znojmo - Tábor 3:0 (10\,17\,16)
DTSTART;TZID=Europe/Berlin:20241208T140000
DTEND;TZID=Europe/Berlin:20241208T160000
LOCATION:Gymnázium Dr. Karla Polesného\, náměstí Komenského 945 Znojmo
SUMMARY:2-U20Z-D: Znojmo-Tábor
END:VEVENT
BEGIN:VEVENT
UID:36626330-3730-4638-a461-393533646366
DTSTAMP:20260422T010258Z
DESCRIPTION:19/55 Znojmo - Junior 3:0 (19\,16\,21)
DTSTART;TZID=Europe/Berlin:20250119T100000
DTEND;TZID=Europe/Berlin:20250119T120000
LOCATION:Gymnázium Dr. Karla Polesného\, náměstí Komenského 945 Znojmo
SUMMARY:2-U20Z-D: Znojmo-Junior
END:VEVENT
BEGIN:VEVENT
UID:31346439-3262-4862-b935-666234366663
DTSTAMP:20260422T010258Z
DESCRIPTION:20/58 Znojmo - Junior 3:0 (15\,9\,18)
DTSTART;TZID=Europe/Berlin:20250119T140000
DTEND;TZID=Europe/Berlin:20250119T160000
LOCATION:Gymnázium Dr. Karla Polesného\, náměstí Komenského 945 Znojmo
SUMMARY:2-U20Z-D: Znojmo-Junior
END:VEVENT
BEGIN:VEVENT
UID:31343832-3963-4434-b063-323734656333
DTSTAMP:20260422T010258Z
DESCRIPTION:5/13 Tábor - Znojmo 1:3 (-21\,26\,-21\,-23)
DTSTART;TZID=Europe/Berlin:20241006T100000
DTEND;TZID=Europe/Berlin:20241006T120000
LOCATION:Sportovní hala Kvapilova\, Kvapilova 2419 Tábor
SUMMARY:2-U20Z-D: Tábor-Znojmo
END:VEVENT
BEGIN:VEVENT
UID:39393734-3664-4664-b566-663461663765
DTSTAMP:20260422T010258Z
DESCRIPTION:6/16 Tábor - Znojmo 1:3 (-14\,18\,-19\,-24)
DTSTART;TZID=Europe/Berlin:20241006T140000
DTEND;TZID=Europe/Berlin:20241006T160000
LOCATION:Sportovní hala Kvapilova\, Kvapilova 2419 Tábor
SUMMARY:2-U20Z-D: Tábor-Znojmo
END:VEVENT
BEGIN:VEVENT
UID:31306661-3932-4734-b463-653163613666
DTSTAMP:20260422T010258Z
DESCRIPTION:9/25 Junior - Znojmo 1:3 (-14\,-13\,19\,-16)
DTSTART;TZID=Europe/Berlin:20241123T110000
DTEND;TZID=Europe/Berlin:20241123T130000
LOCATION:ZŠ Holzova 1\, Holzova 1461 Brno - Líšeň
SUMMARY:2-U20Z-D: Junior-Znojmo
END:VEVENT
BEGIN:VEVENT
UID:31633465-3435-4130-b337-376338323338
DTSTAMP:20260422T010258Z
DESCRIPTION:10/28 Junior - Znojmo 0:3 (-8\,-13\,-11)
DTSTART;TZID=Europe/Berlin:20241123T140000
DTEND;TZID=Europe/Berlin:20241123T160000
LOCATION:ZŠ Holzova 1\, Holzova 1461 Brno - Líšeň
SUMMARY:2-U20Z-D: Junior-Znojmo
END:VEVENT
BEGIN:VEVENT
UID:34333361-6463-4663-a562-313733666235
DTSTAMP:20260422T010258Z
DESCRIPTION:11/31 KP Brno B - Znojmo 3:1 (16\,23\,-18\,23)
DTSTART;TZID=Europe/Berlin:20241110T110000
DTEND;TZID=Europe/Berlin:20241110T130000
LOCATION:Sportovní gymnázium Ludvíka Daňka\, Botanická 63 Brno - Ponava
SUMMARY:2-U20Z-D: KP Brno B-Znojmo
END:VEVENT
BEGIN:VEVENT
UID:61333861-6162-4561-b961-363162653266
DTSTAMP:20260422T010258Z
DESCRIPTION:12/34 KP Brno B - Znojmo 3:2 (16\,-24\,24\,-23\,10)
DTSTART;TZID=Europe/Berlin:20241110T150000
DTEND;TZID=Europe/Berlin:20241110T170000
LOCATION:Sportovní gymnázium Ludvíka Daňka\, Botanická 63 Brno - Ponava
SUMMARY:2-U20Z-D: KP Brno B-Znojmo
END:VEVENT
BEGIN:VEVENT
UID:35353138-3831-4463-b464-306162303938
DTSTAMP:20260422T010258Z
DESCRIPTION:13/37 Třebíč - Znojmo 0:3 (-17\,-21\,-24)
DTSTART;TZID=Europe/Berlin:20241201T100000
DTEND;TZID=Europe/Berlin:20241201T120000
LOCATION:hala ZŠ TGM\, Komenského nám. 61 Třebíč - Horka-Domky
SUMMARY:2-U20Z-D: Třebíč-Znojmo
END:VEVENT
BEGIN:VEVENT
UID:32323536-3933-4363-b931-306365653834
DTSTAMP:20260422T010258Z
DESCRIPTION:14/40 Třebíč - Znojmo 1:3 (15\,-23\,-23\,-18)
DTSTART;TZID=Europe/Berlin:20241201T140000
DTEND;TZID=Europe/Berlin:20241201T160000
LOCATION:hala ZŠ TGM\, Komenského nám. 61 Třebíč - Horka-Domky
SUMMARY:2-U20Z-D: Třebíč-Znojmo
END:VEVENT
BEGIN:VEVENT
UID:34623437-6237-4931-a537-393335306165
DTSTAMP:20260422T010258Z
DESCRIPTION:17/49 Svitavy - Znojmo 3:1 (22\,-25\,19\,24)
DTSTART;TZID=Europe/Berlin:20250111T100000
DTEND;TZID=Europe/Berlin:20250111T120000
LOCATION:Sportovní hala Na Střelnici\, Pražská 2162 Svitavy - Předměstí
SUMMARY:2-U20Z-D: Svitavy-Znojmo
END:VEVENT
BEGIN:VEVENT
UID:65646436-3730-4335-b737-616466626136
DTSTAMP:20260422T010258Z
DESCRIPTION:18/52 Svitavy - Znojmo 1:3 (-18\,-17\,17\,-12)
DTSTART;TZID=Europe/Berlin:20250111T140000
DTEND;TZID=Europe/Berlin:20250111T160000
LOCATION:Sportovní hala Na Střelnici\, Pražská 2162 Svitavy - Předměstí
SUMMARY:2-U20Z-D: Svitavy-Znojmo
END:VEVENT
BEGIN:VEVENT
UID:64636630-3737-4838-a332-356339656337
DTSTAMP:20260422T010258Z
DESCRIPTION:3/8 Znojmo - Mikulova 3:0 (20\,24\,36)
DTSTART;TZID=Europe/Berlin:20250322T110000
DTEND;TZID=Europe/Berlin:20250322T130000
LOCATION:Gymnázium Dr. Karla Polesného\, náměstí Komenského 945 Znojmo
SUMMARY:2-U20Z-II: Znojmo-Mikulova
END:VEVENT
BEGIN:VEVENT
UID:33323831-3839-4630-b965-626232363034
DTSTAMP:20260422T010258Z
DESCRIPTION:4/11 Znojmo - Mikulova 1:3 (-23\,21\,-21\,-23)
DTSTART;TZID=Europe/Berlin:20250322T150000
DTEND;TZID=Europe/Berlin:20250322T170000
LOCATION:Gymnázium Dr. Karla Polesného\, náměstí Komenského 945 Znojmo
SUMMARY:2-U20Z-II: Znojmo-Mikulova
END:VEVENT
BEGIN:VEVENT
UID:37363631-3930-4565-b061-646438653737
DTSTAMP:20260422T010258Z
DESCRIPTION:7/21 Znojmo - Meteor 1:3 (20\,-21\,-29\,-20)
DTSTART;TZID=Europe/Berlin:20250316T110000
DTEND;TZID=Europe/Berlin:20250316T130000
LOCATION:Gymnázium Dr. Karla Polesného\, náměstí Komenského 945 Znojmo
SUMMARY:2-U20Z-II: Znojmo-Meteor
END:VEVENT
BEGIN:VEVENT
UID:34333765-6231-4938-a337-316530663337
DTSTAMP:20260422T010258Z
DESCRIPTION:8/24 Znojmo - Meteor 2:3 (-26\,14\,20\,-18\,-17)
DTSTART;TZID=Europe/Berlin:20250316T150000
DTEND;TZID=Europe/Berlin:20250316T170000
LOCATION:Gymnázium Dr. Karla Polesného\, náměstí Komenského 945 Znojmo
SUMMARY:2-U20Z-II: Znojmo-Meteor
END:VEVENT
BEGIN:VEVENT
UID:31363163-3233-4338-b536-656634323739
DTSTAMP:20260422T010258Z
DESCRIPTION:11/31 Znojmo - Slavia Praha 2:3 (25\,-18\,21\,-22\,-12)
DTSTART;TZID=Europe/Berlin:20250406T110000
DTEND;TZID=Europe/Berlin:20250406T130000
LOCATION:Gymnázium Dr. Karla Polesného\, náměstí Komenského 945 Znojmo
SUMMARY:2-U20Z-II: Znojmo-Slavia Praha
END:VEVENT
BEGIN:VEVENT
UID:36306437-3561-4364-b065-363934343365
DTSTAMP:20260422T010258Z
DESCRIPTION:12/34 Znojmo - Slavia Praha 0:3 (-18\,-17\,-21)
DTSTART;TZID=Europe/Berlin:20250406T140000
DTEND;TZID=Europe/Berlin:20250406T160000
LOCATION:Gymnázium Dr. Karla Polesného\, náměstí Komenského 945 Znojmo
SUMMARY:2-U20Z-II: Znojmo-Slavia Praha
END:VEVENT
BEGIN:VEVENT
UID:37353235-3130-4531-b631-393865653437
DTSTAMP:20260422T010258Z
DESCRIPTION:1/3 Meteor - Znojmo 3:0 (23\,12\,18)
DTSTART;TZID=Europe/Berlin:20250329T120000
DTEND;TZID=Europe/Berlin:20250329T140000
LOCATION:ZŠ Žernosecká\, Žernosecká 1597 Praha - Kobylisy
SUMMARY:2-U20Z-II: Meteor-Znojmo
END:VEVENT
BEGIN:VEVENT
UID:39356633-6361-4664-b435-323766623938
DTSTAMP:20260422T010258Z
DESCRIPTION:2/6 Meteor - Znojmo 0:3 (-19\,-17\,-26)
DTSTART;TZID=Europe/Berlin:20250329T160000
DTEND;TZID=Europe/Berlin:20250329T180000
LOCATION:ZŠ Žernosecká\, Žernosecká 1597 Praha - Kobylisy
SUMMARY:2-U20Z-II: Meteor-Znojmo
END:VEVENT
BEGIN:VEVENT
UID:39376638-3434-4936-a165-363566333732
DTSTAMP:20260422T010258Z
DESCRIPTION:5/13 Slavia Praha - Znojmo 3:2 (10\,-16\,11\,-22\,11)
DTSTART;TZID=Europe/Berlin:20250302T110000
DTEND;TZID=Europe/Berlin:20250302T130000
LOCATION:Jana\, Vladivostocká 1460 Praha - Vršovice
SUMMARY:2-U20Z-II: Slavia Praha-Znojmo
END:VEVENT
BEGIN:VEVENT
UID:35333763-3466-4064-b862-633763656234
DTSTAMP:20260422T010258Z
DESCRIPTION:6/16 Slavia Praha - Znojmo 3:0 (22\,19\,15)
DTSTART;TZID=Europe/Berlin:20250302T140000
DTEND;TZID=Europe/Berlin:20250302T160000
LOCATION:Jana\, Vladivostocká 1460 Praha - Vršovice
SUMMARY:2-U20Z-II: Slavia Praha-Znojmo
END:VEVENT
BEGIN:VEVENT
UID:63613438-6539-4761-a134-616332333761
DTSTAMP:20260422T010258Z
DESCRIPTION:9/26 Mikulova - Znojmo 3:1 (-26\,20\,18\,22)
DTSTART;TZID=Europe/Berlin:20250330T100000
DTEND;TZID=Europe/Berlin:20250330T120000
LOCATION:Sportovní hala DDM Praha 12 - Monet\, Herrmannova 2016 Praha - Mod
 řany
SUMMARY:2-U20Z-II: Mikulova-Znojmo
END:VEVENT
BEGIN:VEVENT
UID:66366663-3662-4533-b962-633537323761
DTSTAMP:20260422T010258Z
DESCRIPTION:10/29 Mikulova - Znojmo 3:0 (18\,13\,17)
DTSTART;TZID=Europe/Berlin:20250330T140000
DTEND;TZID=Europe/Berlin:20250330T160000
LOCATION:Sportovní hala DDM Praha 12 - Monet\, Herrmannova 2016 Praha - Mod
 řany
SUMMARY:2-U20Z-II: Mikulova-Znojmo
END:VEVENT
END:VCALENDAR
