BEGIN:VCALENDAR
VERSION:2.0
PRODID:-//VAM Olomouc86049//NONSGML kigkonsult.se iCalcreator 2.41.80//
CALSCALE:GREGORIAN
UID:37646237-3035-4739-b865-616639316233
BEGIN:VEVENT
UID:37316562-6563-4439-b736-613933393166
DTSTAMP:20260422T010254Z
DESCRIPTION:3/8 VAM Olomouc - Nový Jičín 3:0 (12\,16\,15)
DTSTART;TZID=Europe/Berlin:20240929T100000
DTEND;TZID=Europe/Berlin:20240929T120000
LOCATION:VOŠ a SPŠE Olomouc\, Božetěchova 755 Olomouc - Hodolany
SUMMARY:2-U20Z-F: VAM Olomouc-Nový Jičín
END:VEVENT
BEGIN:VEVENT
UID:31666263-3263-4535-b039-343764613663
DTSTAMP:20260422T010254Z
DESCRIPTION:4/11 VAM Olomouc - Nový Jičín 3:0 (13\,18\,15)
DTSTART;TZID=Europe/Berlin:20240929T140000
DTEND;TZID=Europe/Berlin:20240929T160000
LOCATION:VOŠ a SPŠE Olomouc\, Božetěchova 755 Olomouc - Hodolany
SUMMARY:2-U20Z-F: VAM Olomouc-Nový Jičín
END:VEVENT
BEGIN:VEVENT
UID:64333863-3037-4337-a635-363136343130
DTSTAMP:20260422T010254Z
DESCRIPTION:9/27 VAM Olomouc - Opava 3:0 (20\,17\,22)
DTSTART;TZID=Europe/Berlin:20241103T100000
DTEND;TZID=Europe/Berlin:20241103T120000
LOCATION:VOŠ a SPŠE Olomouc\, Božetěchova 755 Olomouc - Hodolany
SUMMARY:2-U20Z-F: VAM Olomouc-Opava
END:VEVENT
BEGIN:VEVENT
UID:62373131-6563-4365-a136-653566363966
DTSTAMP:20260422T010254Z
DESCRIPTION:10/30 VAM Olomouc - Opava 3:0 (24\,17\,12)
DTSTART;TZID=Europe/Berlin:20241103T140000
DTEND;TZID=Europe/Berlin:20241103T160000
LOCATION:VOŠ a SPŠE Olomouc\, Božetěchova 755 Olomouc - Hodolany
SUMMARY:2-U20Z-F: VAM Olomouc-Opava
END:VEVENT
BEGIN:VEVENT
UID:32303465-3135-4336-a430-356466636666
DTSTAMP:20260422T010254Z
DESCRIPTION:11/32 VAM Olomouc - UP Olomouc 3:0 (14\,15\,13)
DTSTART;TZID=Europe/Berlin:20241110T100000
DTEND;TZID=Europe/Berlin:20241110T120000
LOCATION:VOŠ a SPŠE Olomouc\, Božetěchova 755 Olomouc - Hodolany
SUMMARY:2-U20Z-F: VAM Olomouc-UP Olomouc
END:VEVENT
BEGIN:VEVENT
UID:66346566-3564-4866-b465-326235303663
DTSTAMP:20260422T010254Z
DESCRIPTION:12/35 VAM Olomouc - UP Olomouc 3:0 (11\,14\,13)
DTSTART;TZID=Europe/Berlin:20241110T140000
DTEND;TZID=Europe/Berlin:20241110T160000
LOCATION:VOŠ a SPŠE Olomouc\, Božetěchova 755 Olomouc - Hodolany
SUMMARY:2-U20Z-F: VAM Olomouc-UP Olomouc
END:VEVENT
BEGIN:VEVENT
UID:34653862-3134-4837-a266-333865636162
DTSTAMP:20260422T010254Z
DESCRIPTION:15/45 VAM Olomouc - Ostrava B 3:0 (9\,11\,17)
DTSTART;TZID=Europe/Berlin:20241208T100000
DTEND;TZID=Europe/Berlin:20241208T120000
LOCATION:VOŠ a SPŠE Olomouc\, Božetěchova 755 Olomouc - Hodolany
SUMMARY:2-U20Z-F: VAM Olomouc-Ostrava B
END:VEVENT
BEGIN:VEVENT
UID:34343033-6633-4437-a331-303938386338
DTSTAMP:20260422T010254Z
DESCRIPTION:16/48 VAM Olomouc - Ostrava B 3:0 (10\,11\,15)
DTSTART;TZID=Europe/Berlin:20241208T140000
DTEND;TZID=Europe/Berlin:20241208T160000
LOCATION:VOŠ a SPŠE Olomouc\, Božetěchova 755 Olomouc - Hodolany
SUMMARY:2-U20Z-F: VAM Olomouc-Ostrava B
END:VEVENT
BEGIN:VEVENT
UID:37386363-3837-4434-b162-303665626131
DTSTAMP:20260422T010254Z
DESCRIPTION:17/49 VAM Olomouc - Frýdek - Místek B 3:2 (13\,20\,-19\,-22\,13
 )
DTSTART;TZID=Europe/Berlin:20250112T100000
DTEND;TZID=Europe/Berlin:20250112T120000
LOCATION:VOŠ a SPŠE Olomouc\, Božetěchova 755 Olomouc - Hodolany
SUMMARY:2-U20Z-F: VAM Olomouc-Frýdek - Místek B
END:VEVENT
BEGIN:VEVENT
UID:30613538-3566-4166-b035-666162393631
DTSTAMP:20260422T010254Z
DESCRIPTION:18/52 VAM Olomouc - Frýdek - Místek B 3:0 (9\,15\,19)
DTSTART;TZID=Europe/Berlin:20250112T140000
DTEND;TZID=Europe/Berlin:20250112T160000
LOCATION:VOŠ a SPŠE Olomouc\, Božetěchova 755 Olomouc - Hodolany
SUMMARY:2-U20Z-F: VAM Olomouc-Frýdek - Místek B
END:VEVENT
BEGIN:VEVENT
UID:30663164-3632-4439-b766-336464653038
DTSTAMP:20260422T010254Z
DESCRIPTION:1/2 UP Olomouc - VAM Olomouc 1:3 (-14\,-17\,23\,-14)
DTSTART;TZID=Europe/Berlin:20240915T090000
DTEND;TZID=Europe/Berlin:20240915T110000
LOCATION:UP Olomouc\, U sportovní haly 38 Olomouc - Lazce
SUMMARY:2-U20Z-F: UP Olomouc-VAM Olomouc
END:VEVENT
BEGIN:VEVENT
UID:62356666-3130-4531-b839-636664383337
DTSTAMP:20260422T010254Z
DESCRIPTION:2/5 UP Olomouc - VAM Olomouc 0:3 (-18\,-23\,-24)
DTSTART;TZID=Europe/Berlin:20240915T130000
DTEND;TZID=Europe/Berlin:20240915T150000
LOCATION:UP Olomouc\, U sportovní haly 38 Olomouc - Lazce
SUMMARY:2-U20Z-F: UP Olomouc-VAM Olomouc
END:VEVENT
BEGIN:VEVENT
UID:36616235-3139-4737-b937-316632616236
DTSTAMP:20260422T010254Z
DESCRIPTION:5/15 Ostrava B - VAM Olomouc 0:3 (-8\,-18\,-9)
DTSTART;TZID=Europe/Berlin:20241006T100000
DTEND;TZID=Europe/Berlin:20241006T120000
LOCATION:Tělocvična ZŠ Gen. Píky \, Gen. Píky 2975 Ostrava - Moravská Ostra
 va
SUMMARY:2-U20Z-F: Ostrava B-VAM Olomouc
END:VEVENT
BEGIN:VEVENT
UID:39376462-3264-4639-b163-663838613332
DTSTAMP:20260422T010254Z
DESCRIPTION:6/18 Ostrava B - VAM Olomouc 1:3 (-17\,-19\,23\,-16)
DTSTART;TZID=Europe/Berlin:20241006T140000
DTEND;TZID=Europe/Berlin:20241006T160000
LOCATION:Tělocvična ZŠ Gen. Píky \, Gen. Píky 2975 Ostrava - Moravská Ostra
 va
SUMMARY:2-U20Z-F: Ostrava B-VAM Olomouc
END:VEVENT
BEGIN:VEVENT
UID:35376561-6130-4439-b838-643534306633
DTSTAMP:20260422T010254Z
DESCRIPTION:7/19 Frýdek - Místek B - VAM Olomouc 0:3 (-14\,-19\,-19)
DTSTART;TZID=Europe/Berlin:20241013T100000
DTEND;TZID=Europe/Berlin:20241013T120000
LOCATION:Sokolovna Frýdek-Místek\, Novodvorská 667 Frýdek-Místek - Frýdek
SUMMARY:2-U20Z-F: Frýdek - Místek B-VAM Olomouc
END:VEVENT
BEGIN:VEVENT
UID:34653031-3565-4334-b035-316331343839
DTSTAMP:20260422T010254Z
DESCRIPTION:8/22 Frýdek - Místek B - VAM Olomouc 0:3 (-21\,-18\,-10)
DTSTART;TZID=Europe/Berlin:20241013T140000
DTEND;TZID=Europe/Berlin:20241013T160000
LOCATION:Sokolovna Frýdek-Místek\, Novodvorská 667 Frýdek-Místek - Frýdek
SUMMARY:2-U20Z-F: Frýdek - Místek B-VAM Olomouc
END:VEVENT
BEGIN:VEVENT
UID:65383736-3561-4263-a537-366261383538
DTSTAMP:20260422T010254Z
DESCRIPTION:13/38 Nový Jičín - VAM Olomouc 0:3 (-20\,-13\,-18)
DTSTART;TZID=Europe/Berlin:20241201T100000
DTEND;TZID=Europe/Berlin:20241201T120000
LOCATION:Tělocvična Msgr. Šrámka\, Msgr. Šrámka 1105 Nový Jičín
SUMMARY:2-U20Z-F: Nový Jičín-VAM Olomouc
END:VEVENT
BEGIN:VEVENT
UID:32393731-6164-4365-b665-306262306661
DTSTAMP:20260422T010254Z
DESCRIPTION:14/41 Nový Jičín - VAM Olomouc 0:3 (-8\,-7\,-8)
DTSTART;TZID=Europe/Berlin:20241201T140000
DTEND;TZID=Europe/Berlin:20241201T160000
LOCATION:Tělocvična Msgr. Šrámka\, Msgr. Šrámka 1105 Nový Jičín
SUMMARY:2-U20Z-F: Nový Jičín-VAM Olomouc
END:VEVENT
BEGIN:VEVENT
UID:39363638-3434-4939-a433-383034633565
DTSTAMP:20260422T010254Z
DESCRIPTION:19/57 Opava - VAM Olomouc 1:3 (-13\,-23\,28\,-18)
DTSTART;TZID=Europe/Berlin:20250118T110000
DTEND;TZID=Europe/Berlin:20250118T130000
LOCATION:Sportovní hala Obchodní akademie\, Hany Kvapilové 1656 Opava - Pře
 dměstí
SUMMARY:2-U20Z-F: Opava-VAM Olomouc
END:VEVENT
BEGIN:VEVENT
UID:38653334-6330-4132-b561-383137653831
DTSTAMP:20260422T010254Z
DESCRIPTION:20/60 Opava - VAM Olomouc 0:3 (-15\,-12\,-14)
DTSTART;TZID=Europe/Berlin:20250118T150000
DTEND;TZID=Europe/Berlin:20250118T170000
LOCATION:Sportovní hala Obchodní akademie\, Hany Kvapilové 1656 Opava - Pře
 dměstí
SUMMARY:2-U20Z-F: Opava-VAM Olomouc
END:VEVENT
BEGIN:VEVENT
UID:30353338-6264-4638-a639-353339386366
DTSTAMP:20260422T010254Z
DESCRIPTION:3/8 VAM Olomouc - Kojetín 2:3 (-20\,23\,-23\,19\,-9)
DTSTART;TZID=Europe/Berlin:20250209T110000
DTEND;TZID=Europe/Berlin:20250209T130000
LOCATION:VOŠ a SPŠE Olomouc\, Božetěchova 755 Olomouc - Hodolany
SUMMARY:2-U20Z-III: VAM Olomouc-Kojetín
END:VEVENT
BEGIN:VEVENT
UID:63353736-3131-4661-b763-636334393139
DTSTAMP:20260422T010254Z
DESCRIPTION:4/11 VAM Olomouc - Kojetín 3:0 (21\,25\,18)
DTSTART;TZID=Europe/Berlin:20250209T150000
DTEND;TZID=Europe/Berlin:20250209T170000
LOCATION:VOŠ a SPŠE Olomouc\, Božetěchova 755 Olomouc - Hodolany
SUMMARY:2-U20Z-III: VAM Olomouc-Kojetín
END:VEVENT
BEGIN:VEVENT
UID:31343161-3866-4565-b732-343732666430
DTSTAMP:20260422T010254Z
DESCRIPTION:7/21 VAM Olomouc - Zlín 0:3 (-21\,-24\,-19)
DTSTART;TZID=Europe/Berlin:20250316T100000
DTEND;TZID=Europe/Berlin:20250316T120000
LOCATION:VOŠ a SPŠE Olomouc\, Božetěchova 755 Olomouc - Hodolany
SUMMARY:2-U20Z-III: VAM Olomouc-Zlín
END:VEVENT
BEGIN:VEVENT
UID:61656238-3862-4338-b263-393361343663
DTSTAMP:20260422T010254Z
DESCRIPTION:8/24 VAM Olomouc - Zlín 3:0 (18\,10\,19)
DTSTART;TZID=Europe/Berlin:20250316T140000
DTEND;TZID=Europe/Berlin:20250316T160000
LOCATION:VOŠ a SPŠE Olomouc\, Božetěchova 755 Olomouc - Hodolany
SUMMARY:2-U20Z-III: VAM Olomouc-Zlín
END:VEVENT
BEGIN:VEVENT
UID:33373936-6638-4536-b735-336333313531
DTSTAMP:20260422T010254Z
DESCRIPTION:11/31 VAM Olomouc - Valašské Meziříčí 3:1 (19\,-20\,19\,20)
DTSTART;TZID=Europe/Berlin:20250406T090000
DTEND;TZID=Europe/Berlin:20250406T110000
LOCATION:VOŠ a SPŠE Olomouc\, Božetěchova 755 Olomouc - Hodolany
SUMMARY:2-U20Z-III: VAM Olomouc-Valašské Meziříčí
END:VEVENT
BEGIN:VEVENT
UID:62323966-3330-4761-a335-326661373235
DTSTAMP:20260422T010254Z
DESCRIPTION:12/34 VAM Olomouc - Valašské Meziříčí 2:3 (-15\,17\,25\,-21\,-8
 )
DTSTART;TZID=Europe/Berlin:20250406T130000
DTEND;TZID=Europe/Berlin:20250406T150000
LOCATION:VOŠ a SPŠE Olomouc\, Božetěchova 755 Olomouc - Hodolany
SUMMARY:2-U20Z-III: VAM Olomouc-Valašské Meziříčí
END:VEVENT
BEGIN:VEVENT
UID:33303332-6533-4334-b765-323463666535
DTSTAMP:20260422T010254Z
DESCRIPTION:1/3 Zlín - VAM Olomouc 0:3 (-21\,-20\,-22)
DTSTART;TZID=Europe/Berlin:20250202T100000
DTEND;TZID=Europe/Berlin:20250202T120000
LOCATION:Sportovní hala Datart Zlín\, U Zimního stadionu 4286 Zlín
SUMMARY:2-U20Z-III: Zlín-VAM Olomouc
END:VEVENT
BEGIN:VEVENT
UID:39336235-6138-4038-a161-653439386561
DTSTAMP:20260422T010254Z
DESCRIPTION:2/6 Zlín - VAM Olomouc 2:3 (13\,24\,-12\,-22\,-10)
DTSTART;TZID=Europe/Berlin:20250202T140000
DTEND;TZID=Europe/Berlin:20250202T160000
LOCATION:Sportovní hala Datart Zlín\, U Zimního stadionu 4286 Zlín
SUMMARY:2-U20Z-III: Zlín-VAM Olomouc
END:VEVENT
BEGIN:VEVENT
UID:30653034-6239-4063-b434-326462323634
DTSTAMP:20260422T010254Z
DESCRIPTION:5/13 Valašské Meziříčí - VAM Olomouc 3:1 (22\,16\,-19\,15)
DTSTART;TZID=Europe/Berlin:20250302T100000
DTEND;TZID=Europe/Berlin:20250302T120000
LOCATION:ZŠ Šafaříkova\, Šafaříkova 726 Valašské Meziříčí
SUMMARY:2-U20Z-III: Valašské Meziříčí-VAM Olomouc
END:VEVENT
BEGIN:VEVENT
UID:39373531-6463-4133-b836-623038373439
DTSTAMP:20260422T010254Z
DESCRIPTION:6/16 Valašské Meziříčí - VAM Olomouc 3:0 (19\,20\,22)
DTSTART;TZID=Europe/Berlin:20250302T140000
DTEND;TZID=Europe/Berlin:20250302T160000
LOCATION:ZŠ Šafaříkova\, Šafaříkova 726 Valašské Meziříčí
SUMMARY:2-U20Z-III: Valašské Meziříčí-VAM Olomouc
END:VEVENT
BEGIN:VEVENT
UID:65356164-3937-4266-b634-363663316264
DTSTAMP:20260422T010254Z
DESCRIPTION:9/26 Kojetín - VAM Olomouc 1:3 (-17\,9\,-19\,-22)
DTSTART;TZID=Europe/Berlin:20250330T100000
DTEND;TZID=Europe/Berlin:20250330T120000
LOCATION:Městská sportovní hala\, Hanusíkova 1476 Kojetín - Kojetín I-Město
SUMMARY:2-U20Z-III: Kojetín-VAM Olomouc
END:VEVENT
BEGIN:VEVENT
UID:35363337-6637-4235-b737-353339323337
DTSTAMP:20260422T010254Z
DESCRIPTION:10/29 Kojetín - VAM Olomouc 0:3 (-19\,-18\,-19)
DTSTART;TZID=Europe/Berlin:20250330T140000
DTEND;TZID=Europe/Berlin:20250330T160000
LOCATION:Městská sportovní hala\, Hanusíkova 1476 Kojetín - Kojetín I-Město
SUMMARY:2-U20Z-III: Kojetín-VAM Olomouc
END:VEVENT
BEGIN:VEVENT
UID:32343632-3765-4434-b338-613536383031
DTSTAMP:20260422T010254Z
DESCRIPTION:1/2 Slavia Praha - VAM Olomouc 3:2 (24\,-21\,-20\,15\,5)
DTSTART;TZID=Europe/Berlin:20250418T110000
DTEND;TZID=Europe/Berlin:20250418T130000
LOCATION:Jana\, Vladivostocká 1460 Praha - Vršovice
SUMMARY:1-U20Z-KI: Slavia Praha-VAM Olomouc
END:VEVENT
BEGIN:VEVENT
UID:61363535-3134-4766-b165-386430336430
DTSTAMP:20260422T010254Z
DESCRIPTION:2/5 Slavia Praha - VAM Olomouc 0:3 (-22\,-22\,-22)
DTSTART;TZID=Europe/Berlin:20250418T150000
DTEND;TZID=Europe/Berlin:20250418T170000
LOCATION:Jana\, Vladivostocká 1460 Praha - Vršovice
SUMMARY:1-U20Z-KI: Slavia Praha-VAM Olomouc
END:VEVENT
BEGIN:VEVENT
UID:63663363-6563-4461-a666-316161333732
DTSTAMP:20260422T010254Z
DESCRIPTION:1/2 VAM Olomouc - Jirkov 1:3 (-21\,23\,-16\,-23)
DTSTART;TZID=Europe/Berlin:20250503T120000
DTEND;TZID=Europe/Berlin:20250503T140000
LOCATION:ZŠ Dolní Břežany\, Na Vršku 290 Dolní Břežany
SUMMARY:1-U20Z-KII: VAM Olomouc-Jirkov
END:VEVENT
BEGIN:VEVENT
UID:32663035-6335-4439-b962-653065663738
DTSTAMP:20260422T010254Z
DESCRIPTION:3/5 VAM Olomouc - S V B C 0:3 (-23\,-10\,-19)
DTSTART;TZID=Europe/Berlin:20250504T100000
DTEND;TZID=Europe/Berlin:20250504T120000
LOCATION:ZŠ Dolní Břežany\, Na Vršku 290 Dolní Břežany
SUMMARY:1-U20Z-KII: VAM Olomouc-S V B C
END:VEVENT
BEGIN:VEVENT
UID:32303230-3639-4934-b734-303830303633
DTSTAMP:20260422T010254Z
DESCRIPTION:2/4 Orion Praha - VAM Olomouc 3:0 (20\,20\,11)
DTSTART;TZID=Europe/Berlin:20250503T180000
DTEND;TZID=Europe/Berlin:20250503T200000
LOCATION:ZŠ Dolní Břežany\, Na Vršku 290 Dolní Břežany
SUMMARY:1-U20Z-KII: Orion Praha-VAM Olomouc
END:VEVENT
END:VCALENDAR
