BEGIN:VCALENDAR
VERSION:2.0
PRODID:-//VK Šantovka Olomouc UP86053//NONSGML kigkonsult.se iCalcreator 2.41.80//
CALSCALE:GREGORIAN
UID:39653438-6262-4838-b738-633162356163
BEGIN:VEVENT
UID:36393437-6665-4462-b562-623339396538
DTSTAMP:20260422T033923Z
DESCRIPTION:1/2 UP Olomouc - VAM Olomouc 1:3 (-14\,-17\,23\,-14)
DTSTART;TZID=Europe/Berlin:20240915T090000
DTEND;TZID=Europe/Berlin:20240915T110000
LOCATION:UP Olomouc\, U sportovní haly 38 Olomouc - Lazce
SUMMARY:2-U20Z-F: UP Olomouc-VAM Olomouc
END:VEVENT
BEGIN:VEVENT
UID:63303439-6236-4932-b133-633935653933
DTSTAMP:20260422T033923Z
DESCRIPTION:2/5 UP Olomouc - VAM Olomouc 0:3 (-18\,-23\,-24)
DTSTART;TZID=Europe/Berlin:20240915T130000
DTEND;TZID=Europe/Berlin:20240915T150000
LOCATION:UP Olomouc\, U sportovní haly 38 Olomouc - Lazce
SUMMARY:2-U20Z-F: UP Olomouc-VAM Olomouc
END:VEVENT
BEGIN:VEVENT
UID:63326634-3365-4761-a531-373533326366
DTSTAMP:20260422T033923Z
DESCRIPTION:5/13 UP Olomouc - Frýdek - Místek B 3:0 (19\,24\,19)
DTSTART;TZID=Europe/Berlin:20241006T090000
DTEND;TZID=Europe/Berlin:20241006T110000
LOCATION:UP Olomouc\, U sportovní haly 38 Olomouc - Lazce
SUMMARY:2-U20Z-F: UP Olomouc-Frýdek - Místek B
END:VEVENT
BEGIN:VEVENT
UID:62376239-3934-4162-a366-616432306466
DTSTAMP:20260422T033923Z
DESCRIPTION:6/16 UP Olomouc - Frýdek - Místek B 0:3 (-15\,-18\,-20)
DTSTART;TZID=Europe/Berlin:20241006T130000
DTEND;TZID=Europe/Berlin:20241006T150000
LOCATION:UP Olomouc\, U sportovní haly 38 Olomouc - Lazce
SUMMARY:2-U20Z-F: UP Olomouc-Frýdek - Místek B
END:VEVENT
BEGIN:VEVENT
UID:37623262-3066-4863-b239-636135333438
DTSTAMP:20260422T033923Z
DESCRIPTION:7/21 UP Olomouc - Nový Jičín 1:3 (-24\,-19\,23\,-21)
DTSTART;TZID=Europe/Berlin:20241013T100000
DTEND;TZID=Europe/Berlin:20241013T120000
LOCATION:UP Olomouc\, U sportovní haly 38 Olomouc - Lazce
SUMMARY:2-U20Z-F: UP Olomouc-Nový Jičín
END:VEVENT
BEGIN:VEVENT
UID:36366633-3031-4237-b632-333837383131
DTSTAMP:20260422T033923Z
DESCRIPTION:8/24 UP Olomouc - Nový Jičín 0:3 (-24\,-24\,-23)
DTSTART;TZID=Europe/Berlin:20241013T140000
DTEND;TZID=Europe/Berlin:20241013T160000
LOCATION:UP Olomouc\, U sportovní haly 38 Olomouc - Lazce
SUMMARY:2-U20Z-F: UP Olomouc-Nový Jičín
END:VEVENT
BEGIN:VEVENT
UID:62613434-3738-4235-b838-393636353130
DTSTAMP:20260422T033923Z
DESCRIPTION:13/39 UP Olomouc - Opava 0:3 (-20\,-8\,-8)
DTSTART;TZID=Europe/Berlin:20241201T090000
DTEND;TZID=Europe/Berlin:20241201T110000
LOCATION:UP Olomouc\, U sportovní haly 38 Olomouc - Lazce
SUMMARY:2-U20Z-F: UP Olomouc-Opava
END:VEVENT
BEGIN:VEVENT
UID:33633030-3332-4232-b664-366137646630
DTSTAMP:20260422T033923Z
DESCRIPTION:14/42 UP Olomouc - Opava 0:3 (-16\,-20\,-21)
DTSTART;TZID=Europe/Berlin:20241201T130000
DTEND;TZID=Europe/Berlin:20241201T150000
LOCATION:UP Olomouc\, U sportovní haly 38 Olomouc - Lazce
SUMMARY:2-U20Z-F: UP Olomouc-Opava
END:VEVENT
BEGIN:VEVENT
UID:66313065-6233-4364-b735-326536636232
DTSTAMP:20260422T033923Z
DESCRIPTION:19/56 UP Olomouc - Ostrava B 3:0 (19\,19\,18)
DTSTART;TZID=Europe/Berlin:20250119T110000
DTEND;TZID=Europe/Berlin:20250119T130000
LOCATION:UP Olomouc\, U sportovní haly 38 Olomouc - Lazce
SUMMARY:2-U20Z-F: UP Olomouc-Ostrava B
END:VEVENT
BEGIN:VEVENT
UID:32356437-3433-4662-b935-643732656662
DTSTAMP:20260422T033923Z
DESCRIPTION:20/59 UP Olomouc - Ostrava B 3:0 (17\,22\,20)
DTSTART;TZID=Europe/Berlin:20250119T150000
DTEND;TZID=Europe/Berlin:20250119T170000
LOCATION:UP Olomouc\, U sportovní haly 38 Olomouc - Lazce
SUMMARY:2-U20Z-F: UP Olomouc-Ostrava B
END:VEVENT
BEGIN:VEVENT
UID:31626339-3662-4861-b139-643335336264
DTSTAMP:20260422T033923Z
DESCRIPTION:3/9 Opava - UP Olomouc 3:1 (21\,-18\,22\,9)
DTSTART;TZID=Europe/Berlin:20240929T100000
DTEND;TZID=Europe/Berlin:20240929T120000
LOCATION:Hala SPŠ stavební Opava\, Mírová 630 Opava - Předměstí
SUMMARY:2-U20Z-F: Opava-UP Olomouc
END:VEVENT
BEGIN:VEVENT
UID:61656632-3739-4233-a463-383439626433
DTSTAMP:20260422T033923Z
DESCRIPTION:4/12 Opava - UP Olomouc 3:0 (15\,13\,22)
DTSTART;TZID=Europe/Berlin:20240929T140000
DTEND;TZID=Europe/Berlin:20240929T160000
LOCATION:Hala SPŠ stavební Opava\, Mírová 630 Opava - Předměstí
SUMMARY:2-U20Z-F: Opava-UP Olomouc
END:VEVENT
BEGIN:VEVENT
UID:39336564-3531-4231-b563-373366353466
DTSTAMP:20260422T033923Z
DESCRIPTION:9/26 Ostrava B - UP Olomouc 3:1 (23\,19\,-19\,19)
DTSTART;TZID=Europe/Berlin:20241027T100000
DTEND;TZID=Europe/Berlin:20241027T120000
LOCATION:Tělocvična ZŠ Gen. Píky \, Gen. Píky 2975 Ostrava - Moravská Ostra
 va
SUMMARY:2-U20Z-F: Ostrava B-UP Olomouc
END:VEVENT
BEGIN:VEVENT
UID:30643735-6530-4138-b562-626563646561
DTSTAMP:20260422T033923Z
DESCRIPTION:10/29 Ostrava B - UP Olomouc 3:2 (16\,-19\,-18\,20\,12)
DTSTART;TZID=Europe/Berlin:20241027T140000
DTEND;TZID=Europe/Berlin:20241027T160000
LOCATION:Tělocvična ZŠ Gen. Píky \, Gen. Píky 2975 Ostrava - Moravská Ostra
 va
SUMMARY:2-U20Z-F: Ostrava B-UP Olomouc
END:VEVENT
BEGIN:VEVENT
UID:38376630-6639-4436-a438-396664656363
DTSTAMP:20260422T033923Z
DESCRIPTION:11/32 VAM Olomouc - UP Olomouc 3:0 (14\,15\,13)
DTSTART;TZID=Europe/Berlin:20241110T100000
DTEND;TZID=Europe/Berlin:20241110T120000
LOCATION:VOŠ a SPŠE Olomouc\, Božetěchova 755 Olomouc - Hodolany
SUMMARY:2-U20Z-F: VAM Olomouc-UP Olomouc
END:VEVENT
BEGIN:VEVENT
UID:31313837-6361-4538-b139-393333633732
DTSTAMP:20260422T033923Z
DESCRIPTION:12/35 VAM Olomouc - UP Olomouc 3:0 (11\,14\,13)
DTSTART;TZID=Europe/Berlin:20241110T140000
DTEND;TZID=Europe/Berlin:20241110T160000
LOCATION:VOŠ a SPŠE Olomouc\, Božetěchova 755 Olomouc - Hodolany
SUMMARY:2-U20Z-F: VAM Olomouc-UP Olomouc
END:VEVENT
BEGIN:VEVENT
UID:39383633-6634-4432-a437-616338363263
DTSTAMP:20260422T033923Z
DESCRIPTION:15/43 Frýdek - Místek B - UP Olomouc 3:0 (17\,12\,19)
DTSTART;TZID=Europe/Berlin:20241208T100000
DTEND;TZID=Europe/Berlin:20241208T120000
LOCATION:Sokolovna Frýdek-Místek\, Novodvorská 667 Frýdek-Místek - Frýdek
SUMMARY:2-U20Z-F: Frýdek - Místek B-UP Olomouc
END:VEVENT
BEGIN:VEVENT
UID:64653433-3732-4236-b863-363139353232
DTSTAMP:20260422T033923Z
DESCRIPTION:16/46 Frýdek - Místek B - UP Olomouc 3:0 (16\,11\,14)
DTSTART;TZID=Europe/Berlin:20241208T140000
DTEND;TZID=Europe/Berlin:20241208T160000
LOCATION:Sokolovna Frýdek-Místek\, Novodvorská 667 Frýdek-Místek - Frýdek
SUMMARY:2-U20Z-F: Frýdek - Místek B-UP Olomouc
END:VEVENT
BEGIN:VEVENT
UID:35343766-6233-4565-a463-303634626564
DTSTAMP:20260422T033923Z
DESCRIPTION:17/51 Nový Jičín - UP Olomouc 2:3 (12\,23\,-18\,-21\,-9)
DTSTART;TZID=Europe/Berlin:20250112T100000
DTEND;TZID=Europe/Berlin:20250112T120000
LOCATION:Tělocvična Msgr. Šrámka\, Msgr. Šrámka 1105 Nový Jičín
SUMMARY:2-U20Z-F: Nový Jičín-UP Olomouc
END:VEVENT
BEGIN:VEVENT
UID:32316561-6635-4263-b165-616262366432
DTSTAMP:20260422T033923Z
DESCRIPTION:18/54 Nový Jičín - UP Olomouc 3:1 (23\,-19\,21\,21)
DTSTART;TZID=Europe/Berlin:20250112T140000
DTEND;TZID=Europe/Berlin:20250112T160000
LOCATION:Tělocvična Msgr. Šrámka\, Msgr. Šrámka 1105 Nový Jičín
SUMMARY:2-U20Z-F: Nový Jičín-UP Olomouc
END:VEVENT
BEGIN:VEVENT
UID:64346230-3061-4466-b439-646662376565
DTSTAMP:20260422T033923Z
DESCRIPTION:3/9 UP Olomouc - Uherské Hradiště 0:3 (-23\,-18\,-21)
DTSTART;TZID=Europe/Berlin:20250322T100000
DTEND;TZID=Europe/Berlin:20250322T120000
LOCATION:Hala ZŠ Dr. Hrubého\, Dr. Hrubého 319 Šternberk
SUMMARY:2-U20Z-P: UP Olomouc-Uherské Hradiště
END:VEVENT
BEGIN:VEVENT
UID:30396132-3535-4133-b063-323936643031
DTSTAMP:20260422T033923Z
DESCRIPTION:4/12 UP Olomouc - Uherské Hradiště 0:3 (-16\,-22\,-23)
DTSTART;TZID=Europe/Berlin:20250322T140000
DTEND;TZID=Europe/Berlin:20250322T160000
LOCATION:Hala ZŠ Dr. Hrubého\, Dr. Hrubého 319 Šternberk
SUMMARY:2-U20Z-P: UP Olomouc-Uherské Hradiště
END:VEVENT
BEGIN:VEVENT
UID:34396537-3737-4938-b033-313335643363
DTSTAMP:20260422T033923Z
DESCRIPTION:7/19 UP Olomouc - Vyškov 3:0 (21\,12\,22)
DTSTART;TZID=Europe/Berlin:20250327T173000
DTEND;TZID=Europe/Berlin:20250327T193000
LOCATION:UP Olomouc\, U sportovní haly 38 Olomouc - Lazce
SUMMARY:2-U20Z-P: UP Olomouc-Vyškov
END:VEVENT
BEGIN:VEVENT
UID:34633937-6638-4532-a630-323566353734
DTSTAMP:20260422T033923Z
DESCRIPTION:8/22 UP Olomouc - Vyškov 3:0 (23\,23\,25)
DTSTART;TZID=Europe/Berlin:20250327T200000
DTEND;TZID=Europe/Berlin:20250327T220000
LOCATION:UP Olomouc\, U sportovní haly 38 Olomouc - Lazce
SUMMARY:2-U20Z-P: UP Olomouc-Vyškov
END:VEVENT
BEGIN:VEVENT
UID:64653265-3436-4235-b434-633235636461
DTSTAMP:20260422T033923Z
DESCRIPTION:11/32 UP Olomouc - Břeclav 0:3 (-10\,-11\,-13)
DTSTART;TZID=Europe/Berlin:20250406T110000
DTEND;TZID=Europe/Berlin:20250406T130000
LOCATION:UP Olomouc\, U sportovní haly 38 Olomouc - Lazce
SUMMARY:2-U20Z-P: UP Olomouc-Břeclav
END:VEVENT
BEGIN:VEVENT
UID:38306632-3464-4164-b634-616338333665
DTSTAMP:20260422T033923Z
DESCRIPTION:12/35 UP Olomouc - Břeclav 0:3 (-17\,-20\,-19)
DTSTART;TZID=Europe/Berlin:20250406T150000
DTEND;TZID=Europe/Berlin:20250406T170000
LOCATION:UP Olomouc\, U sportovní haly 38 Olomouc - Lazce
SUMMARY:2-U20Z-P: UP Olomouc-Břeclav
END:VEVENT
BEGIN:VEVENT
UID:37316534-3831-4766-b833-376330303361
DTSTAMP:20260422T033923Z
DESCRIPTION:1/1 Vyškov - UP Olomouc 3:1 (15\,15\,-15\,16)
DTSTART;TZID=Europe/Berlin:20250130T174500
DTEND;TZID=Europe/Berlin:20250130T194500
LOCATION:Tělocvična ZŠ Nádražní\, Nádražní 5 Vyškov - Vyškov-Město
SUMMARY:2-U20Z-P: Vyškov-UP Olomouc
END:VEVENT
BEGIN:VEVENT
UID:64346333-3866-4539-b464-653363623963
DTSTAMP:20260422T033923Z
DESCRIPTION:2/4 Vyškov - UP Olomouc 3:0 (6\,21\,18)
DTSTART;TZID=Europe/Berlin:20250130T194500
DTEND;TZID=Europe/Berlin:20250130T214500
LOCATION:Tělocvična ZŠ Nádražní\, Nádražní 5 Vyškov - Vyškov-Město
SUMMARY:2-U20Z-P: Vyškov-UP Olomouc
END:VEVENT
BEGIN:VEVENT
UID:33313563-3731-4139-a231-316164376532
DTSTAMP:20260422T033923Z
DESCRIPTION:5/14 Břeclav - UP Olomouc 3:1 (22\,-24\,22\,8)
DTSTART;TZID=Europe/Berlin:20250302T100000
DTEND;TZID=Europe/Berlin:20250302T120000
LOCATION:TJ Lokomotiva Břeclav\, Veslařská 2753 Břeclav
SUMMARY:2-U20Z-P: Břeclav-UP Olomouc
END:VEVENT
BEGIN:VEVENT
UID:66646130-6539-4030-a465-353430663262
DTSTAMP:20260422T033923Z
DESCRIPTION:6/17 Břeclav - UP Olomouc 3:1 (-24\,16\,16\,19)
DTSTART;TZID=Europe/Berlin:20250302T140000
DTEND;TZID=Europe/Berlin:20250302T160000
LOCATION:TJ Lokomotiva Břeclav\, Veslařská 2753 Břeclav
SUMMARY:2-U20Z-P: Břeclav-UP Olomouc
END:VEVENT
BEGIN:VEVENT
UID:66623365-3266-4961-b638-343237636165
DTSTAMP:20260422T033923Z
DESCRIPTION:9/27 Uherské Hradiště - UP Olomouc 3:1 (16\,-21\,21\,19)
DTSTART;TZID=Europe/Berlin:20250330T100000
DTEND;TZID=Europe/Berlin:20250330T120000
LOCATION:Gymnázium Uherské Hradiště\, Velehradská třída 218 Uherské Hradišt
 ě
SUMMARY:2-U20Z-P: Uherské Hradiště-UP Olomouc
END:VEVENT
BEGIN:VEVENT
UID:33303630-3033-4066-a436-333330346431
DTSTAMP:20260422T033923Z
DESCRIPTION:10/30 Uherské Hradiště - UP Olomouc 3:1 (21\,-21\,17\,18)
DTSTART;TZID=Europe/Berlin:20250330T140000
DTEND;TZID=Europe/Berlin:20250330T160000
LOCATION:Gymnázium Uherské Hradiště\, Velehradská třída 218 Uherské Hradišt
 ě
SUMMARY:2-U20Z-P: Uherské Hradiště-UP Olomouc
END:VEVENT
BEGIN:VEVENT
UID:39393766-6166-4138-a432-383466386465
DTSTAMP:20260422T033923Z
DESCRIPTION:2/2 TJ Sokol Jehnice - UP Olomouc 0:3 (-16\,-24\,-13)\n2. C1 - 
 1. C2
DTSTART;TZID=Europe/Berlin:20250504T100000
DTEND;TZID=Europe/Berlin:20250504T120000
LOCATION:Hala míčových sportů\, Varenská 3098 Ostrava - Moravská Ostrava
SUMMARY:2-U20Z-KC: TJ Sokol Jehnice-UP Olomouc
END:VEVENT
BEGIN:VEVENT
UID:65366535-3939-4263-a534-633065663036
DTSTAMP:20260422T033923Z
DESCRIPTION:2/4 VK Kylešovice - UP Olomouc 2:3 (23\,17\,-9\,-25\,-10)\n1. C
 1 - 1. C2
DTSTART;TZID=Europe/Berlin:20250504T123000
DTEND;TZID=Europe/Berlin:20250504T143000
LOCATION:Hala míčových sportů\, Varenská 3098 Ostrava - Moravská Ostrava
SUMMARY:2-U20Z-KC: VK Kylešovice-UP Olomouc
END:VEVENT
BEGIN:VEVENT
UID:66313233-3763-4937-b535-646237653964
DTSTAMP:20260422T033923Z
DESCRIPTION:1/1 UP Olomouc - Orel Letohrad 3:1 (23\,16\,-22\,21)
DTSTART;TZID=Europe/Berlin:20250503T130000
DTEND;TZID=Europe/Berlin:20250503T150000
LOCATION:Hala míčových sportů\, Varenská 3098 Ostrava - Moravská Ostrava
SUMMARY:2-U20Z-KC2: UP Olomouc-Orel Letohrad
END:VEVENT
BEGIN:VEVENT
UID:36376430-6333-4638-a564-646130303430
DTSTAMP:20260422T033923Z
DESCRIPTION:1/3 Uherský Brod - UP Olomouc 1:3 (21\,-17\,-22\,-24)
DTSTART;TZID=Europe/Berlin:20250503T170000
DTEND;TZID=Europe/Berlin:20250503T190000
LOCATION:Hala míčových sportů\, Varenská 3098 Ostrava - Moravská Ostrava
SUMMARY:2-U20Z-KC2: Uherský Brod-UP Olomouc
END:VEVENT
END:VCALENDAR
