BEGIN:VCALENDAR
VERSION:2.0
PRODID:-//VK Realistic Karlovy Vary86054//NONSGML kigkonsult.se iCalcreator 2.41.80//
CALSCALE:GREGORIAN
UID:38323365-6636-4434-b233-323163353366
BEGIN:VEVENT
UID:66313438-3035-4735-b437-333738653039
DTSTAMP:20260422T010253Z
DESCRIPTION:1/3 Karlovy Vary - S V B C 1:3 (18\,-22\,-13\,-16)
DTSTART;TZID=Europe/Berlin:20240915T090000
DTEND;TZID=Europe/Berlin:20240915T110000
LOCATION:Mattoni Arena Hala míčových sportů\, Západní 1812 Karlovy Vary
SUMMARY:2-U20Z-A: Karlovy Vary-S V B C
END:VEVENT
BEGIN:VEVENT
UID:32363461-6339-4861-a361-656566323639
DTSTAMP:20260422T010253Z
DESCRIPTION:2/6 Karlovy Vary - S V B C 0:3 (-23\,-10\,-13)
DTSTART;TZID=Europe/Berlin:20240915T130000
DTEND;TZID=Europe/Berlin:20240915T150000
LOCATION:Mattoni Arena Hala míčových sportů\, Západní 1812 Karlovy Vary
SUMMARY:2-U20Z-A: Karlovy Vary-S V B C
END:VEVENT
BEGIN:VEVENT
UID:38383739-3431-4237-b366-353831623238
DTSTAMP:20260422T010253Z
DESCRIPTION:5/14 Karlovy Vary - Jirkov 3:2 (-21\,15\,28\,-22\,13)
DTSTART;TZID=Europe/Berlin:20241006T100000
DTEND;TZID=Europe/Berlin:20241006T120000
LOCATION:Mattoni Arena Hala míčových sportů\, Západní 1812 Karlovy Vary
SUMMARY:2-U20Z-A: Karlovy Vary-Jirkov
END:VEVENT
BEGIN:VEVENT
UID:35336534-3731-4234-a631-313963303461
DTSTAMP:20260422T010253Z
DESCRIPTION:6/17 Karlovy Vary - Jirkov 3:2 (16\,-21\,26\,-14\,12)
DTSTART;TZID=Europe/Berlin:20241006T140000
DTEND;TZID=Europe/Berlin:20241006T160000
LOCATION:Mattoni Arena Hala míčových sportů\, Západní 1812 Karlovy Vary
SUMMARY:2-U20Z-A: Karlovy Vary-Jirkov
END:VEVENT
BEGIN:VEVENT
UID:32653039-6531-4866-b433-343033666632
DTSTAMP:20260422T010253Z
DESCRIPTION:9/25 Karlovy Vary - Kladno 3:2 (19\,-23\,18\,-19\,7)
DTSTART;TZID=Europe/Berlin:20241102T100000
DTEND;TZID=Europe/Berlin:20241102T120000
LOCATION:Hala Slávie - fot. stadion\, Lidická 447 Karlovy Vary - Drahovice
SUMMARY:2-U20Z-A: Karlovy Vary-Kladno
END:VEVENT
BEGIN:VEVENT
UID:38656330-3139-4265-a135-663838313038
DTSTAMP:20260422T010253Z
DESCRIPTION:10/28 Karlovy Vary - Kladno 2:3 (22\,-17\,23\,-17\,-10)
DTSTART;TZID=Europe/Berlin:20241102T130000
DTEND;TZID=Europe/Berlin:20241102T150000
LOCATION:Hala Slávie - fot. stadion\, Lidická 447 Karlovy Vary - Drahovice
SUMMARY:2-U20Z-A: Karlovy Vary-Kladno
END:VEVENT
BEGIN:VEVENT
UID:36626236-6230-4361-b334-653466353561
DTSTAMP:20260422T010253Z
DESCRIPTION:13/38 Karlovy Vary - Rokycany 3:0 (13\,11\,19)
DTSTART;TZID=Europe/Berlin:20241201T100000
DTEND;TZID=Europe/Berlin:20241201T120000
LOCATION:Mattoni Arena Hala míčových sportů\, Západní 1812 Karlovy Vary
SUMMARY:2-U20Z-A: Karlovy Vary-Rokycany
END:VEVENT
BEGIN:VEVENT
UID:38316536-3061-4231-b062-393035303437
DTSTAMP:20260422T010253Z
DESCRIPTION:14/41 Karlovy Vary - Rokycany 3:1 (-23\,9\,22\,23)
DTSTART;TZID=Europe/Berlin:20241201T140000
DTEND;TZID=Europe/Berlin:20241201T160000
LOCATION:Mattoni Arena Hala míčových sportů\, Západní 1812 Karlovy Vary
SUMMARY:2-U20Z-A: Karlovy Vary-Rokycany
END:VEVENT
BEGIN:VEVENT
UID:66336262-6132-4530-b036-393461663164
DTSTAMP:20260422T010253Z
DESCRIPTION:17/51 Karlovy Vary - Příbram 3:0 (19\,15\,11)
DTSTART;TZID=Europe/Berlin:20250112T100000
DTEND;TZID=Europe/Berlin:20250112T120000
LOCATION:Hala Tubex\, Západní 1824 Karlovy Vary
SUMMARY:2-U20Z-A: Karlovy Vary-Příbram
END:VEVENT
BEGIN:VEVENT
UID:39666161-6265-4036-b861-373461666336
DTSTAMP:20260422T010253Z
DESCRIPTION:18/54 Karlovy Vary - Příbram 3:2 (18\,-23\,-22\,19\,12)
DTSTART;TZID=Europe/Berlin:20250112T140000
DTEND;TZID=Europe/Berlin:20250112T160000
LOCATION:Hala Tubex\, Západní 1824 Karlovy Vary
SUMMARY:2-U20Z-A: Karlovy Vary-Příbram
END:VEVENT
BEGIN:VEVENT
UID:36393364-3232-4264-b031-663331303136
DTSTAMP:20260422T010253Z
DESCRIPTION:3/8 Rokycany - Karlovy Vary 0:3 (-18\,-19\,-18)
DTSTART;TZID=Europe/Berlin:20240929T100000
DTEND;TZID=Europe/Berlin:20240929T120000
LOCATION:Hala Gymnázia Rokycany\, Mládežníků 1115 Rokycany - Nové Město
SUMMARY:2-U20Z-A: Rokycany-Karlovy Vary
END:VEVENT
BEGIN:VEVENT
UID:65356166-3833-4638-a230-383462373764
DTSTAMP:20260422T010253Z
DESCRIPTION:4/11 Rokycany - Karlovy Vary 0:3 (-21\,-18\,-16)
DTSTART;TZID=Europe/Berlin:20240929T140000
DTEND;TZID=Europe/Berlin:20240929T160000
LOCATION:Hala Gymnázia Rokycany\, Mládežníků 1115 Rokycany - Nové Město
SUMMARY:2-U20Z-A: Rokycany-Karlovy Vary
END:VEVENT
BEGIN:VEVENT
UID:37653661-3333-4533-a430-353765303333
DTSTAMP:20260422T010253Z
DESCRIPTION:7/21 Příbram - Karlovy Vary 0:3 (-23\,-19\,-15)
DTSTART;TZID=Europe/Berlin:20241013T100000
DTEND;TZID=Europe/Berlin:20241013T120000
LOCATION:Tělocvična ZŠ Balbínova\, Balbínova 328 Příbram - Příbram II
SUMMARY:2-U20Z-A: Příbram-Karlovy Vary
END:VEVENT
BEGIN:VEVENT
UID:34336265-6536-4131-a162-393739373339
DTSTAMP:20260422T010253Z
DESCRIPTION:8/24 Příbram - Karlovy Vary 0:3 (-19\,-17\,-16)
DTSTART;TZID=Europe/Berlin:20241013T140000
DTEND;TZID=Europe/Berlin:20241013T160000
LOCATION:Tělocvična ZŠ Balbínova\, Balbínova 328 Příbram - Příbram II
SUMMARY:2-U20Z-A: Příbram-Karlovy Vary
END:VEVENT
BEGIN:VEVENT
UID:63326166-3864-4035-a365-626435343032
DTSTAMP:20260422T010253Z
DESCRIPTION:11/33 S V B C - Karlovy Vary 3:1 (22\,28\,-25\,20)
DTSTART;TZID=Europe/Berlin:20241110T100000
DTEND;TZID=Europe/Berlin:20241110T120000
LOCATION:Sportovní hala Řevnice \, Školní 600 Řevnice
SUMMARY:2-U20Z-A: S V B C-Karlovy Vary
END:VEVENT
BEGIN:VEVENT
UID:38316563-3961-4333-a537-326332363761
DTSTAMP:20260422T010253Z
DESCRIPTION:12/36 S V B C - Karlovy Vary 3:0 (15\,20\,22)
DTSTART;TZID=Europe/Berlin:20241110T140000
DTEND;TZID=Europe/Berlin:20241110T160000
LOCATION:Sportovní hala Řevnice \, Školní 600 Řevnice
SUMMARY:2-U20Z-A: S V B C-Karlovy Vary
END:VEVENT
BEGIN:VEVENT
UID:66636530-6163-4066-a535-613130633865
DTSTAMP:20260422T010253Z
DESCRIPTION:15/44 Jirkov - Karlovy Vary 3:1 (-15\,19\,18\,21)
DTSTART;TZID=Europe/Berlin:20241208T120000
DTEND;TZID=Europe/Berlin:20241208T140000
LOCATION:Sportovní hala MG a ZŠ Jirkov\, Krušnohorská 1675 Jirkov
SUMMARY:2-U20Z-A: Jirkov-Karlovy Vary
END:VEVENT
BEGIN:VEVENT
UID:31316138-3238-4261-b335-303532626634
DTSTAMP:20260422T010253Z
DESCRIPTION:16/47 Jirkov - Karlovy Vary 3:1 (21\,-17\,23\,20)
DTSTART;TZID=Europe/Berlin:20241208T160000
DTEND;TZID=Europe/Berlin:20241208T180000
LOCATION:Sportovní hala MG a ZŠ Jirkov\, Krušnohorská 1675 Jirkov
SUMMARY:2-U20Z-A: Jirkov-Karlovy Vary
END:VEVENT
BEGIN:VEVENT
UID:64303564-6531-4234-b638-383835323863
DTSTAMP:20260422T010253Z
DESCRIPTION:19/55 Kladno - Karlovy Vary 0:3 (-9\,-8\,-12)
DTSTART;TZID=Europe/Berlin:20250119T140000
DTEND;TZID=Europe/Berlin:20250119T160000
LOCATION:Kladenská sportovní hala\, Sportovců 817 Kladno - Rozdělov
SUMMARY:2-U20Z-A: Kladno-Karlovy Vary
END:VEVENT
BEGIN:VEVENT
UID:35383537-6232-4434-b036-643238626534
DTSTAMP:20260422T010253Z
DESCRIPTION:20/58 Kladno - Karlovy Vary 0:3 (-13\,-17\,-22)
DTSTART;TZID=Europe/Berlin:20250119T160000
DTEND;TZID=Europe/Berlin:20250119T180000
LOCATION:Kladenská sportovní hala\, Sportovců 817 Kladno - Rozdělov
SUMMARY:2-U20Z-A: Kladno-Karlovy Vary
END:VEVENT
BEGIN:VEVENT
UID:37646432-3932-4634-a565-343036303930
DTSTAMP:20260422T010253Z
DESCRIPTION:1/3 Karlovy Vary - Volejbal Ústí n. L. 3:0 (12\,21\,12)
DTSTART;TZID=Europe/Berlin:20250202T100000
DTEND;TZID=Europe/Berlin:20250202T120000
LOCATION:Mattoni Arena Hala míčových sportů\, Západní 1812 Karlovy Vary
SUMMARY:2-U20Z-I: Karlovy Vary-Volejbal Ústí n. L.
END:VEVENT
BEGIN:VEVENT
UID:36323337-6161-4137-b932-663166646132
DTSTAMP:20260422T010253Z
DESCRIPTION:2/6 Karlovy Vary - Volejbal Ústí n. L. 3:0 (19\,19\,12)
DTSTART;TZID=Europe/Berlin:20250202T140000
DTEND;TZID=Europe/Berlin:20250202T160000
LOCATION:Mattoni Arena Hala míčových sportů\, Západní 1812 Karlovy Vary
SUMMARY:2-U20Z-I: Karlovy Vary-Volejbal Ústí n. L.
END:VEVENT
BEGIN:VEVENT
UID:65346261-3037-4630-b738-313932656531
DTSTAMP:20260422T010253Z
DESCRIPTION:5/15 Karlovy Vary - Liberec B 3:2 (-18\,-10\,15\,23\,7)
DTSTART;TZID=Europe/Berlin:20250302T100000
DTEND;TZID=Europe/Berlin:20250302T120000
LOCATION:Hala Tubex\, Západní 1824 Karlovy Vary
SUMMARY:2-U20Z-I: Karlovy Vary-Liberec B
END:VEVENT
BEGIN:VEVENT
UID:62633862-6630-4839-b837-663365383139
DTSTAMP:20260422T010253Z
DESCRIPTION:6/18 Karlovy Vary - Liberec B 3:0 (25\,16\,24)
DTSTART;TZID=Europe/Berlin:20250302T140000
DTEND;TZID=Europe/Berlin:20250302T160000
LOCATION:Hala Tubex\, Západní 1824 Karlovy Vary
SUMMARY:2-U20Z-I: Karlovy Vary-Liberec B
END:VEVENT
BEGIN:VEVENT
UID:66633965-3139-4335-b761-643839313762
DTSTAMP:20260422T010253Z
DESCRIPTION:9/27 Karlovy Vary - Teplice 3:0 (16\,17\,13)
DTSTART;TZID=Europe/Berlin:20250330T100000
DTEND;TZID=Europe/Berlin:20250330T120000
LOCATION:Hala Tubex\, Západní 1824 Karlovy Vary
SUMMARY:2-U20Z-I: Karlovy Vary-Teplice
END:VEVENT
BEGIN:VEVENT
UID:65613330-3432-4630-b938-306162663439
DTSTAMP:20260422T010253Z
DESCRIPTION:10/30 Karlovy Vary - Teplice 3:0 (19\,18\,19)
DTSTART;TZID=Europe/Berlin:20250330T140000
DTEND;TZID=Europe/Berlin:20250330T160000
LOCATION:Hala Tubex\, Západní 1824 Karlovy Vary
SUMMARY:2-U20Z-I: Karlovy Vary-Teplice
END:VEVENT
BEGIN:VEVENT
UID:36666561-6664-4361-b931-653163656434
DTSTAMP:20260422T010253Z
DESCRIPTION:3/9 Teplice - Karlovy Vary 0:3 (-13\,-17\,-25)
DTSTART;TZID=Europe/Berlin:20250309T100000
DTEND;TZID=Europe/Berlin:20250309T120000
LOCATION:Hotelová škola\, Smetanovo náměstí 786 Teplice - Trnovany
SUMMARY:2-U20Z-I: Teplice-Karlovy Vary
END:VEVENT
BEGIN:VEVENT
UID:37643565-3836-4963-b139-396133656161
DTSTAMP:20260422T010253Z
DESCRIPTION:4/12 Teplice - Karlovy Vary 1:3 (-20\,22\,-14\,-17)
DTSTART;TZID=Europe/Berlin:20250309T140000
DTEND;TZID=Europe/Berlin:20250309T160000
LOCATION:Hotelová škola\, Smetanovo náměstí 786 Teplice - Trnovany
SUMMARY:2-U20Z-I: Teplice-Karlovy Vary
END:VEVENT
BEGIN:VEVENT
UID:31303134-3935-4134-a661-633063346136
DTSTAMP:20260422T010253Z
DESCRIPTION:7/21 Volejbal Ústí n. L. - Karlovy Vary 0:3 (-21\,-22\,-16)
DTSTART;TZID=Europe/Berlin:20250316T100000
DTEND;TZID=Europe/Berlin:20250316T120000
LOCATION:Tělocvična Gymnázia a Střední odborné školy dr. Václava Šmejkala\,
  Stará 3299 Ústí nad Labem - Severní Terasa
SUMMARY:2-U20Z-I: Volejbal Ústí n. L.-Karlovy Vary
END:VEVENT
BEGIN:VEVENT
UID:33653531-3463-4430-b361-663033663736
DTSTAMP:20260422T010253Z
DESCRIPTION:8/24 Volejbal Ústí n. L. - Karlovy Vary 2:3 (-23\,19\,-18\,16\,
 -12)
DTSTART;TZID=Europe/Berlin:20250316T140000
DTEND;TZID=Europe/Berlin:20250316T160000
LOCATION:Tělocvična Gymnázia a Střední odborné školy dr. Václava Šmejkala\,
  Stará 3299 Ústí nad Labem - Severní Terasa
SUMMARY:2-U20Z-I: Volejbal Ústí n. L.-Karlovy Vary
END:VEVENT
BEGIN:VEVENT
UID:39643461-3237-4436-b431-626565653632
DTSTAMP:20260422T010253Z
DESCRIPTION:11/33 Liberec B - Karlovy Vary 3:0 (23\,17\,22)
DTSTART;TZID=Europe/Berlin:20250406T100000
DTEND;TZID=Europe/Berlin:20250406T120000
LOCATION:Dukla Liberec\, Jeronýmova 558 Liberec - Liberec VII-Horní Růžodol
SUMMARY:2-U20Z-I: Liberec B-Karlovy Vary
END:VEVENT
BEGIN:VEVENT
UID:64356631-3766-4833-b565-333166343838
DTSTAMP:20260422T010253Z
DESCRIPTION:12/36 Liberec B - Karlovy Vary 3:0 (14\,22\,19)
DTSTART;TZID=Europe/Berlin:20250406T140000
DTEND;TZID=Europe/Berlin:20250406T160000
LOCATION:Dukla Liberec\, Jeronýmova 558 Liberec - Liberec VII-Horní Růžodol
SUMMARY:2-U20Z-I: Liberec B-Karlovy Vary
END:VEVENT
END:VCALENDAR
