BEGIN:VCALENDAR
VERSION:2.0
PRODID:-//Volejbal Sokolov, z.s.86059//NONSGML kigkonsult.se iCalcreator 2.41.80//
CALSCALE:GREGORIAN
UID:65336637-3335-4437-a561-613536326237
BEGIN:VEVENT
UID:64373739-3138-4337-b662-383865303864
DTSTAMP:20260422T033935Z
DESCRIPTION:1/3 Sokolov - Šlapanice 0:3 (-11\,-14\,-12)
DTSTART;TZID=Europe/Berlin:20240914T140000
DTEND;TZID=Europe/Berlin:20240914T160000
LOCATION:Městská sportovní hala\, Hanusíkova 1476 Kojetín - Kojetín I-Město
SUMMARY:EX-U18M-1B: Sokolov-Šlapanice
END:VEVENT
BEGIN:VEVENT
UID:34386639-3066-4334-b636-656261363936
DTSTAMP:20260422T033935Z
DESCRIPTION:1/5 Sokolov - Hradec Králové 0:3 (-16\,-14\,-17)
DTSTART;TZID=Europe/Berlin:20240914T180000
DTEND;TZID=Europe/Berlin:20240914T200000
LOCATION:Městská sportovní hala\, Hanusíkova 1476 Kojetín - Kojetín I-Město
SUMMARY:EX-U18M-1B: Sokolov-Hradec Králové
END:VEVENT
BEGIN:VEVENT
UID:64613830-3630-4935-b534-303634656534
DTSTAMP:20260422T033935Z
DESCRIPTION:1/7 Kojetín - Sokolov 3:0 (14\,14\,17)
DTSTART;TZID=Europe/Berlin:20240915T110000
DTEND;TZID=Europe/Berlin:20240915T130000
LOCATION:Městská sportovní hala\, Hanusíkova 1476 Kojetín - Kojetín I-Město
SUMMARY:EX-U18M-1B: Kojetín-Sokolov
END:VEVENT
BEGIN:VEVENT
UID:30353934-3336-4231-a532-313232386433
DTSTAMP:20260422T033935Z
DESCRIPTION:1/9 Liberec - Sokolov 3:0 (12\,15\,22)
DTSTART;TZID=Europe/Berlin:20240915T150000
DTEND;TZID=Europe/Berlin:20240915T170000
LOCATION:Městská sportovní hala\, Hanusíkova 1476 Kojetín - Kojetín I-Město
SUMMARY:EX-U18M-1B: Liberec-Sokolov
END:VEVENT
BEGIN:VEVENT
UID:34306261-6232-4134-b962-356539373133
DTSTAMP:20260422T033935Z
DESCRIPTION:2/1 Sokolov - Dansport 3:0 (10\,22\,19)
DTSTART;TZID=Europe/Berlin:20241012T100000
DTEND;TZID=Europe/Berlin:20241012T120000
LOCATION:Nová sportovní hala ISŠTE Sokolov\, Jednoty 1620 Sokolov
SUMMARY:EX-U18M-2E: Sokolov-Dansport
END:VEVENT
BEGIN:VEVENT
UID:36633137-3764-4532-b231-323666386239
DTSTAMP:20260422T033935Z
DESCRIPTION:2/4 Sokolov - Svitavy 1:3 (-16\,-17\,14\,-21)
DTSTART;TZID=Europe/Berlin:20241012T160000
DTEND;TZID=Europe/Berlin:20241012T180000
LOCATION:Nová sportovní hala ISŠTE Sokolov\, Jednoty 1620 Sokolov
SUMMARY:EX-U18M-2E: Sokolov-Svitavy
END:VEVENT
BEGIN:VEVENT
UID:66383030-3930-4839-a336-633532353037
DTSTAMP:20260422T033935Z
DESCRIPTION:2/7 Sokolov - Zlín 0:3 (-14\,-13\,-18)\nNH:sportovní hala ISŠTE
  Sokolov\, Jednoty 1788\, Sokolov
DTSTART;TZID=Europe/Berlin:20241013T110000
DTEND;TZID=Europe/Berlin:20241013T130000
LOCATION:Nová sportovní hala ISŠTE Sokolov\, Jednoty 1620 Sokolov
SUMMARY:EX-U18M-2E: Sokolov-Zlín
END:VEVENT
BEGIN:VEVENT
UID:66636436-3565-4366-b162-623738373062
DTSTAMP:20260422T033935Z
DESCRIPTION:2/10 Jiskra Havlíčkův Brod - Sokolov 3:2 (23\,-22\,22\,-23\,13)
 \nNH:sportovní hala ISŠTE Sokolov\, Jednoty 1788\, Sokolov
DTSTART;TZID=Europe/Berlin:20241013T170000
DTEND;TZID=Europe/Berlin:20241013T190000
LOCATION:Nová sportovní hala ISŠTE Sokolov\, Jednoty 1620 Sokolov
SUMMARY:EX-U18M-2E: Jiskra Havlíčkův Brod-Sokolov
END:VEVENT
BEGIN:VEVENT
UID:66373062-3163-4665-b433-626339303333
DTSTAMP:20260422T033935Z
DESCRIPTION:2/6 Sokolov - Jiskra Havlíčkův Brod 3:1 (23\,21\,-17\,25)
DTSTART;TZID=Europe/Berlin:20241117T090000
DTEND;TZID=Europe/Berlin:20241117T110000
LOCATION:Mattoni Arena Hala míčových sportů\, Západní 1812 Karlovy Vary
SUMMARY:EX-U18M-3E: Sokolov-Jiskra Havlíčkův Brod
END:VEVENT
BEGIN:VEVENT
UID:32396664-6333-4137-a635-663166353235
DTSTAMP:20260422T033935Z
DESCRIPTION:2/1 Karlovarsko - Sokolov 3:2 (-21\,19\,-21\,9\,3)
DTSTART;TZID=Europe/Berlin:20241116T100000
DTEND;TZID=Europe/Berlin:20241116T120000
LOCATION:Mattoni Arena Hala míčových sportů\, Západní 1812 Karlovy Vary
SUMMARY:EX-U18M-3E: Karlovarsko-Sokolov
END:VEVENT
BEGIN:VEVENT
UID:66333566-3262-4161-b236-356565393232
DTSTAMP:20260422T033935Z
DESCRIPTION:2/3 Šlapanice - Sokolov 3:2 (23\,-19\,-18\,17\,8)
DTSTART;TZID=Europe/Berlin:20241116T140000
DTEND;TZID=Europe/Berlin:20241116T160000
LOCATION:Mattoni Arena Hala míčových sportů\, Západní 1812 Karlovy Vary
SUMMARY:EX-U18M-3E: Šlapanice-Sokolov
END:VEVENT
BEGIN:VEVENT
UID:63373664-6164-4263-a562-393861666237
DTSTAMP:20260422T033935Z
DESCRIPTION:2/8 Dansport - Sokolov 0:3 (-19\,-14\,-21)
DTSTART;TZID=Europe/Berlin:20241117T130000
DTEND;TZID=Europe/Berlin:20241117T150000
LOCATION:Mattoni Arena Hala míčových sportů\, Západní 1812 Karlovy Vary
SUMMARY:EX-U18M-3E: Dansport-Sokolov
END:VEVENT
BEGIN:VEVENT
UID:38383432-3266-4338-a238-343439326461
DTSTAMP:20260422T033935Z
DESCRIPTION:2/3 Sokolov - Jiskra Havlíčkův Brod 1:3 (-25\,23\,-20\,-21)
DTSTART;TZID=Europe/Berlin:20250201T140000
DTEND;TZID=Europe/Berlin:20250201T160000
LOCATION:Sportovní hala Na Střelnici\, Pražská 2162 Svitavy - Předměstí
SUMMARY:EX-U18M-4E: Sokolov-Jiskra Havlíčkův Brod
END:VEVENT
BEGIN:VEVENT
UID:39613537-3361-4465-b930-303263646361
DTSTAMP:20260422T033935Z
DESCRIPTION:2/5 Sokolov - Blue Ostrava 0:3 (-20\,-16\,-20)
DTSTART;TZID=Europe/Berlin:20250201T180000
DTEND;TZID=Europe/Berlin:20250201T200000
LOCATION:Sportovní hala Na Střelnici\, Pražská 2162 Svitavy - Předměstí
SUMMARY:EX-U18M-4E: Sokolov-Blue Ostrava
END:VEVENT
BEGIN:VEVENT
UID:62396534-6163-4738-a435-303263356530
DTSTAMP:20260422T033935Z
DESCRIPTION:2/7 Svitavy - Sokolov 3:0 (20\,22\,20)
DTSTART;TZID=Europe/Berlin:20250202T090000
DTEND;TZID=Europe/Berlin:20250202T110000
LOCATION:Sportovní hala Na Střelnici\, Pražská 2162 Svitavy - Předměstí
SUMMARY:EX-U18M-4E: Svitavy-Sokolov
END:VEVENT
BEGIN:VEVENT
UID:37386365-6338-4337-b361-326434306335
DTSTAMP:20260422T033935Z
DESCRIPTION:2/9 Dansport - Sokolov 0:3 (-13\,-14\,-22)
DTSTART;TZID=Europe/Berlin:20250202T120000
DTEND;TZID=Europe/Berlin:20250202T140000
LOCATION:Sportovní hala Na Střelnici\, Pražská 2162 Svitavy - Předměstí
SUMMARY:EX-U18M-4E: Dansport-Sokolov
END:VEVENT
BEGIN:VEVENT
UID:35313639-6465-4665-a263-333561626464
DTSTAMP:20260422T033935Z
DESCRIPTION:5/8 Sokolov - Dansport 3:0 (24\,20\,22)
DTSTART;TZID=Europe/Berlin:20250302T130000
DTEND;TZID=Europe/Berlin:20250302T150000
LOCATION:Sportcentrum SLUNETA\, Jateční 1026 Ústí nad Labem - Klíše
SUMMARY:EX-U18M-5E: Sokolov-Dansport
END:VEVENT
BEGIN:VEVENT
UID:38303161-3764-4064-b362-393438626534
DTSTAMP:20260422T033935Z
DESCRIPTION:5/10 Sokolov - Ústí n. L. 3:1 (14\,18\,-21\,14)
DTSTART;TZID=Europe/Berlin:20250302T170000
DTEND;TZID=Europe/Berlin:20250302T190000
LOCATION:Sportcentrum SLUNETA\, Jateční 1026 Ústí nad Labem - Klíše
SUMMARY:EX-U18M-5E: Sokolov-Ústí n. L.
END:VEVENT
BEGIN:VEVENT
UID:64396238-6632-4235-b635-336330653932
DTSTAMP:20260422T033935Z
DESCRIPTION:5/2 Jiskra Havlíčkův Brod - Sokolov 0:3 (-16\,-21\,-17)
DTSTART;TZID=Europe/Berlin:20250301T120000
DTEND;TZID=Europe/Berlin:20250301T140000
LOCATION:Sportcentrum SLUNETA\, Jateční 1026 Ústí nad Labem - Klíše
SUMMARY:EX-U18M-5E: Jiskra Havlíčkův Brod-Sokolov
END:VEVENT
BEGIN:VEVENT
UID:64393561-6237-4232-a338-346566336264
DTSTAMP:20260422T033935Z
DESCRIPTION:5/5 Šlapanice - Sokolov 1:3 (21\,-18\,-14\,-21)
DTSTART;TZID=Europe/Berlin:20250301T180000
DTEND;TZID=Europe/Berlin:20250301T200000
LOCATION:Sportcentrum SLUNETA\, Jateční 1026 Ústí nad Labem - Klíše
SUMMARY:EX-U18M-5E: Šlapanice-Sokolov
END:VEVENT
BEGIN:VEVENT
UID:64326332-3435-4633-b431-383465326430
DTSTAMP:20260422T033935Z
DESCRIPTION:6/3 Sokolov - Blue Ostrava 0:3 (-20\,-17\,-10)
DTSTART;TZID=Europe/Berlin:20250322T140000
DTEND;TZID=Europe/Berlin:20250322T160000
LOCATION:Hala ABC\, Purkyňova 116 Nový Jičín
SUMMARY:EX-U18M-6D: Sokolov-Blue Ostrava
END:VEVENT
BEGIN:VEVENT
UID:37633033-6164-4738-a363-333239623338
DTSTAMP:20260422T033935Z
DESCRIPTION:6/5 Sokolov - Svitavy 3:2 (18\,26\,-12\,-7\,9)
DTSTART;TZID=Europe/Berlin:20250322T180000
DTEND;TZID=Europe/Berlin:20250322T200000
LOCATION:Hala ABC\, Purkyňova 116 Nový Jičín
SUMMARY:EX-U18M-6D: Sokolov-Svitavy
END:VEVENT
BEGIN:VEVENT
UID:30346634-3134-4962-a631-386663373530
DTSTAMP:20260422T033935Z
DESCRIPTION:6/7 Nový Jičín - Sokolov 3:0 (10\,11\,23)\nNH: Školní 20\, 742 
 42 Šenov u Nového Jičína
DTSTART;TZID=Europe/Berlin:20250323T110000
DTEND;TZID=Europe/Berlin:20250323T130000
LOCATION:Hala ABC\, Purkyňova 116 Nový Jičín
SUMMARY:EX-U18M-6D: Nový Jičín-Sokolov
END:VEVENT
BEGIN:VEVENT
UID:33663032-3236-4437-a533-663065303666
DTSTAMP:20260422T033935Z
DESCRIPTION:6/9 Jirkov - Sokolov 3:2 (-23\,17\,-23\,14\,6)\nNH: Školní 20\,
  742 42 Šenov u Nového Jičína
DTSTART;TZID=Europe/Berlin:20250323T150000
DTEND;TZID=Europe/Berlin:20250323T170000
LOCATION:Hala ABC\, Purkyňova 116 Nový Jičín
SUMMARY:EX-U18M-6D: Jirkov-Sokolov
END:VEVENT
BEGIN:VEVENT
UID:38316335-3065-4566-b063-633932316536
DTSTAMP:20260422T033935Z
DESCRIPTION:1/2 SK PROSEK B - Sokolov 2:3 (-22\,24\,-21\,15\,-5)
DTSTART;TZID=Europe/Berlin:20250412T133000
DTEND;TZID=Europe/Berlin:20250412T153000
LOCATION:Mattoni Arena Hala míčových sportů\, Západní 1812 Karlovy Vary
SUMMARY:EX-U18M-KA: SK PROSEK B-Sokolov
END:VEVENT
BEGIN:VEVENT
UID:30303438-6339-4562-a665-663837626231
DTSTAMP:20260422T033935Z
DESCRIPTION:1/3 Karlovarsko - Sokolov 3:0 (15\,12\,21)
DTSTART;TZID=Europe/Berlin:20250412T170000
DTEND;TZID=Europe/Berlin:20250412T190000
LOCATION:Mattoni Arena Hala míčových sportů\, Západní 1812 Karlovy Vary
SUMMARY:EX-U18M-KA: Karlovarsko-Sokolov
END:VEVENT
END:VCALENDAR
