BEGIN:VCALENDAR
VERSION:2.0
PRODID:-//TJ Svitavy86063//NONSGML kigkonsult.se iCalcreator 2.41.80//
CALSCALE:GREGORIAN
UID:64623666-3237-4332-a336-376437326131
BEGIN:VEVENT
UID:64656639-3237-4031-b735-336532386431
DTSTAMP:20260422T070129Z
DESCRIPTION:1/2 Svitavy - Nový Jičín 0:3 (-20\,-16\,-19)
DTSTART;TZID=Europe/Berlin:20240914T120000
DTEND;TZID=Europe/Berlin:20240914T140000
LOCATION:Sportovní hala Ostrava -Třebovice\, 5. května 5649 Ostrava - Třebo
 vice
SUMMARY:EX-U18M-1D: Svitavy-Nový Jičín
END:VEVENT
BEGIN:VEVENT
UID:34633365-3238-4465-b763-393661346637
DTSTAMP:20260422T070129Z
DESCRIPTION:1/9 Svitavy - Ústí n. L. 0:3 (-22\,-19\,-14)
DTSTART;TZID=Europe/Berlin:20240915T150000
DTEND;TZID=Europe/Berlin:20240915T170000
LOCATION:Sportovní hala Ostrava -Třebovice\, 5. května 5649 Ostrava - Třebo
 vice
SUMMARY:EX-U18M-1D: Svitavy-Ústí n. L.
END:VEVENT
BEGIN:VEVENT
UID:36303532-6434-4264-b466-303133323731
DTSTAMP:20260422T070129Z
DESCRIPTION:1/4 Green F-M - Svitavy 3:0 (17\,21\,19)
DTSTART;TZID=Europe/Berlin:20240914T160000
DTEND;TZID=Europe/Berlin:20240914T180000
LOCATION:Sportovní hala Ostrava -Třebovice\, 5. května 5649 Ostrava - Třebo
 vice
SUMMARY:EX-U18M-1D: Green F-M-Svitavy
END:VEVENT
BEGIN:VEVENT
UID:65663730-3938-4935-b831-316537393862
DTSTAMP:20260422T070129Z
DESCRIPTION:1/6 VK Ostrava - Svitavy 3:2 (11\,19\,-22\,-23\,13)
DTSTART;TZID=Europe/Berlin:20240915T090000
DTEND;TZID=Europe/Berlin:20240915T110000
LOCATION:Sportovní hala Ostrava -Třebovice\, 5. května 5649 Ostrava - Třebo
 vice
SUMMARY:EX-U18M-1D: VK Ostrava-Svitavy
END:VEVENT
BEGIN:VEVENT
UID:32393561-6431-4233-b937-653162393231
DTSTAMP:20260422T070129Z
DESCRIPTION:2/2 Svitavy - Jiskra Havlíčkův Brod 2:3 (-20\,15\,-25\,20\,-13)
DTSTART;TZID=Europe/Berlin:20241012T120000
DTEND;TZID=Europe/Berlin:20241012T140000
LOCATION:Nová sportovní hala ISŠTE Sokolov\, Jednoty 1620 Sokolov
SUMMARY:EX-U18M-2E: Svitavy-Jiskra Havlíčkův Brod
END:VEVENT
BEGIN:VEVENT
UID:33383233-6536-4265-b533-643734373063
DTSTAMP:20260422T070129Z
DESCRIPTION:2/9 Svitavy - Zlín 3:0 (21\,23\,20)\nNH:sportovní hala ISŠTE So
 kolov\, Jednoty 1788\, Sokolov
DTSTART;TZID=Europe/Berlin:20241013T150000
DTEND;TZID=Europe/Berlin:20241013T170000
LOCATION:Nová sportovní hala ISŠTE Sokolov\, Jednoty 1620 Sokolov
SUMMARY:EX-U18M-2E: Svitavy-Zlín
END:VEVENT
BEGIN:VEVENT
UID:65343732-3434-4666-a163-656239386539
DTSTAMP:20260422T070129Z
DESCRIPTION:2/4 Sokolov - Svitavy 1:3 (-16\,-17\,14\,-21)
DTSTART;TZID=Europe/Berlin:20241012T160000
DTEND;TZID=Europe/Berlin:20241012T180000
LOCATION:Nová sportovní hala ISŠTE Sokolov\, Jednoty 1620 Sokolov
SUMMARY:EX-U18M-2E: Sokolov-Svitavy
END:VEVENT
BEGIN:VEVENT
UID:62376234-3137-4438-b333-356261333431
DTSTAMP:20260422T070129Z
DESCRIPTION:2/6 Dansport - Svitavy 0:3 (-13\,-16\,-16)\nNH:sportovní hala I
 SŠTE Sokolov\, Jednoty 1788\, Sokolov
DTSTART;TZID=Europe/Berlin:20241013T090000
DTEND;TZID=Europe/Berlin:20241013T110000
LOCATION:Nová sportovní hala ISŠTE Sokolov\, Jednoty 1620 Sokolov
SUMMARY:EX-U18M-2E: Dansport-Svitavy
END:VEVENT
BEGIN:VEVENT
UID:37653438-3131-4034-b131-316638653132
DTSTAMP:20260422T070129Z
DESCRIPTION:2/6 Svitavy - VK Ostrava 0:3 (-10\,-16\,-12)
DTSTART;TZID=Europe/Berlin:20241117T090000
DTEND;TZID=Europe/Berlin:20241117T110000
LOCATION:Sportovní hala ZŠ Čapkova\, Čapkova 136 Klatovy - Klatovy V
SUMMARY:EX-U18M-3D: Svitavy-VK Ostrava
END:VEVENT
BEGIN:VEVENT
UID:61303736-6334-4638-b439-386261653834
DTSTAMP:20260422T070129Z
DESCRIPTION:2/1 Klatovy - Svitavy 3:0 (12\,10\,14)
DTSTART;TZID=Europe/Berlin:20241116T100000
DTEND;TZID=Europe/Berlin:20241116T120000
LOCATION:Sportovní hala ZŠ Čapkova\, Čapkova 136 Klatovy - Klatovy V
SUMMARY:EX-U18M-3D: Klatovy-Svitavy
END:VEVENT
BEGIN:VEVENT
UID:32326233-6230-4434-b136-376531393439
DTSTAMP:20260422T070129Z
DESCRIPTION:2/3 Blue Ostrava - Svitavy 3:1 (-23\,23\,17\,15)
DTSTART;TZID=Europe/Berlin:20241116T140000
DTEND;TZID=Europe/Berlin:20241116T160000
LOCATION:Sportovní hala ZŠ Čapkova\, Čapkova 136 Klatovy - Klatovy V
SUMMARY:EX-U18M-3D: Blue Ostrava-Svitavy
END:VEVENT
BEGIN:VEVENT
UID:61636234-3836-4039-b634-323366363164
DTSTAMP:20260422T070129Z
DESCRIPTION:2/8 Zlín - Svitavy 3:0 (21\,13\,24)
DTSTART;TZID=Europe/Berlin:20241117T130000
DTEND;TZID=Europe/Berlin:20241117T150000
LOCATION:Sportovní hala ZŠ Čapkova\, Čapkova 136 Klatovy - Klatovy V
SUMMARY:EX-U18M-3D: Zlín-Svitavy
END:VEVENT
BEGIN:VEVENT
UID:33616463-3663-4862-b934-393330663065
DTSTAMP:20260422T070129Z
DESCRIPTION:2/1 Svitavy - Jiskra Havlíčkův Brod 3:0 (12\,20\,20)
DTSTART;TZID=Europe/Berlin:20250201T100000
DTEND;TZID=Europe/Berlin:20250201T120000
LOCATION:Sportovní hala Na Střelnici\, Pražská 2162 Svitavy - Předměstí
SUMMARY:EX-U18M-4E: Svitavy-Jiskra Havlíčkův Brod
END:VEVENT
BEGIN:VEVENT
UID:65653264-3763-4431-a333-333630356465
DTSTAMP:20260422T070129Z
DESCRIPTION:2/4 Svitavy - Dansport 3:0 (16\,16\,26)
DTSTART;TZID=Europe/Berlin:20250201T160000
DTEND;TZID=Europe/Berlin:20250201T180000
LOCATION:Sportovní hala Na Střelnici\, Pražská 2162 Svitavy - Předměstí
SUMMARY:EX-U18M-4E: Svitavy-Dansport
END:VEVENT
BEGIN:VEVENT
UID:30333361-6331-4466-b030-636434363339
DTSTAMP:20260422T070129Z
DESCRIPTION:2/7 Svitavy - Sokolov 3:0 (20\,22\,20)
DTSTART;TZID=Europe/Berlin:20250202T090000
DTEND;TZID=Europe/Berlin:20250202T110000
LOCATION:Sportovní hala Na Střelnici\, Pražská 2162 Svitavy - Předměstí
SUMMARY:EX-U18M-4E: Svitavy-Sokolov
END:VEVENT
BEGIN:VEVENT
UID:34303530-3563-4333-a466-363734346133
DTSTAMP:20260422T070129Z
DESCRIPTION:2/10 Blue Ostrava - Svitavy 3:1 (18\,-24\,24\,12)
DTSTART;TZID=Europe/Berlin:20250202T150000
DTEND;TZID=Europe/Berlin:20250202T170000
LOCATION:Sportovní hala Na Střelnici\, Pražská 2162 Svitavy - Předměstí
SUMMARY:EX-U18M-4E: Blue Ostrava-Svitavy
END:VEVENT
BEGIN:VEVENT
UID:35633636-3464-4133-a435-616436666462
DTSTAMP:20260422T070129Z
DESCRIPTION:5/2 Svitavy - Kojetín 3:1 (13\,-18\,19\,15)
DTSTART;TZID=Europe/Berlin:20250301T120000
DTEND;TZID=Europe/Berlin:20250301T140000
LOCATION:Sportovní hala Ostrava -Třebovice\, 5. května 5649 Ostrava - Třebo
 vice
SUMMARY:EX-U18M-5D: Svitavy-Kojetín
END:VEVENT
BEGIN:VEVENT
UID:63666363-3936-4436-a163-323036356336
DTSTAMP:20260422T070129Z
DESCRIPTION:5/9 Svitavy - Příbram 0:3 (-14\,-15\,-11)
DTSTART;TZID=Europe/Berlin:20250302T150000
DTEND;TZID=Europe/Berlin:20250302T170000
LOCATION:Sportovní hala Ostrava -Třebovice\, 5. května 5649 Ostrava - Třebo
 vice
SUMMARY:EX-U18M-5D: Svitavy-Příbram
END:VEVENT
BEGIN:VEVENT
UID:38393762-6438-4130-b236-646238636536
DTSTAMP:20260422T070129Z
DESCRIPTION:5/4 Blue Ostrava - Svitavy 3:0 (21\,12\,21)
DTSTART;TZID=Europe/Berlin:20250301T160000
DTEND;TZID=Europe/Berlin:20250301T180000
LOCATION:Sportovní hala Ostrava -Třebovice\, 5. května 5649 Ostrava - Třebo
 vice
SUMMARY:EX-U18M-5D: Blue Ostrava-Svitavy
END:VEVENT
BEGIN:VEVENT
UID:30653837-3730-4534-b537-303064396263
DTSTAMP:20260422T070129Z
DESCRIPTION:5/6 Nový Jičín - Svitavy 2:3 (-17\,-21\,24\,12\,-7)
DTSTART;TZID=Europe/Berlin:20250302T090000
DTEND;TZID=Europe/Berlin:20250302T110000
LOCATION:Sportovní hala Ostrava -Třebovice\, 5. května 5649 Ostrava - Třebo
 vice
SUMMARY:EX-U18M-5D: Nový Jičín-Svitavy
END:VEVENT
BEGIN:VEVENT
UID:33353034-3135-4461-b932-383165346438
DTSTAMP:20260422T070129Z
DESCRIPTION:6/8 Svitavy - Blue Ostrava 0:3 (-17\,-20\,-19)\nNH: Školní 20\,
  742 42 Šenov u Nového Jičína
DTSTART;TZID=Europe/Berlin:20250323T130000
DTEND;TZID=Europe/Berlin:20250323T150000
LOCATION:Hala ABC\, Purkyňova 116 Nový Jičín
SUMMARY:EX-U18M-6D: Svitavy-Blue Ostrava
END:VEVENT
BEGIN:VEVENT
UID:38396634-3236-4431-b663-383236623066
DTSTAMP:20260422T070129Z
DESCRIPTION:6/10 Svitavy - Nový Jičín 0:3 (-18\,-19\,-25)\nNH: Školní 20\, 
 742 42 Šenov u Nového Jičína
DTSTART;TZID=Europe/Berlin:20250323T170000
DTEND;TZID=Europe/Berlin:20250323T190000
LOCATION:Hala ABC\, Purkyňova 116 Nový Jičín
SUMMARY:EX-U18M-6D: Svitavy-Nový Jičín
END:VEVENT
BEGIN:VEVENT
UID:66613262-3365-4565-b938-373432393530
DTSTAMP:20260422T070129Z
DESCRIPTION:6/2 Jirkov - Svitavy 1:3 (-21\,-20\,19\,-25)
DTSTART;TZID=Europe/Berlin:20250322T120000
DTEND;TZID=Europe/Berlin:20250322T140000
LOCATION:Hala ABC\, Purkyňova 116 Nový Jičín
SUMMARY:EX-U18M-6D: Jirkov-Svitavy
END:VEVENT
BEGIN:VEVENT
UID:61643365-3563-4263-b131-646331323134
DTSTAMP:20260422T070129Z
DESCRIPTION:6/5 Sokolov - Svitavy 3:2 (18\,26\,-12\,-7\,9)
DTSTART;TZID=Europe/Berlin:20250322T180000
DTEND;TZID=Europe/Berlin:20250322T200000
LOCATION:Hala ABC\, Purkyňova 116 Nový Jičín
SUMMARY:EX-U18M-6D: Sokolov-Svitavy
END:VEVENT
BEGIN:VEVENT
UID:30383466-3937-4963-a235-353434376435
DTSTAMP:20260422T070129Z
DESCRIPTION:3/6 Svitavy - Ústí n. L. 0:3 (-15\,-24\,-17)
DTSTART;TZID=Europe/Berlin:20250413T100000
DTEND;TZID=Europe/Berlin:20250413T120000
LOCATION:Sportcentrum SLUNETA 2\, Jateční 1026 Ústí nad Labem - Klíše
SUMMARY:EX-U18M-KD: Svitavy-Ústí n. L.
END:VEVENT
BEGIN:VEVENT
UID:38626638-3532-4762-a361-346164623132
DTSTAMP:20260422T070129Z
DESCRIPTION:1/2 Odolena Voda - Svitavy 1:3 (11\,-20\,-23\,-20)
DTSTART;TZID=Europe/Berlin:20250412T120000
DTEND;TZID=Europe/Berlin:20250412T140000
LOCATION:Sportcentrum SLUNETA 2\, Jateční 1026 Ústí nad Labem - Klíše
SUMMARY:EX-U18M-KD: Odolena Voda-Svitavy
END:VEVENT
BEGIN:VEVENT
UID:37376334-3031-4366-b864-616535656531
DTSTAMP:20260422T070129Z
DESCRIPTION:2/3 Sokol Mn. Hradiště - Svitavy 1:3 (23\,-11\,-20\,-23)
DTSTART;TZID=Europe/Berlin:20250412T150000
DTEND;TZID=Europe/Berlin:20250412T170000
LOCATION:Sportcentrum SLUNETA 2\, Jateční 1026 Ústí nad Labem - Klíše
SUMMARY:EX-U18M-KD: Sokol Mn. Hradiště-Svitavy
END:VEVENT
END:VCALENDAR
