BEGIN:VCALENDAR
VERSION:2.0
PRODID:-//TJ Jiskra Havlíčkův Brod86064//NONSGML kigkonsult.se iCalcreator 2.41.80//
CALSCALE:GREGORIAN
UID:38343666-3139-4263-a366-646136323565
BEGIN:VEVENT
UID:34633563-3232-4731-a431-666563396537
DTSTAMP:20260422T150328Z
DESCRIPTION:1/6 Jiskra Havlíčkův Brod - Velké Meziříčí 0:3 (-20\,-24\,-17)
DTSTART;TZID=Europe/Berlin:20240915T090000
DTEND;TZID=Europe/Berlin:20240915T110000
LOCATION:SH SK Prosek\, Lovosická 559 Praha - Letňany
SUMMARY:EX-U18M-1E: Jiskra Havlíčkův Brod-Velké Meziříčí
END:VEVENT
BEGIN:VEVENT
UID:38343531-3135-4662-b663-303963363032
DTSTAMP:20260422T150328Z
DESCRIPTION:1/1 Prosek - Jiskra Havlíčkův Brod 3:0 (10\,22\,7)
DTSTART;TZID=Europe/Berlin:20240914T100000
DTEND;TZID=Europe/Berlin:20240914T120000
LOCATION:SH SK Prosek\, Lovosická 559 Praha - Letňany
SUMMARY:EX-U18M-1E: Prosek-Jiskra Havlíčkův Brod
END:VEVENT
BEGIN:VEVENT
UID:31323130-6661-4333-b133-643136616362
DTSTAMP:20260422T150328Z
DESCRIPTION:1/3 Brno - Jiskra Havlíčkův Brod 3:1 (-20\,9\,20\,19)
DTSTART;TZID=Europe/Berlin:20240914T140000
DTEND;TZID=Europe/Berlin:20240914T160000
LOCATION:SH SK Prosek\, Lovosická 559 Praha - Letňany
SUMMARY:EX-U18M-1E: Brno-Jiskra Havlíčkův Brod
END:VEVENT
BEGIN:VEVENT
UID:31653562-6531-4166-a363-313133643337
DTSTAMP:20260422T150328Z
DESCRIPTION:1/8 Karlovarsko - Jiskra Havlíčkův Brod 3:0 (19\,21\,23)
DTSTART;TZID=Europe/Berlin:20240915T130000
DTEND;TZID=Europe/Berlin:20240915T150000
LOCATION:SH SK Prosek\, Lovosická 559 Praha - Letňany
SUMMARY:EX-U18M-1E: Karlovarsko-Jiskra Havlíčkův Brod
END:VEVENT
BEGIN:VEVENT
UID:39323062-3530-4032-b633-623662613461
DTSTAMP:20260422T150328Z
DESCRIPTION:2/8 Jiskra Havlíčkův Brod - Dansport 0:3 (-17\,-24\,-20)\nNH:sp
 ortovní hala ISŠTE Sokolov\, Jednoty 1788\, Sokolov
DTSTART;TZID=Europe/Berlin:20241013T130000
DTEND;TZID=Europe/Berlin:20241013T150000
LOCATION:Nová sportovní hala ISŠTE Sokolov\, Jednoty 1620 Sokolov
SUMMARY:EX-U18M-2E: Jiskra Havlíčkův Brod-Dansport
END:VEVENT
BEGIN:VEVENT
UID:35376130-3066-4466-a233-646562353064
DTSTAMP:20260422T150328Z
DESCRIPTION:2/10 Jiskra Havlíčkův Brod - Sokolov 3:2 (23\,-22\,22\,-23\,13)
 \nNH:sportovní hala ISŠTE Sokolov\, Jednoty 1788\, Sokolov
DTSTART;TZID=Europe/Berlin:20241013T170000
DTEND;TZID=Europe/Berlin:20241013T190000
LOCATION:Nová sportovní hala ISŠTE Sokolov\, Jednoty 1620 Sokolov
SUMMARY:EX-U18M-2E: Jiskra Havlíčkův Brod-Sokolov
END:VEVENT
BEGIN:VEVENT
UID:33396339-3864-4365-b438-303461376333
DTSTAMP:20260422T150328Z
DESCRIPTION:2/2 Svitavy - Jiskra Havlíčkův Brod 2:3 (-20\,15\,-25\,20\,-13)
DTSTART;TZID=Europe/Berlin:20241012T120000
DTEND;TZID=Europe/Berlin:20241012T140000
LOCATION:Nová sportovní hala ISŠTE Sokolov\, Jednoty 1620 Sokolov
SUMMARY:EX-U18M-2E: Svitavy-Jiskra Havlíčkův Brod
END:VEVENT
BEGIN:VEVENT
UID:34386166-6131-4832-b435-646236656532
DTSTAMP:20260422T150328Z
DESCRIPTION:2/5 Zlín - Jiskra Havlíčkův Brod 3:0 (17\,15\,12)
DTSTART;TZID=Europe/Berlin:20241012T180000
DTEND;TZID=Europe/Berlin:20241012T200000
LOCATION:Nová sportovní hala ISŠTE Sokolov\, Jednoty 1620 Sokolov
SUMMARY:EX-U18M-2E: Zlín-Jiskra Havlíčkův Brod
END:VEVENT
BEGIN:VEVENT
UID:34633637-3138-4936-b437-313936356134
DTSTAMP:20260422T150328Z
DESCRIPTION:2/2 Jiskra Havlíčkův Brod - Dansport 3:0 (15\,20\,21)
DTSTART;TZID=Europe/Berlin:20241116T120000
DTEND;TZID=Europe/Berlin:20241116T140000
LOCATION:Mattoni Arena Hala míčových sportů\, Západní 1812 Karlovy Vary
SUMMARY:EX-U18M-3E: Jiskra Havlíčkův Brod-Dansport
END:VEVENT
BEGIN:VEVENT
UID:31626562-3139-4361-b434-326364336431
DTSTAMP:20260422T150328Z
DESCRIPTION:2/9 Jiskra Havlíčkův Brod - Šlapanice 1:3 (-12\,-14\,18\,-25)
DTSTART;TZID=Europe/Berlin:20241117T150000
DTEND;TZID=Europe/Berlin:20241117T170000
LOCATION:Mattoni Arena Hala míčových sportů\, Západní 1812 Karlovy Vary
SUMMARY:EX-U18M-3E: Jiskra Havlíčkův Brod-Šlapanice
END:VEVENT
BEGIN:VEVENT
UID:34633630-3261-4733-a134-316363333333
DTSTAMP:20260422T150328Z
DESCRIPTION:2/4 Karlovarsko - Jiskra Havlíčkův Brod 1:3 (-24\,13\,-21\,-20)
DTSTART;TZID=Europe/Berlin:20241116T160000
DTEND;TZID=Europe/Berlin:20241116T180000
LOCATION:Mattoni Arena Hala míčových sportů\, Západní 1812 Karlovy Vary
SUMMARY:EX-U18M-3E: Karlovarsko-Jiskra Havlíčkův Brod
END:VEVENT
BEGIN:VEVENT
UID:30643630-3164-4236-a135-646531623837
DTSTAMP:20260422T150328Z
DESCRIPTION:2/6 Sokolov - Jiskra Havlíčkův Brod 3:1 (23\,21\,-17\,25)
DTSTART;TZID=Europe/Berlin:20241117T090000
DTEND;TZID=Europe/Berlin:20241117T110000
LOCATION:Mattoni Arena Hala míčových sportů\, Západní 1812 Karlovy Vary
SUMMARY:EX-U18M-3E: Sokolov-Jiskra Havlíčkův Brod
END:VEVENT
BEGIN:VEVENT
UID:63316533-3161-4538-a235-363538613835
DTSTAMP:20260422T150328Z
DESCRIPTION:2/6 Jiskra Havlíčkův Brod - Dansport 3:0 (16\,11\,22)
DTSTART;TZID=Europe/Berlin:20250202T090000
DTEND;TZID=Europe/Berlin:20250202T110000
LOCATION:Sportovní hala Na Střelnici\, Pražská 2162 Svitavy - Předměstí
SUMMARY:EX-U18M-4E: Jiskra Havlíčkův Brod-Dansport
END:VEVENT
BEGIN:VEVENT
UID:34613164-6261-4330-b336-343037356661
DTSTAMP:20260422T150328Z
DESCRIPTION:2/1 Svitavy - Jiskra Havlíčkův Brod 3:0 (12\,20\,20)
DTSTART;TZID=Europe/Berlin:20250201T100000
DTEND;TZID=Europe/Berlin:20250201T120000
LOCATION:Sportovní hala Na Střelnici\, Pražská 2162 Svitavy - Předměstí
SUMMARY:EX-U18M-4E: Svitavy-Jiskra Havlíčkův Brod
END:VEVENT
BEGIN:VEVENT
UID:32376638-3136-4534-b934-303237393233
DTSTAMP:20260422T150328Z
DESCRIPTION:2/3 Sokolov - Jiskra Havlíčkův Brod 1:3 (-25\,23\,-20\,-21)
DTSTART;TZID=Europe/Berlin:20250201T140000
DTEND;TZID=Europe/Berlin:20250201T160000
LOCATION:Sportovní hala Na Střelnici\, Pražská 2162 Svitavy - Předměstí
SUMMARY:EX-U18M-4E: Sokolov-Jiskra Havlíčkův Brod
END:VEVENT
BEGIN:VEVENT
UID:31376434-6665-4031-b030-623733333362
DTSTAMP:20260422T150328Z
DESCRIPTION:2/8 Blue Ostrava - Jiskra Havlíčkův Brod 3:1 (21\,21\,-17\,12)
DTSTART;TZID=Europe/Berlin:20250202T120000
DTEND;TZID=Europe/Berlin:20250202T140000
LOCATION:Sportovní hala Na Střelnici\, Pražská 2162 Svitavy - Předměstí
SUMMARY:EX-U18M-4E: Blue Ostrava-Jiskra Havlíčkův Brod
END:VEVENT
BEGIN:VEVENT
UID:38636562-3966-4266-a137-616165396361
DTSTAMP:20260422T150328Z
DESCRIPTION:5/2 Jiskra Havlíčkův Brod - Sokolov 0:3 (-16\,-21\,-17)
DTSTART;TZID=Europe/Berlin:20250301T120000
DTEND;TZID=Europe/Berlin:20250301T140000
LOCATION:Sportcentrum SLUNETA\, Jateční 1026 Ústí nad Labem - Klíše
SUMMARY:EX-U18M-5E: Jiskra Havlíčkův Brod-Sokolov
END:VEVENT
BEGIN:VEVENT
UID:31346630-6639-4464-a265-393166333634
DTSTAMP:20260422T150328Z
DESCRIPTION:5/9 Jiskra Havlíčkův Brod - Šlapanice 2:3 (15\,-16\,-24\,24\,-1
 7)
DTSTART;TZID=Europe/Berlin:20250302T150000
DTEND;TZID=Europe/Berlin:20250302T170000
LOCATION:Sportcentrum SLUNETA\, Jateční 1026 Ústí nad Labem - Klíše
SUMMARY:EX-U18M-5E: Jiskra Havlíčkův Brod-Šlapanice
END:VEVENT
BEGIN:VEVENT
UID:64666636-3332-4230-a266-626537646665
DTSTAMP:20260422T150328Z
DESCRIPTION:5/4 Ústí n. L. - Jiskra Havlíčkův Brod 2:3 (-21\,-17\,23\,28\,-
 17)
DTSTART;TZID=Europe/Berlin:20250301T160000
DTEND;TZID=Europe/Berlin:20250301T180000
LOCATION:Sportcentrum SLUNETA\, Jateční 1026 Ústí nad Labem - Klíše
SUMMARY:EX-U18M-5E: Ústí n. L.-Jiskra Havlíčkův Brod
END:VEVENT
BEGIN:VEVENT
UID:37613665-3634-4631-b365-343363313238
DTSTAMP:20260422T150328Z
DESCRIPTION:5/6 Dansport - Jiskra Havlíčkův Brod 1:3 (-22\,-15\,21\,-19)
DTSTART;TZID=Europe/Berlin:20250302T090000
DTEND;TZID=Europe/Berlin:20250302T110000
LOCATION:Sportcentrum SLUNETA\, Jateční 1026 Ústí nad Labem - Klíše
SUMMARY:EX-U18M-5E: Dansport-Jiskra Havlíčkův Brod
END:VEVENT
BEGIN:VEVENT
UID:37356631-6237-4364-a363-613664616236
DTSTAMP:20260422T150328Z
DESCRIPTION:6/1 Jiskra Havlíčkův Brod - Šlapanice 0:3 (-18\,-16\,-16)
DTSTART;TZID=Europe/Berlin:20250322T100000
DTEND;TZID=Europe/Berlin:20250322T120000
LOCATION:Sportovní hala TJ Jiskra\, Ledečská 3028 Havlíčkův Brod
SUMMARY:EX-U18M-6E: Jiskra Havlíčkův Brod-Šlapanice
END:VEVENT
BEGIN:VEVENT
UID:66343334-3132-4431-b065-663235363638
DTSTAMP:20260422T150328Z
DESCRIPTION:6/4 Jiskra Havlíčkův Brod - Kojetín 0:3 (-22\,-19\,-17)
DTSTART;TZID=Europe/Berlin:20250322T160000
DTEND;TZID=Europe/Berlin:20250322T180000
LOCATION:Sportovní hala TJ Jiskra\, Ledečská 3028 Havlíčkův Brod
SUMMARY:EX-U18M-6E: Jiskra Havlíčkův Brod-Kojetín
END:VEVENT
BEGIN:VEVENT
UID:62353663-6634-4331-b461-343661613434
DTSTAMP:20260422T150328Z
DESCRIPTION:6/7 Jiskra Havlíčkův Brod - Ústí n. L. 3:1 (20\,-23\,18\,25)
DTSTART;TZID=Europe/Berlin:20250323T110000
DTEND;TZID=Europe/Berlin:20250323T130000
LOCATION:Sportovní hala TJ Jiskra\, Ledečská 3028 Havlíčkův Brod
SUMMARY:EX-U18M-6E: Jiskra Havlíčkův Brod-Ústí n. L.
END:VEVENT
BEGIN:VEVENT
UID:65353863-3336-4765-b739-383730653030
DTSTAMP:20260422T150328Z
DESCRIPTION:6/10 Dansport - Jiskra Havlíčkův Brod 2:3 (22\,23\,-14\,-16\,-1
 0)
DTSTART;TZID=Europe/Berlin:20250323T170000
DTEND;TZID=Europe/Berlin:20250323T190000
LOCATION:Sportovní hala TJ Jiskra\, Ledečská 3028 Havlíčkův Brod
SUMMARY:EX-U18M-6E: Dansport-Jiskra Havlíčkův Brod
END:VEVENT
BEGIN:VEVENT
UID:31323434-3437-4937-b437-323131663333
DTSTAMP:20260422T150328Z
DESCRIPTION:3/6 Jiskra Havlíčkův Brod - Zlín 0:3 (-9\,-13\,-18)
DTSTART;TZID=Europe/Berlin:20250413T120000
DTEND;TZID=Europe/Berlin:20250413T140000
LOCATION:Tělocvična střední zdravotnické školy Zlín\, Broučkova 372 Zlín - 
 Příluky
SUMMARY:EX-U18M-KB: Jiskra Havlíčkův Brod-Zlín
END:VEVENT
BEGIN:VEVENT
UID:35626561-6232-4534-b736-376630363162
DTSTAMP:20260422T150328Z
DESCRIPTION:1/2 VK Choceň U18 - Jiskra Havlíčkův Brod 0:3 (-14\,-19\,-24)
DTSTART;TZID=Europe/Berlin:20250412T120000
DTEND;TZID=Europe/Berlin:20250412T140000
LOCATION:Tělocvična střední zdravotnické školy Zlín\, Broučkova 372 Zlín - 
 Příluky
SUMMARY:EX-U18M-KB: VK Choceň U18-Jiskra Havlíčkův Brod
END:VEVENT
BEGIN:VEVENT
UID:38653030-6237-4536-a565-306230656338
DTSTAMP:20260422T150328Z
DESCRIPTION:2/3 TJ SOKOL LETOVICE U18 - Jiskra Havlíčkův Brod 0:3 (-10\,-16
 \,-12)
DTSTART;TZID=Europe/Berlin:20250412T150000
DTEND;TZID=Europe/Berlin:20250412T170000
LOCATION:Tělocvična střední zdravotnické školy Zlín\, Broučkova 372 Zlín - 
 Příluky
SUMMARY:EX-U18M-KB: TJ SOKOL LETOVICE U18-Jiskra Havlíčkův Brod
END:VEVENT
END:VCALENDAR
