BEGIN:VCALENDAR
VERSION:2.0
PRODID:-//Vlci Nový Jičín86066//NONSGML kigkonsult.se iCalcreator 2.41.80//
CALSCALE:GREGORIAN
UID:39616664-3534-4864-a463-383262343466
BEGIN:VEVENT
UID:34616465-6536-4333-a635-333337613236
DTSTAMP:20260422T033924Z
DESCRIPTION:1/8 Nový Jičín - VK Ostrava 1:3 (27\,-19\,-24\,-16)
DTSTART;TZID=Europe/Berlin:20240915T130000
DTEND;TZID=Europe/Berlin:20240915T150000
LOCATION:Sportovní hala Ostrava -Třebovice\, 5. května 5649 Ostrava - Třebo
 vice
SUMMARY:EX-U18M-1D: Nový Jičín-VK Ostrava
END:VEVENT
BEGIN:VEVENT
UID:34376462-3162-4563-b763-366537643261
DTSTAMP:20260422T033924Z
DESCRIPTION:1/10 Nový Jičín - Green F-M 3:1 (23\,20\,-23\,19)
DTSTART;TZID=Europe/Berlin:20240915T170000
DTEND;TZID=Europe/Berlin:20240915T190000
LOCATION:Sportovní hala Ostrava -Třebovice\, 5. května 5649 Ostrava - Třebo
 vice
SUMMARY:EX-U18M-1D: Nový Jičín-Green F-M
END:VEVENT
BEGIN:VEVENT
UID:34396364-3838-4937-b661-396332326364
DTSTAMP:20260422T033924Z
DESCRIPTION:1/2 Svitavy - Nový Jičín 0:3 (-20\,-16\,-19)
DTSTART;TZID=Europe/Berlin:20240914T120000
DTEND;TZID=Europe/Berlin:20240914T140000
LOCATION:Sportovní hala Ostrava -Třebovice\, 5. května 5649 Ostrava - Třebo
 vice
SUMMARY:EX-U18M-1D: Svitavy-Nový Jičín
END:VEVENT
BEGIN:VEVENT
UID:32343337-3935-4539-b130-646130643466
DTSTAMP:20260422T033924Z
DESCRIPTION:1/5 Ústí n. L. - Nový Jičín 2:3 (22\,-17\,-30\,21\,-11)
DTSTART;TZID=Europe/Berlin:20240914T180000
DTEND;TZID=Europe/Berlin:20240914T200000
LOCATION:Sportovní hala Ostrava -Třebovice\, 5. května 5649 Ostrava - Třebo
 vice
SUMMARY:EX-U18M-1D: Ústí n. L.-Nový Jičín
END:VEVENT
BEGIN:VEVENT
UID:31396462-3338-4263-b862-616632323433
DTSTAMP:20260422T033924Z
DESCRIPTION:2/2 Nový Jičín - Lvi Praha 0:3 (-15\,-20\,-16)
DTSTART;TZID=Europe/Berlin:20241012T120000
DTEND;TZID=Europe/Berlin:20241012T140000
LOCATION:ZŠ Komenského\, Komenského 1 Velké Meziříčí
SUMMARY:EX-U18M-2B: Nový Jičín-Lvi Praha
END:VEVENT
BEGIN:VEVENT
UID:31636263-3030-4262-a465-353737363939
DTSTAMP:20260422T033924Z
DESCRIPTION:2/9 Nový Jičín - Jirkov 3:0 (17\,21\,17)
DTSTART;TZID=Europe/Berlin:20241013T150000
DTEND;TZID=Europe/Berlin:20241013T170000
LOCATION:ZŠ Komenského\, Komenského 1 Velké Meziříčí
SUMMARY:EX-U18M-2B: Nový Jičín-Jirkov
END:VEVENT
BEGIN:VEVENT
UID:62613464-6266-4537-b630-643030343939
DTSTAMP:20260422T033924Z
DESCRIPTION:2/4 Velké Meziříčí - Nový Jičín 3:0 (21\,19\,13)\nNH:Školní 205
 5 Velké Meziříčí\, 59401
DTSTART;TZID=Europe/Berlin:20241012T160000
DTEND;TZID=Europe/Berlin:20241012T180000
LOCATION:ZŠ Komenského\, Komenského 1 Velké Meziříčí
SUMMARY:EX-U18M-2B: Velké Meziříčí-Nový Jičín
END:VEVENT
BEGIN:VEVENT
UID:31353961-6337-4063-b830-643331396665
DTSTAMP:20260422T033924Z
DESCRIPTION:2/6 Kojetín - Nový Jičín 3:0 (10\,14\,21)
DTSTART;TZID=Europe/Berlin:20241013T090000
DTEND;TZID=Europe/Berlin:20241013T110000
LOCATION:ZŠ Komenského\, Komenského 1 Velké Meziříčí
SUMMARY:EX-U18M-2B: Kojetín-Nový Jičín
END:VEVENT
BEGIN:VEVENT
UID:33363437-3831-4137-b330-356636343366
DTSTAMP:20260422T033924Z
DESCRIPTION:2/2 Nový Jičín - Jirkov 0:3 (-19\,-18\,-13)
DTSTART;TZID=Europe/Berlin:20241116T120000
DTEND;TZID=Europe/Berlin:20241116T140000
LOCATION:Speciální školy Hradec Králové\, Hradecká 1231 Hradec Králové
SUMMARY:EX-U18M-3C: Nový Jičín-Jirkov
END:VEVENT
BEGIN:VEVENT
UID:66343863-3765-4636-b339-396464393637
DTSTAMP:20260422T033924Z
DESCRIPTION:2/9 Nový Jičín - České Budějovice 0:3 (-15\,-12\,-15)\nNH:Víta 
 Nejedlého 1216 Hradec Králové
DTSTART;TZID=Europe/Berlin:20241117T150000
DTEND;TZID=Europe/Berlin:20241117T170000
LOCATION:Speciální školy Hradec Králové\, Hradecká 1231 Hradec Králové
SUMMARY:EX-U18M-3C: Nový Jičín-České Budějovice
END:VEVENT
BEGIN:VEVENT
UID:66626261-3136-4664-a535-333766373933
DTSTAMP:20260422T033924Z
DESCRIPTION:2/4 Hradec Králové - Nový Jičín 3:0 (23\,16\,13)
DTSTART;TZID=Europe/Berlin:20241116T160000
DTEND;TZID=Europe/Berlin:20241116T180000
LOCATION:Speciální školy Hradec Králové\, Hradecká 1231 Hradec Králové
SUMMARY:EX-U18M-3C: Hradec Králové-Nový Jičín
END:VEVENT
BEGIN:VEVENT
UID:65656535-3161-4038-b061-643939643062
DTSTAMP:20260422T033924Z
DESCRIPTION:2/6 Ústí n. L. - Nový Jičín 3:1 (22\,18\,-23\,22)\nNH:Víta Neje
 dlého 1216 Hradec Králové
DTSTART;TZID=Europe/Berlin:20241117T090000
DTEND;TZID=Europe/Berlin:20241117T110000
LOCATION:Speciální školy Hradec Králové\, Hradecká 1231 Hradec Králové
SUMMARY:EX-U18M-3C: Ústí n. L.-Nový Jičín
END:VEVENT
BEGIN:VEVENT
UID:66373464-3135-4761-b530-386461383834
DTSTAMP:20260422T033924Z
DESCRIPTION:2/1 Nový Jičín - Zlín 1:3 (-23\,25\,-10\,-16)
DTSTART;TZID=Europe/Berlin:20250201T100000
DTEND;TZID=Europe/Berlin:20250201T120000
LOCATION:Hala ABC\, Purkyňova 116 Nový Jičín
SUMMARY:EX-U18M-4D: Nový Jičín-Zlín
END:VEVENT
BEGIN:VEVENT
UID:31373636-3639-4433-a663-333061353234
DTSTAMP:20260422T033924Z
DESCRIPTION:2/4 Nový Jičín - Ústí n. L. 3:1 (16\,21\,-22\,18)
DTSTART;TZID=Europe/Berlin:20250201T160000
DTEND;TZID=Europe/Berlin:20250201T180000
LOCATION:Hala ABC\, Purkyňova 116 Nový Jičín
SUMMARY:EX-U18M-4D: Nový Jičín-Ústí n. L.
END:VEVENT
BEGIN:VEVENT
UID:66323666-3731-4763-b662-636665383963
DTSTAMP:20260422T033924Z
DESCRIPTION:2/7 Nový Jičín - Karlovarsko 0:3 (-19\,-17\,-17)
DTSTART;TZID=Europe/Berlin:20250202T110000
DTEND;TZID=Europe/Berlin:20250202T130000
LOCATION:Hala ABC\, Purkyňova 116 Nový Jičín
SUMMARY:EX-U18M-4D: Nový Jičín-Karlovarsko
END:VEVENT
BEGIN:VEVENT
UID:35666433-3635-4262-b933-666230326163
DTSTAMP:20260422T033924Z
DESCRIPTION:2/10 Šlapanice - Nový Jičín 0:3 (-21\,-16\,-18)
DTSTART;TZID=Europe/Berlin:20250202T170000
DTEND;TZID=Europe/Berlin:20250202T190000
LOCATION:Hala ABC\, Purkyňova 116 Nový Jičín
SUMMARY:EX-U18M-4D: Šlapanice-Nový Jičín
END:VEVENT
BEGIN:VEVENT
UID:64343065-3763-4636-a530-386234316235
DTSTAMP:20260422T033924Z
DESCRIPTION:5/6 Nový Jičín - Svitavy 2:3 (-17\,-21\,24\,12\,-7)
DTSTART;TZID=Europe/Berlin:20250302T090000
DTEND;TZID=Europe/Berlin:20250302T110000
LOCATION:Sportovní hala Ostrava -Třebovice\, 5. května 5649 Ostrava - Třebo
 vice
SUMMARY:EX-U18M-5D: Nový Jičín-Svitavy
END:VEVENT
BEGIN:VEVENT
UID:66663866-6639-4564-a439-336235626534
DTSTAMP:20260422T033924Z
DESCRIPTION:5/1 Blue Ostrava - Nový Jičín 3:0 (14\,12\,17)
DTSTART;TZID=Europe/Berlin:20250301T100000
DTEND;TZID=Europe/Berlin:20250301T120000
LOCATION:Sportovní hala Ostrava -Třebovice\, 5. května 5649 Ostrava - Třebo
 vice
SUMMARY:EX-U18M-5D: Blue Ostrava-Nový Jičín
END:VEVENT
BEGIN:VEVENT
UID:65643432-6535-4933-b032-383632356537
DTSTAMP:20260422T033924Z
DESCRIPTION:5/3 Příbram - Nový Jičín 3:1 (33\,-22\,18\,20)
DTSTART;TZID=Europe/Berlin:20250301T140000
DTEND;TZID=Europe/Berlin:20250301T160000
LOCATION:Sportovní hala Ostrava -Třebovice\, 5. května 5649 Ostrava - Třebo
 vice
SUMMARY:EX-U18M-5D: Příbram-Nový Jičín
END:VEVENT
BEGIN:VEVENT
UID:30313434-6135-4330-b732-366532643762
DTSTAMP:20260422T033924Z
DESCRIPTION:5/8 Kojetín - Nový Jičín 2:3 (15\,-22\,-14\,23\,-6)
DTSTART;TZID=Europe/Berlin:20250302T130000
DTEND;TZID=Europe/Berlin:20250302T150000
LOCATION:Sportovní hala Ostrava -Třebovice\, 5. května 5649 Ostrava - Třebo
 vice
SUMMARY:EX-U18M-5D: Kojetín-Nový Jičín
END:VEVENT
BEGIN:VEVENT
UID:64326461-3362-4331-b232-393962336531
DTSTAMP:20260422T033924Z
DESCRIPTION:6/1 Nový Jičín - Blue Ostrava 3:1 (16\,23\,-25\,18)
DTSTART;TZID=Europe/Berlin:20250322T100000
DTEND;TZID=Europe/Berlin:20250322T120000
LOCATION:Hala ABC\, Purkyňova 116 Nový Jičín
SUMMARY:EX-U18M-6D: Nový Jičín-Blue Ostrava
END:VEVENT
BEGIN:VEVENT
UID:30663731-6164-4963-b139-343330623061
DTSTAMP:20260422T033924Z
DESCRIPTION:6/4 Nový Jičín - Jirkov 3:1 (21\,-21\,15\,20)
DTSTART;TZID=Europe/Berlin:20250322T160000
DTEND;TZID=Europe/Berlin:20250322T180000
LOCATION:Hala ABC\, Purkyňova 116 Nový Jičín
SUMMARY:EX-U18M-6D: Nový Jičín-Jirkov
END:VEVENT
BEGIN:VEVENT
UID:32383431-3332-4331-b235-333832316562
DTSTAMP:20260422T033924Z
DESCRIPTION:6/7 Nový Jičín - Sokolov 3:0 (10\,11\,23)\nNH: Školní 20\, 742 
 42 Šenov u Nového Jičína
DTSTART;TZID=Europe/Berlin:20250323T110000
DTEND;TZID=Europe/Berlin:20250323T130000
LOCATION:Hala ABC\, Purkyňova 116 Nový Jičín
SUMMARY:EX-U18M-6D: Nový Jičín-Sokolov
END:VEVENT
BEGIN:VEVENT
UID:62633162-3236-4462-b335-396464336637
DTSTAMP:20260422T033924Z
DESCRIPTION:6/10 Svitavy - Nový Jičín 0:3 (-18\,-19\,-25)\nNH: Školní 20\, 
 742 42 Šenov u Nového Jičína
DTSTART;TZID=Europe/Berlin:20250323T170000
DTEND;TZID=Europe/Berlin:20250323T190000
LOCATION:Hala ABC\, Purkyňova 116 Nový Jičín
SUMMARY:EX-U18M-6D: Svitavy-Nový Jičín
END:VEVENT
END:VCALENDAR
