BEGIN:VCALENDAR
VERSION:2.0
PRODID:-//VK Trox Příbram86071//NONSGML kigkonsult.se iCalcreator 2.41.80//
CALSCALE:GREGORIAN
UID:65343437-6337-4532-b139-643163313037
BEGIN:VEVENT
UID:36613830-6139-4130-b561-383036623434
DTSTAMP:20260422T075405Z
DESCRIPTION:1/2 Příbram - Jirkov 3:2 (22\,-23\,25\,-24\,5)
DTSTART;TZID=Europe/Berlin:20240914T120000
DTEND;TZID=Europe/Berlin:20240914T140000
LOCATION:Kladenská sportovní hala\, Sportovců 817 Kladno - Rozdělov
SUMMARY:EX-U18M-1A: Příbram-Jirkov
END:VEVENT
BEGIN:VEVENT
UID:35323834-3032-4237-b563-353761633138
DTSTAMP:20260422T075405Z
DESCRIPTION:1/9 Příbram - Blue Ostrava 2:3 (-20\,-17\,21\,17\,-15)
DTSTART;TZID=Europe/Berlin:20240915T150000
DTEND;TZID=Europe/Berlin:20240915T170000
LOCATION:Kladenská sportovní hala\, Sportovců 817 Kladno - Rozdělov
SUMMARY:EX-U18M-1A: Příbram-Blue Ostrava
END:VEVENT
BEGIN:VEVENT
UID:66373566-6462-4938-b866-613931633164
DTSTAMP:20260422T075405Z
DESCRIPTION:1/4 Kladno - Příbram 3:0 (19\,20\,22)
DTSTART;TZID=Europe/Berlin:20240914T160000
DTEND;TZID=Europe/Berlin:20240914T180000
LOCATION:Kladenská sportovní hala\, Sportovců 817 Kladno - Rozdělov
SUMMARY:EX-U18M-1A: Kladno-Příbram
END:VEVENT
BEGIN:VEVENT
UID:34303363-3362-4163-b839-353363613235
DTSTAMP:20260422T075405Z
DESCRIPTION:1/6 Dansport - Příbram 0:3 (-13\,-18\,-10)
DTSTART;TZID=Europe/Berlin:20240915T090000
DTEND;TZID=Europe/Berlin:20240915T110000
LOCATION:Kladenská sportovní hala\, Sportovců 817 Kladno - Rozdělov
SUMMARY:EX-U18M-1A: Dansport-Příbram
END:VEVENT
BEGIN:VEVENT
UID:37613639-3435-4235-a333-356231343334
DTSTAMP:20260422T075405Z
DESCRIPTION:2/2 Příbram - Hradec Králové 3:1 (-20\,20\,11\,22)
DTSTART;TZID=Europe/Berlin:20241012T120000
DTEND;TZID=Europe/Berlin:20241012T140000
LOCATION:Hala Janáčkova konzervatoř Ostrava\, Českobratrská 958 Ostrava - M
 oravská Ostrava
SUMMARY:EX-U18M-2C: Příbram-Hradec Králové
END:VEVENT
BEGIN:VEVENT
UID:36666337-6635-4138-a562-616365353636
DTSTAMP:20260422T075405Z
DESCRIPTION:2/9 Příbram - Klatovy 1:3 (-19\,18\,-21\,-25)
DTSTART;TZID=Europe/Berlin:20241013T150000
DTEND;TZID=Europe/Berlin:20241013T170000
LOCATION:Hala Janáčkova konzervatoř Ostrava\, Českobratrská 958 Ostrava - M
 oravská Ostrava
SUMMARY:EX-U18M-2C: Příbram-Klatovy
END:VEVENT
BEGIN:VEVENT
UID:65656334-6661-4162-b339-356638303261
DTSTAMP:20260422T075405Z
DESCRIPTION:2/4 VK Ostrava - Příbram 0:3 (-21\,-22\,-17)
DTSTART;TZID=Europe/Berlin:20241012T160000
DTEND;TZID=Europe/Berlin:20241012T180000
LOCATION:Hala Janáčkova konzervatoř Ostrava\, Českobratrská 958 Ostrava - M
 oravská Ostrava
SUMMARY:EX-U18M-2C: VK Ostrava-Příbram
END:VEVENT
BEGIN:VEVENT
UID:66656438-3137-4139-b139-306465316132
DTSTAMP:20260422T075405Z
DESCRIPTION:2/6 Brno - Příbram 3:1 (18\,-22\,17\,11)
DTSTART;TZID=Europe/Berlin:20241013T090000
DTEND;TZID=Europe/Berlin:20241013T110000
LOCATION:Hala Janáčkova konzervatoř Ostrava\, Českobratrská 958 Ostrava - M
 oravská Ostrava
SUMMARY:EX-U18M-2C: Brno-Příbram
END:VEVENT
BEGIN:VEVENT
UID:32363433-3036-4661-b639-343566383565
DTSTAMP:20260422T075405Z
DESCRIPTION:2/3 Příbram - Kojetín 3:1 (19\,-22\,20\,25)
DTSTART;TZID=Europe/Berlin:20241116T140000
DTEND;TZID=Europe/Berlin:20241116T160000
LOCATION:Sportovní gymnázium Ludvíka Daňka\, Botanická 63 Brno - Ponava
SUMMARY:EX-U18M-3B: Příbram-Kojetín
END:VEVENT
BEGIN:VEVENT
UID:34383765-3962-4663-a530-393438306631
DTSTAMP:20260422T075405Z
DESCRIPTION:2/5 Příbram - Green F-M 0:3 (-20\,-23\,-18)
DTSTART;TZID=Europe/Berlin:20241116T180000
DTEND;TZID=Europe/Berlin:20241116T200000
LOCATION:Sportovní gymnázium Ludvíka Daňka\, Botanická 63 Brno - Ponava
SUMMARY:EX-U18M-3B: Příbram-Green F-M
END:VEVENT
BEGIN:VEVENT
UID:32313031-6637-4666-a533-383330346339
DTSTAMP:20260422T075405Z
DESCRIPTION:2/7 Brno - Příbram 3:0 (19\,16\,23)
DTSTART;TZID=Europe/Berlin:20241117T110000
DTEND;TZID=Europe/Berlin:20241117T130000
LOCATION:Sportovní gymnázium Ludvíka Daňka\, Botanická 63 Brno - Ponava
SUMMARY:EX-U18M-3B: Brno-Příbram
END:VEVENT
BEGIN:VEVENT
UID:31396363-3363-4735-a365-636465636262
DTSTAMP:20260422T075405Z
DESCRIPTION:2/9 Kolín - Příbram 3:0 (17\,11\,21)
DTSTART;TZID=Europe/Berlin:20241117T150000
DTEND;TZID=Europe/Berlin:20241117T170000
LOCATION:Sportovní gymnázium Ludvíka Daňka\, Botanická 63 Brno - Ponava
SUMMARY:EX-U18M-3B: Kolín-Příbram
END:VEVENT
BEGIN:VEVENT
UID:66323461-3262-4136-a566-343462623131
DTSTAMP:20260422T075405Z
DESCRIPTION:2/6 Příbram - VK Ostrava 0:3 (-26\,-17\,-8)
DTSTART;TZID=Europe/Berlin:20250202T100000
DTEND;TZID=Europe/Berlin:20250202T120000
LOCATION:TJ Slavia Hradec Králové\, Víta Nejedlého 1216 Hradec Králové
SUMMARY:EX-U18M-4C: Příbram-VK Ostrava
END:VEVENT
BEGIN:VEVENT
UID:34343461-6365-4136-a432-663935613632
DTSTAMP:20260422T075405Z
DESCRIPTION:2/1 Hradec Králové - Příbram 3:1 (-23\,21\,14\,23)
DTSTART;TZID=Europe/Berlin:20250201T100000
DTEND;TZID=Europe/Berlin:20250201T120000
LOCATION:TJ Slavia Hradec Králové\, Víta Nejedlého 1216 Hradec Králové
SUMMARY:EX-U18M-4C: Hradec Králové-Příbram
END:VEVENT
BEGIN:VEVENT
UID:66323438-3630-4964-a339-653162336163
DTSTAMP:20260422T075405Z
DESCRIPTION:2/3 Klatovy - Příbram 3:0 (24\,22\,15)
DTSTART;TZID=Europe/Berlin:20250201T130000
DTEND;TZID=Europe/Berlin:20250201T150000
LOCATION:TJ Slavia Hradec Králové\, Víta Nejedlého 1216 Hradec Králové
SUMMARY:EX-U18M-4C: Klatovy-Příbram
END:VEVENT
BEGIN:VEVENT
UID:37663063-6435-4862-b536-396234336237
DTSTAMP:20260422T075405Z
DESCRIPTION:2/8 Kojetín - Příbram 0:3 (-16\,-22\,-16)
DTSTART;TZID=Europe/Berlin:20250202T130000
DTEND;TZID=Europe/Berlin:20250202T150000
LOCATION:TJ Slavia Hradec Králové\, Víta Nejedlého 1216 Hradec Králové
SUMMARY:EX-U18M-4C: Kojetín-Příbram
END:VEVENT
BEGIN:VEVENT
UID:34646465-3135-4565-b737-333066353035
DTSTAMP:20260422T075405Z
DESCRIPTION:5/3 Příbram - Nový Jičín 3:1 (33\,-22\,18\,20)
DTSTART;TZID=Europe/Berlin:20250301T140000
DTEND;TZID=Europe/Berlin:20250301T160000
LOCATION:Sportovní hala Ostrava -Třebovice\, 5. května 5649 Ostrava - Třebo
 vice
SUMMARY:EX-U18M-5D: Příbram-Nový Jičín
END:VEVENT
BEGIN:VEVENT
UID:36363164-3634-4162-a637-323562353265
DTSTAMP:20260422T075405Z
DESCRIPTION:5/5 Příbram - Kojetín 3:0 (25\,15\,19)
DTSTART;TZID=Europe/Berlin:20250301T180000
DTEND;TZID=Europe/Berlin:20250301T200000
LOCATION:Sportovní hala Ostrava -Třebovice\, 5. května 5649 Ostrava - Třebo
 vice
SUMMARY:EX-U18M-5D: Příbram-Kojetín
END:VEVENT
BEGIN:VEVENT
UID:39316332-6662-4338-b762-663062303937
DTSTAMP:20260422T075405Z
DESCRIPTION:5/7 Blue Ostrava - Příbram 2:3 (16\,-16\,22\,-26\,-11)
DTSTART;TZID=Europe/Berlin:20250302T110000
DTEND;TZID=Europe/Berlin:20250302T130000
LOCATION:Sportovní hala Ostrava -Třebovice\, 5. května 5649 Ostrava - Třebo
 vice
SUMMARY:EX-U18M-5D: Blue Ostrava-Příbram
END:VEVENT
BEGIN:VEVENT
UID:35366438-3565-4238-b636-366234643464
DTSTAMP:20260422T075405Z
DESCRIPTION:5/9 Svitavy - Příbram 0:3 (-14\,-15\,-11)
DTSTART;TZID=Europe/Berlin:20250302T150000
DTEND;TZID=Europe/Berlin:20250302T170000
LOCATION:Sportovní hala Ostrava -Třebovice\, 5. května 5649 Ostrava - Třebo
 vice
SUMMARY:EX-U18M-5D: Svitavy-Příbram
END:VEVENT
BEGIN:VEVENT
UID:32363232-6430-4335-a238-663761653262
DTSTAMP:20260422T075405Z
DESCRIPTION:6/6 Příbram - Hradec Králové 0:3 (-20\,-20\,-23)\nNH: Hala Na V
 odojemu Studentská 646 Klatovy - Klatovy IV
DTSTART;TZID=Europe/Berlin:20250323T090000
DTEND;TZID=Europe/Berlin:20250323T110000
LOCATION:Sportovní hala ZŠ Čapkova\, Čapkova 136 Klatovy - Klatovy V
SUMMARY:EX-U18M-6C: Příbram-Hradec Králové
END:VEVENT
BEGIN:VEVENT
UID:66633461-6533-4134-a662-626665656461
DTSTAMP:20260422T075405Z
DESCRIPTION:6/1 Klatovy - Příbram 0:3 (-16\,-25\,-20)
DTSTART;TZID=Europe/Berlin:20250322T100000
DTEND;TZID=Europe/Berlin:20250322T120000
LOCATION:Sportovní hala ZŠ Čapkova\, Čapkova 136 Klatovy - Klatovy V
SUMMARY:EX-U18M-6C: Klatovy-Příbram
END:VEVENT
BEGIN:VEVENT
UID:37353837-3731-4437-a331-623433633766
DTSTAMP:20260422T075405Z
DESCRIPTION:6/3 Zlín - Příbram 0:3 (-14\,-13\,-19)
DTSTART;TZID=Europe/Berlin:20250322T140000
DTEND;TZID=Europe/Berlin:20250322T160000
LOCATION:Sportovní hala ZŠ Čapkova\, Čapkova 136 Klatovy - Klatovy V
SUMMARY:EX-U18M-6C: Zlín-Příbram
END:VEVENT
BEGIN:VEVENT
UID:35306437-6533-4534-b461-636134303631
DTSTAMP:20260422T075405Z
DESCRIPTION:6/8 Liberec - Příbram 0:3 (-16\,-16\,-14)\nNH: Hala Na Vodojemu
  Studentská 646 Klatovy - Klatovy IV
DTSTART;TZID=Europe/Berlin:20250323T130000
DTEND;TZID=Europe/Berlin:20250323T150000
LOCATION:Sportovní hala ZŠ Čapkova\, Čapkova 136 Klatovy - Klatovy V
SUMMARY:EX-U18M-6C: Liberec-Příbram
END:VEVENT
END:VCALENDAR
