BEGIN:VCALENDAR
VERSION:2.0
PRODID:-//PVK Olymp Praha86082//NONSGML kigkonsult.se iCalcreator 2.41.80//
CALSCALE:GREGORIAN
UID:35326539-6135-4633-a337-623234326134
BEGIN:VEVENT
UID:37393239-6532-4866-b565-303533653937
DTSTAMP:20260422T033947Z
DESCRIPTION:3/7 Olymp - S V B C 3:1 (23\,-14\,14\,24)
DTSTART;TZID=Europe/Berlin:20240928T100000
DTEND;TZID=Europe/Berlin:20240928T120000
LOCATION:PVK Olymp Praha\, Přípotoční 300 Praha - Vršovice
SUMMARY:EX-U18Z-A: Olymp-S V B C
END:VEVENT
BEGIN:VEVENT
UID:31356333-3432-4431-b365-346166323933
DTSTAMP:20260422T033947Z
DESCRIPTION:4/10 Olymp - S V B C 1:3 (-21\,-23\,14\,-19)
DTSTART;TZID=Europe/Berlin:20240928T140000
DTEND;TZID=Europe/Berlin:20240928T160000
LOCATION:PVK Olymp Praha\, Přípotoční 300 Praha - Vršovice
SUMMARY:EX-U18Z-A: Olymp-S V B C
END:VEVENT
BEGIN:VEVENT
UID:62613937-3237-4139-b732-643463393230
DTSTAMP:20260422T033947Z
DESCRIPTION:7/19 Olymp - České Budějovice 3:0 (16\,20\,9)
DTSTART;TZID=Europe/Berlin:20241012T100000
DTEND;TZID=Europe/Berlin:20241012T120000
LOCATION:PVK Olymp Praha\, Přípotoční 300 Praha - Vršovice
SUMMARY:EX-U18Z-A: Olymp-České Budějovice
END:VEVENT
BEGIN:VEVENT
UID:39663562-6634-4832-b634-636634386532
DTSTAMP:20260422T033947Z
DESCRIPTION:8/22 Olymp - České Budějovice 3:0 (20\,21\,19)
DTSTART;TZID=Europe/Berlin:20241012T140000
DTEND;TZID=Europe/Berlin:20241012T160000
LOCATION:PVK Olymp Praha\, Přípotoční 300 Praha - Vršovice
SUMMARY:EX-U18Z-A: Olymp-České Budějovice
END:VEVENT
BEGIN:VEVENT
UID:37306132-6364-4535-b938-626562663362
DTSTAMP:20260422T033947Z
DESCRIPTION:11/31 Olymp - Orion Praha 3:0 (9\,22\,13)
DTSTART;TZID=Europe/Berlin:20241109T100000
DTEND;TZID=Europe/Berlin:20241109T120000
LOCATION:PVK Olymp Praha\, Přípotoční 300 Praha - Vršovice
SUMMARY:EX-U18Z-A: Olymp-Orion Praha
END:VEVENT
BEGIN:VEVENT
UID:32353766-3063-4239-b834-623363353461
DTSTAMP:20260422T033947Z
DESCRIPTION:12/34 Olymp - Orion Praha 3:0 (16\,6\,17)
DTSTART;TZID=Europe/Berlin:20241109T140000
DTEND;TZID=Europe/Berlin:20241109T160000
LOCATION:PVK Olymp Praha\, Přípotoční 300 Praha - Vršovice
SUMMARY:EX-U18Z-A: Olymp-Orion Praha
END:VEVENT
BEGIN:VEVENT
UID:64646231-3564-4138-a662-383035633030
DTSTAMP:20260422T033947Z
DESCRIPTION:15/43 Olymp - Liberec 3:2 (-23\,15\,17\,-15\,18)
DTSTART;TZID=Europe/Berlin:20241207T100000
DTEND;TZID=Europe/Berlin:20241207T120000
LOCATION:PVK Olymp Praha\, Přípotoční 300 Praha - Vršovice
SUMMARY:EX-U18Z-A: Olymp-Liberec
END:VEVENT
BEGIN:VEVENT
UID:35393738-3461-4239-b032-666635653164
DTSTAMP:20260422T033947Z
DESCRIPTION:16/46 Olymp - Liberec 3:1 (17\,15\,-23\,17)
DTSTART;TZID=Europe/Berlin:20241207T140000
DTEND;TZID=Europe/Berlin:20241207T160000
LOCATION:PVK Olymp Praha\, Přípotoční 300 Praha - Vršovice
SUMMARY:EX-U18Z-A: Olymp-Liberec
END:VEVENT
BEGIN:VEVENT
UID:36356164-6637-4235-a566-393238356137
DTSTAMP:20260422T033947Z
DESCRIPTION:19/55 Olymp - Kralupy 3:2 (21\,-19\,15\,-17\,11)
DTSTART;TZID=Europe/Berlin:20250118T100000
DTEND;TZID=Europe/Berlin:20250118T120000
LOCATION:PVK Olymp Praha\, Přípotoční 300 Praha - Vršovice
SUMMARY:EX-U18Z-A: Olymp-Kralupy
END:VEVENT
BEGIN:VEVENT
UID:34376533-3636-4432-b034-313834336339
DTSTAMP:20260422T033947Z
DESCRIPTION:20/58 Olymp - Kralupy 1:3 (20\,-20\,-26\,-14)
DTSTART;TZID=Europe/Berlin:20250118T140000
DTEND;TZID=Europe/Berlin:20250118T160000
LOCATION:PVK Olymp Praha\, Přípotoční 300 Praha - Vršovice
SUMMARY:EX-U18Z-A: Olymp-Kralupy
END:VEVENT
BEGIN:VEVENT
UID:38343931-6336-4166-a438-363939393332
DTSTAMP:20260422T033947Z
DESCRIPTION:1/1 Orion Praha - Olymp 1:3 (23\,-21\,-14\,-17)
DTSTART;TZID=Europe/Berlin:20240914T100000
DTEND;TZID=Europe/Berlin:20240914T120000
LOCATION:ZŠ Dolní Břežany\, Na Vršku 290 Dolní Břežany
SUMMARY:EX-U18Z-A: Orion Praha-Olymp
END:VEVENT
BEGIN:VEVENT
UID:61633237-6434-4161-b337-663132373035
DTSTAMP:20260422T033947Z
DESCRIPTION:2/4 Orion Praha - Olymp 2:3 (-16\,-12\,21\,20\,-13)
DTSTART;TZID=Europe/Berlin:20240914T150000
DTEND;TZID=Europe/Berlin:20240914T170000
LOCATION:ZŠ Dolní Břežany\, Na Vršku 290 Dolní Břežany
SUMMARY:EX-U18Z-A: Orion Praha-Olymp
END:VEVENT
BEGIN:VEVENT
UID:36313163-6463-4430-a466-326666383861
DTSTAMP:20260422T033947Z
DESCRIPTION:5/13 Liberec - Olymp 3:0 (22\,20\,19)
DTSTART;TZID=Europe/Berlin:20241005T100000
DTEND;TZID=Europe/Berlin:20241005T120000
LOCATION:Městská sportovní hala\, U Přehrady 4747 Jablonec nad Nisou
SUMMARY:EX-U18Z-A: Liberec-Olymp
END:VEVENT
BEGIN:VEVENT
UID:64393032-6565-4261-b461-613335386436
DTSTAMP:20260422T033947Z
DESCRIPTION:6/16 Liberec - Olymp 3:0 (20\,20\,19)
DTSTART;TZID=Europe/Berlin:20241005T140000
DTEND;TZID=Europe/Berlin:20241005T160000
LOCATION:Městská sportovní hala\, U Přehrady 4747 Jablonec nad Nisou
SUMMARY:EX-U18Z-A: Liberec-Olymp
END:VEVENT
BEGIN:VEVENT
UID:34303230-6331-4137-b339-656333623739
DTSTAMP:20260422T033947Z
DESCRIPTION:9/25 Kralupy - Olymp 1:3 (-19\,-21\,25\,-14)
DTSTART;TZID=Europe/Berlin:20241026T100000
DTEND;TZID=Europe/Berlin:20241026T120000
LOCATION:TJ KRALUPY\, z.s.\, Gen. Klapálka 1029 Kralupy nad Vltavou
SUMMARY:EX-U18Z-A: Kralupy-Olymp
END:VEVENT
BEGIN:VEVENT
UID:62353164-6465-4761-b861-643161363863
DTSTAMP:20260422T033947Z
DESCRIPTION:10/28 Kralupy - Olymp 3:1 (-24\,19\,15\,31)
DTSTART;TZID=Europe/Berlin:20241026T140000
DTEND;TZID=Europe/Berlin:20241026T160000
LOCATION:TJ KRALUPY\, z.s.\, Gen. Klapálka 1029 Kralupy nad Vltavou
SUMMARY:EX-U18Z-A: Kralupy-Olymp
END:VEVENT
BEGIN:VEVENT
UID:36306666-6133-4362-b464-383964366331
DTSTAMP:20260422T033947Z
DESCRIPTION:13/37 S V B C - Olymp 1:3 (-22\,24\,-21\,-20)
DTSTART;TZID=Europe/Berlin:20241130T110000
DTEND;TZID=Europe/Berlin:20241130T130000
LOCATION:Sportovní hala Řevnice \, Školní 600 Řevnice
SUMMARY:EX-U18Z-A: S V B C-Olymp
END:VEVENT
BEGIN:VEVENT
UID:38303162-6436-4663-b730-363437323239
DTSTAMP:20260422T033947Z
DESCRIPTION:14/40 S V B C - Olymp 1:3 (-23\,21\,-21\,-22)
DTSTART;TZID=Europe/Berlin:20241130T150000
DTEND;TZID=Europe/Berlin:20241130T170000
LOCATION:Sportovní hala Řevnice \, Školní 600 Řevnice
SUMMARY:EX-U18Z-A: S V B C-Olymp
END:VEVENT
BEGIN:VEVENT
UID:64363937-3034-4036-b835-333534366236
DTSTAMP:20260422T033947Z
DESCRIPTION:17/49 České Budějovice - Olymp 3:2 (19\,-14\,23\,-11\,12)
DTSTART;TZID=Europe/Berlin:20250111T100000
DTEND;TZID=Europe/Berlin:20250111T120000
LOCATION:Sportovní hala Litvínovice\, U Střelnice 107 Litvínovice - Šindlov
 y Dvory
SUMMARY:EX-U18Z-A: České Budějovice-Olymp
END:VEVENT
BEGIN:VEVENT
UID:34346565-3362-4638-b566-336163353761
DTSTAMP:20260422T033947Z
DESCRIPTION:18/52 České Budějovice - Olymp 0:3 (-8\,-17\,-14)
DTSTART;TZID=Europe/Berlin:20250111T140000
DTEND;TZID=Europe/Berlin:20250111T160000
LOCATION:Sportovní hala Litvínovice\, U Střelnice 107 Litvínovice - Šindlov
 y Dvory
SUMMARY:EX-U18Z-A: České Budějovice-Olymp
END:VEVENT
BEGIN:VEVENT
UID:63356139-6462-4566-b934-343839633531
DTSTAMP:20260422T033947Z
DESCRIPTION:25/14 Olymp - Frýdek - Místek 3:0 (23\,16\,23)
DTSTART;TZID=Europe/Berlin:20250426T120000
DTEND;TZID=Europe/Berlin:20250426T140000
LOCATION:PVK Olymp Praha\, Přípotoční 300 Praha - Vršovice
SUMMARY:EX-U18Z-2A: Olymp-Frýdek - Místek
END:VEVENT
BEGIN:VEVENT
UID:37656266-6632-4332-a436-303631636236
DTSTAMP:20260422T033947Z
DESCRIPTION:26/17 Olymp - Frýdek - Místek 3:0 (14\,12\,14)
DTSTART;TZID=Europe/Berlin:20250426T160000
DTEND;TZID=Europe/Berlin:20250426T180000
LOCATION:PVK Olymp Praha\, Přípotoční 300 Praha - Vršovice
SUMMARY:EX-U18Z-2A: Olymp-Frýdek - Místek
END:VEVENT
BEGIN:VEVENT
UID:30363361-3034-4462-a631-346339333939
DTSTAMP:20260422T033947Z
DESCRIPTION:27/20 Olymp - KP Brno 0:3 (-20\,-23\,-19)
DTSTART;TZID=Europe/Berlin:20250301T120000
DTEND;TZID=Europe/Berlin:20250301T140000
LOCATION:PVK Olymp Praha\, Přípotoční 300 Praha - Vršovice
SUMMARY:EX-U18Z-2A: Olymp-KP Brno
END:VEVENT
BEGIN:VEVENT
UID:36353636-6137-4362-a462-353833396637
DTSTAMP:20260422T033947Z
DESCRIPTION:28/23 Olymp - KP Brno 3:0 (16\,11\,17)
DTSTART;TZID=Europe/Berlin:20250301T160000
DTEND;TZID=Europe/Berlin:20250301T180000
LOCATION:PVK Olymp Praha\, Přípotoční 300 Praha - Vršovice
SUMMARY:EX-U18Z-2A: Olymp-KP Brno
END:VEVENT
BEGIN:VEVENT
UID:31333731-3966-4638-b334-386638383363
DTSTAMP:20260422T033947Z
DESCRIPTION:29/26 Olymp - Prostějov 3:2 (-24\,24\,-22\,12\,13)
DTSTART;TZID=Europe/Berlin:20250217T100000
DTEND;TZID=Europe/Berlin:20250217T120000
LOCATION:PVK Olymp Praha\, Přípotoční 300 Praha - Vršovice
SUMMARY:EX-U18Z-2A: Olymp-Prostějov
END:VEVENT
BEGIN:VEVENT
UID:39366632-3463-4166-a664-633630303062
DTSTAMP:20260422T033947Z
DESCRIPTION:30/29 Olymp - Prostějov 3:0 (17\,19\,21)
DTSTART;TZID=Europe/Berlin:20250217T140000
DTEND;TZID=Europe/Berlin:20250217T160000
LOCATION:PVK Olymp Praha\, Přípotoční 300 Praha - Vršovice
SUMMARY:EX-U18Z-2A: Olymp-Prostějov
END:VEVENT
BEGIN:VEVENT
UID:63643131-3634-4836-a362-613831326265
DTSTAMP:20260422T033947Z
DESCRIPTION:21/2 KP Brno - Olymp 0:3 (-22\,-20\,-19)
DTSTART;TZID=Europe/Berlin:20250201T120000
DTEND;TZID=Europe/Berlin:20250201T140000
LOCATION:Sportovní gymnázium Ludvíka Daňka\, Botanická 63 Brno - Ponava
SUMMARY:EX-U18Z-2A: KP Brno-Olymp
END:VEVENT
BEGIN:VEVENT
UID:32343863-3035-4863-b761-666163666532
DTSTAMP:20260422T033947Z
DESCRIPTION:22/5 KP Brno - Olymp 1:3 (-19\,-23\,12\,-24)
DTSTART;TZID=Europe/Berlin:20250201T160000
DTEND;TZID=Europe/Berlin:20250201T180000
LOCATION:Sportovní gymnázium Ludvíka Daňka\, Botanická 63 Brno - Ponava
SUMMARY:EX-U18Z-2A: KP Brno-Olymp
END:VEVENT
BEGIN:VEVENT
UID:36636662-3762-4632-b538-623832396631
DTSTAMP:20260422T033947Z
DESCRIPTION:23/7 Prostějov - Olymp 3:0 (20\,16\,19)
DTSTART;TZID=Europe/Berlin:20250416T123000
DTEND;TZID=Europe/Berlin:20250416T143000
LOCATION:Národní sportovní centrum\, Za velodromem 4187 Prostějov
SUMMARY:EX-U18Z-2A: Prostějov-Olymp
END:VEVENT
BEGIN:VEVENT
UID:32646166-3830-4665-a664-383039323034
DTSTAMP:20260422T033947Z
DESCRIPTION:24/10 Prostějov - Olymp 3:0 (20\,20\,19)
DTSTART;TZID=Europe/Berlin:20250416T160000
DTEND;TZID=Europe/Berlin:20250416T180000
LOCATION:Národní sportovní centrum\, Za velodromem 4187 Prostějov
SUMMARY:EX-U18Z-2A: Prostějov-Olymp
END:VEVENT
BEGIN:VEVENT
UID:39633934-6361-4836-a638-653562393734
DTSTAMP:20260422T033947Z
DESCRIPTION:31/33 Frýdek - Místek - Olymp 1:3 (-7\,27\,-18\,-16)
DTSTART;TZID=Europe/Berlin:20250215T120000
DTEND;TZID=Europe/Berlin:20250215T140000
LOCATION:ZŠ 1.máje 1700 Frýdek-Místek\, 1. máje 1700 Frýdek-Místek - Místek
SUMMARY:EX-U18Z-2A: Frýdek - Místek-Olymp
END:VEVENT
BEGIN:VEVENT
UID:31636233-3239-4232-a533-383565363535
DTSTAMP:20260422T033947Z
DESCRIPTION:32/36 Frýdek - Místek - Olymp 0:3 (-17\,-24\,-23)
DTSTART;TZID=Europe/Berlin:20250215T160000
DTEND;TZID=Europe/Berlin:20250215T180000
LOCATION:ZŠ 1.máje 1700 Frýdek-Místek\, 1. máje 1700 Frýdek-Místek - Místek
SUMMARY:EX-U18Z-2A: Frýdek - Místek-Olymp
END:VEVENT
BEGIN:VEVENT
UID:63326364-3137-4536-b630-383265323236
DTSTAMP:20260422T033947Z
DESCRIPTION:2/5 Olymp - Prostějov 3:1 (19\,-24\,17\,15)\nSF2
DTSTART;TZID=Europe/Berlin:20250510T160000
DTEND;TZID=Europe/Berlin:20250510T180000
LOCATION:Městská sportovní hala\, Petřivalského 2884 Přerov - Přerov I-Měst
 o
SUMMARY:EX-U18Z-F: Olymp-Prostějov
END:VEVENT
BEGIN:VEVENT
UID:37323639-6532-4663-b662-623838306139
DTSTAMP:20260422T033947Z
DESCRIPTION:3/7 KP Brno - Olymp 1:3 (21\,-17\,-24\,-12)\nfinále
DTSTART;TZID=Europe/Berlin:20250511T130000
DTEND;TZID=Europe/Berlin:20250511T150000
LOCATION:Městská sportovní hala\, Petřivalského 2884 Přerov - Přerov I-Měst
 o
SUMMARY:EX-U18Z-F: KP Brno-Olymp
END:VEVENT
END:VCALENDAR
