BEGIN:VCALENDAR
VERSION:2.0
PRODID:-//TJ Ostrava86085//NONSGML kigkonsult.se iCalcreator 2.41.80//
CALSCALE:GREGORIAN
UID:35386133-3033-4535-b430-333735343331
BEGIN:VEVENT
UID:62613931-6637-4736-a239-343232333534
DTSTAMP:20260422T052739Z
DESCRIPTION:3/8 Ostrava - Bedřichov 3:1 (-17\,17\,22\,13)
DTSTART;TZID=Europe/Berlin:20241130T120000
DTEND;TZID=Europe/Berlin:20241130T140000
LOCATION:Hala mládeže\, Gajdošova 1893 Ostrava - Moravská Ostrava
SUMMARY:EX-U18Z-B: Ostrava-Bedřichov
END:VEVENT
BEGIN:VEVENT
UID:63373234-3533-4065-a338-343034333439
DTSTAMP:20260422T052739Z
DESCRIPTION:4/11 Ostrava - Bedřichov 1:3 (14\,-22\,-19\,-19)
DTSTART;TZID=Europe/Berlin:20241130T160000
DTEND;TZID=Europe/Berlin:20241130T180000
LOCATION:Hala mládeže\, Gajdošova 1893 Ostrava - Moravská Ostrava
SUMMARY:EX-U18Z-B: Ostrava-Bedřichov
END:VEVENT
BEGIN:VEVENT
UID:36336639-3539-4634-b336-636163346662
DTSTAMP:20260422T052739Z
DESCRIPTION:9/27 Ostrava - Prostějov 0:3 (-8\,-11\,-13)
DTSTART;TZID=Europe/Berlin:20241026T100000
DTEND;TZID=Europe/Berlin:20241026T120000
LOCATION:Hala míčových sportů\, Varenská 3098 Ostrava - Moravská Ostrava
SUMMARY:EX-U18Z-B: Ostrava-Prostějov
END:VEVENT
BEGIN:VEVENT
UID:37323861-6566-4861-b061-663736323963
DTSTAMP:20260422T052739Z
DESCRIPTION:10/30 Ostrava - Prostějov 0:3 (-20\,-17\,-18)
DTSTART;TZID=Europe/Berlin:20241026T140000
DTEND;TZID=Europe/Berlin:20241026T160000
LOCATION:Hala míčových sportů\, Varenská 3098 Ostrava - Moravská Ostrava
SUMMARY:EX-U18Z-B: Ostrava-Prostějov
END:VEVENT
BEGIN:VEVENT
UID:39313530-6438-4136-b839-323337333266
DTSTAMP:20260422T052739Z
DESCRIPTION:11/32 Ostrava - Lanškroun 3:0 (20\,20\,20)
DTSTART;TZID=Europe/Berlin:20241109T120000
DTEND;TZID=Europe/Berlin:20241109T140000
LOCATION:Hala mládeže\, Gajdošova 1893 Ostrava - Moravská Ostrava
SUMMARY:EX-U18Z-B: Ostrava-Lanškroun
END:VEVENT
BEGIN:VEVENT
UID:38346266-3062-4265-b461-373738666132
DTSTAMP:20260422T052739Z
DESCRIPTION:12/35 Ostrava - Lanškroun 3:0 (22\,20\,19)
DTSTART;TZID=Europe/Berlin:20241109T160000
DTEND;TZID=Europe/Berlin:20241109T180000
LOCATION:Hala mládeže\, Gajdošova 1893 Ostrava - Moravská Ostrava
SUMMARY:EX-U18Z-B: Ostrava-Lanškroun
END:VEVENT
BEGIN:VEVENT
UID:61393038-3434-4035-b330-363639643339
DTSTAMP:20260422T052739Z
DESCRIPTION:15/45 Ostrava - KP Brno 2:3 (-12\,23\,11\,-18\,-8)
DTSTART;TZID=Europe/Berlin:20241207T110000
DTEND;TZID=Europe/Berlin:20241207T130000
LOCATION:Hala mládeže\, Gajdošova 1893 Ostrava - Moravská Ostrava
SUMMARY:EX-U18Z-B: Ostrava-KP Brno
END:VEVENT
BEGIN:VEVENT
UID:32333365-6462-4463-b534-316531636633
DTSTAMP:20260422T052739Z
DESCRIPTION:16/48 Ostrava - KP Brno 0:3 (-23\,-22\,-17)
DTSTART;TZID=Europe/Berlin:20241207T150000
DTEND;TZID=Europe/Berlin:20241207T170000
LOCATION:Hala mládeže\, Gajdošova 1893 Ostrava - Moravská Ostrava
SUMMARY:EX-U18Z-B: Ostrava-KP Brno
END:VEVENT
BEGIN:VEVENT
UID:35623330-3638-4665-b765-336433366433
DTSTAMP:20260422T052739Z
DESCRIPTION:17/49 Ostrava - Frýdek - Místek 0:3 (-13\,-19\,-30)
DTSTART;TZID=Europe/Berlin:20250116T160000
DTEND;TZID=Europe/Berlin:20250116T180000
LOCATION:Hala mládeže\, Gajdošova 1893 Ostrava - Moravská Ostrava
SUMMARY:EX-U18Z-B: Ostrava-Frýdek - Místek
END:VEVENT
BEGIN:VEVENT
UID:34316632-3964-4330-b031-623637623337
DTSTAMP:20260422T052739Z
DESCRIPTION:18/52 Ostrava - Frýdek - Místek 0:3 (-21\,-21\,-13)
DTSTART;TZID=Europe/Berlin:20250116T190000
DTEND;TZID=Europe/Berlin:20250116T210000
LOCATION:Hala mládeže\, Gajdošova 1893 Ostrava - Moravská Ostrava
SUMMARY:EX-U18Z-B: Ostrava-Frýdek - Místek
END:VEVENT
BEGIN:VEVENT
UID:36643133-6162-4335-b833-326565653336
DTSTAMP:20260422T052739Z
DESCRIPTION:1/2 Lanškroun - Ostrava 0:3 (-15\,-19\,-21)
DTSTART;TZID=Europe/Berlin:20240914T110000
DTEND;TZID=Europe/Berlin:20240914T130000
LOCATION:SOŠ a SOU Lanškroun\, Sokolská 288 Lanškroun - Ostrovské Předměstí
SUMMARY:EX-U18Z-B: Lanškroun-Ostrava
END:VEVENT
BEGIN:VEVENT
UID:62383537-6630-4634-a235-333834393834
DTSTAMP:20260422T052739Z
DESCRIPTION:2/5 Lanškroun - Ostrava 1:3 (24\,-12\,-22\,-25)
DTSTART;TZID=Europe/Berlin:20240914T140000
DTEND;TZID=Europe/Berlin:20240914T160000
LOCATION:SOŠ a SOU Lanškroun\, Sokolská 288 Lanškroun - Ostrovské Předměstí
SUMMARY:EX-U18Z-B: Lanškroun-Ostrava
END:VEVENT
BEGIN:VEVENT
UID:65636166-3232-4235-a461-386364343235
DTSTAMP:20260422T052739Z
DESCRIPTION:5/15 KP Brno - Ostrava 3:2 (16\,-21\,21\,-23\,8)
DTSTART;TZID=Europe/Berlin:20241005T110000
DTEND;TZID=Europe/Berlin:20241005T130000
LOCATION:Sportovní gymnázium Ludvíka Daňka\, Botanická 63 Brno - Ponava
SUMMARY:EX-U18Z-B: KP Brno-Ostrava
END:VEVENT
BEGIN:VEVENT
UID:32373436-3734-4337-a366-356664386132
DTSTAMP:20260422T052739Z
DESCRIPTION:6/18 KP Brno - Ostrava 3:1 (18\,25\,-20\,17)
DTSTART;TZID=Europe/Berlin:20241005T150000
DTEND;TZID=Europe/Berlin:20241005T170000
LOCATION:Sportovní gymnázium Ludvíka Daňka\, Botanická 63 Brno - Ponava
SUMMARY:EX-U18Z-B: KP Brno-Ostrava
END:VEVENT
BEGIN:VEVENT
UID:64386465-6638-4164-b538-303034353264
DTSTAMP:20260422T052739Z
DESCRIPTION:7/19 Frýdek - Místek - Ostrava 3:1 (-23\,21\,16\,21)
DTSTART;TZID=Europe/Berlin:20241012T100000
DTEND;TZID=Europe/Berlin:20241012T120000
LOCATION:ZŠ 1.máje 1700 Frýdek-Místek\, 1. máje 1700 Frýdek-Místek - Místek
SUMMARY:EX-U18Z-B: Frýdek - Místek-Ostrava
END:VEVENT
BEGIN:VEVENT
UID:38393364-6562-4235-a566-633431303863
DTSTAMP:20260422T052739Z
DESCRIPTION:8/22 Frýdek - Místek - Ostrava 3:2 (-13\,-25\,22\,15\,5)
DTSTART;TZID=Europe/Berlin:20241012T140000
DTEND;TZID=Europe/Berlin:20241012T160000
LOCATION:ZŠ 1.máje 1700 Frýdek-Místek\, 1. máje 1700 Frýdek-Místek - Místek
SUMMARY:EX-U18Z-B: Frýdek - Místek-Ostrava
END:VEVENT
BEGIN:VEVENT
UID:66393330-3262-4863-b764-643432373938
DTSTAMP:20260422T052739Z
DESCRIPTION:13/38 Bedřichov - Ostrava 3:1 (-18\,22\,15\,19)
DTSTART;TZID=Europe/Berlin:20240928T110000
DTEND;TZID=Europe/Berlin:20240928T130000
LOCATION:TJ Sokol Bedřichov\, Jihlava\, Sokolovská 4656 Jihlava
SUMMARY:EX-U18Z-B: Bedřichov-Ostrava
END:VEVENT
BEGIN:VEVENT
UID:61323262-3739-4462-b935-633831363537
DTSTAMP:20260422T052739Z
DESCRIPTION:14/41 Bedřichov - Ostrava 3:0 (16\,20\,7)
DTSTART;TZID=Europe/Berlin:20240928T150000
DTEND;TZID=Europe/Berlin:20240928T170000
LOCATION:TJ Sokol Bedřichov\, Jihlava\, Sokolovská 4656 Jihlava
SUMMARY:EX-U18Z-B: Bedřichov-Ostrava
END:VEVENT
BEGIN:VEVENT
UID:32383933-3363-4864-b734-386261393564
DTSTAMP:20260422T052739Z
DESCRIPTION:19/57 Prostějov - Ostrava 0:3 (-20\,-21\,-14)
DTSTART;TZID=Europe/Berlin:20250119T100000
DTEND;TZID=Europe/Berlin:20250119T120000
LOCATION:Národní sportovní centrum\, Za velodromem 4187 Prostějov
SUMMARY:EX-U18Z-B: Prostějov-Ostrava
END:VEVENT
BEGIN:VEVENT
UID:32633337-3165-4535-b238-356236656363
DTSTAMP:20260422T052739Z
DESCRIPTION:20/60 Prostějov - Ostrava 1:3 (-21\,-23\,19\,-17)
DTSTART;TZID=Europe/Berlin:20250119T140000
DTEND;TZID=Europe/Berlin:20250119T160000
LOCATION:Národní sportovní centrum\, Za velodromem 4187 Prostějov
SUMMARY:EX-U18Z-B: Prostějov-Ostrava
END:VEVENT
BEGIN:VEVENT
UID:30613466-3534-4936-b531-386264376333
DTSTAMP:20260422T052739Z
DESCRIPTION:23/8 Ostrava - Liberec 1:3 (-19\,-23\,21\,-23)
DTSTART;TZID=Europe/Berlin:20250409T120000
DTEND;TZID=Europe/Berlin:20250409T140000
LOCATION:Hala mládeže\, Gajdošova 1893 Ostrava - Moravská Ostrava
SUMMARY:EX-U18Z-2B: Ostrava-Liberec
END:VEVENT
BEGIN:VEVENT
UID:64323366-6331-4635-b462-343461323361
DTSTAMP:20260422T052739Z
DESCRIPTION:24/11 Ostrava - Liberec 1:3 (24\,-21\,-20\,-18)
DTSTART;TZID=Europe/Berlin:20250409T160000
DTEND;TZID=Europe/Berlin:20250409T180000
LOCATION:Hala mládeže\, Gajdošova 1893 Ostrava - Moravská Ostrava
SUMMARY:EX-U18Z-2B: Ostrava-Liberec
END:VEVENT
BEGIN:VEVENT
UID:39333530-3038-4138-b833-623362346333
DTSTAMP:20260422T052739Z
DESCRIPTION:27/20 Ostrava - Orion Praha 3:2 (19\,-18\,18\,-22\,12)
DTSTART;TZID=Europe/Berlin:20250301T130000
DTEND;TZID=Europe/Berlin:20250301T150000
LOCATION:Hala mládeže\, Gajdošova 1893 Ostrava - Moravská Ostrava
SUMMARY:EX-U18Z-2B: Ostrava-Orion Praha
END:VEVENT
BEGIN:VEVENT
UID:36353235-3436-4566-a565-303830633239
DTSTAMP:20260422T052739Z
DESCRIPTION:28/23 Ostrava - Orion Praha 3:0 (22\,22\,17)
DTSTART;TZID=Europe/Berlin:20250301T160000
DTEND;TZID=Europe/Berlin:20250301T180000
LOCATION:Hala mládeže\, Gajdošova 1893 Ostrava - Moravská Ostrava
SUMMARY:EX-U18Z-2B: Ostrava-Orion Praha
END:VEVENT
BEGIN:VEVENT
UID:32313137-6434-4230-b766-613136613937
DTSTAMP:20260422T052739Z
DESCRIPTION:31/32 Ostrava - České Budějovice 3:1 (-21\,21\,15\,25)
DTSTART;TZID=Europe/Berlin:20250322T100000
DTEND;TZID=Europe/Berlin:20250322T120000
LOCATION:Hala mládeže\, Gajdošova 1893 Ostrava - Moravská Ostrava
SUMMARY:EX-U18Z-2B: Ostrava-České Budějovice
END:VEVENT
BEGIN:VEVENT
UID:63633630-3930-4362-a263-373935383233
DTSTAMP:20260422T052739Z
DESCRIPTION:32/35 Ostrava - České Budějovice 1:3 (-18\,-13\,19\,-23)
DTSTART;TZID=Europe/Berlin:20250322T140000
DTEND;TZID=Europe/Berlin:20250322T160000
LOCATION:Hala mládeže\, Gajdošova 1893 Ostrava - Moravská Ostrava
SUMMARY:EX-U18Z-2B: Ostrava-České Budějovice
END:VEVENT
BEGIN:VEVENT
UID:39313638-3332-4661-b038-303433643866
DTSTAMP:20260422T052739Z
DESCRIPTION:21/2 Orion Praha - Ostrava 3:2 (-17\,-23\,22\,17\,11)
DTSTART;TZID=Europe/Berlin:20250131T123000
DTEND;TZID=Europe/Berlin:20250131T143000
LOCATION:ZŠ Dolní Břežany\, Na Vršku 290 Dolní Břežany
SUMMARY:EX-U18Z-2B: Orion Praha-Ostrava
END:VEVENT
BEGIN:VEVENT
UID:65366466-6632-4364-b264-666264313865
DTSTAMP:20260422T052739Z
DESCRIPTION:22/5 Orion Praha - Ostrava 3:1 (18\,-17\,23\,19)
DTSTART;TZID=Europe/Berlin:20250131T160000
DTEND;TZID=Europe/Berlin:20250131T180000
LOCATION:ZŠ Dolní Břežany\, Na Vršku 290 Dolní Břežany
SUMMARY:EX-U18Z-2B: Orion Praha-Ostrava
END:VEVENT
BEGIN:VEVENT
UID:33663565-6439-4132-b839-643761396139
DTSTAMP:20260422T052739Z
DESCRIPTION:25/15 České Budějovice - Ostrava 0:3 (-24\,-27\,-13)
DTSTART;TZID=Europe/Berlin:20250405T100000
DTEND;TZID=Europe/Berlin:20250405T120000
LOCATION:Sportovní hala Litvínovice\, U Střelnice 107 Litvínovice - Šindlov
 y Dvory
SUMMARY:EX-U18Z-2B: České Budějovice-Ostrava
END:VEVENT
BEGIN:VEVENT
UID:31373534-3961-4137-a239-656663376465
DTSTAMP:20260422T052739Z
DESCRIPTION:26/18 České Budějovice - Ostrava 0:3 (-19\,-23\,-22)
DTSTART;TZID=Europe/Berlin:20250405T140000
DTEND;TZID=Europe/Berlin:20250405T160000
LOCATION:Sportovní hala Litvínovice\, U Střelnice 107 Litvínovice - Šindlov
 y Dvory
SUMMARY:EX-U18Z-2B: České Budějovice-Ostrava
END:VEVENT
BEGIN:VEVENT
UID:65623663-3130-4466-b762-313832346433
DTSTAMP:20260422T052739Z
DESCRIPTION:29/25 Liberec - Ostrava 3:0 (14\,9\,11)
DTSTART;TZID=Europe/Berlin:20250205T100000
DTEND;TZID=Europe/Berlin:20250205T120000
LOCATION:Městská sportovní hala\, U Přehrady 4747 Jablonec nad Nisou
SUMMARY:EX-U18Z-2B: Liberec-Ostrava
END:VEVENT
BEGIN:VEVENT
UID:62613662-3432-4165-a465-373331353133
DTSTAMP:20260422T052739Z
DESCRIPTION:30/28 Liberec - Ostrava 3:0 (17\,21\,14)
DTSTART;TZID=Europe/Berlin:20250205T133000
DTEND;TZID=Europe/Berlin:20250205T153000
LOCATION:Městská sportovní hala\, U Přehrady 4747 Jablonec nad Nisou
SUMMARY:EX-U18Z-2B: Liberec-Ostrava
END:VEVENT
END:VCALENDAR
