BEGIN:VCALENDAR
VERSION:2.0
PRODID:-//SK Kometa Praha86099//NONSGML kigkonsult.se iCalcreator 2.41.80//
CALSCALE:GREGORIAN
UID:34356534-3235-4135-b465-366535396530
BEGIN:VEVENT
UID:65313435-6665-4164-a436-613566353935
DTSTAMP:20260422T202308Z
DESCRIPTION:5/15 Kometa - Jirkov 1:3 (-16\,16\,-20\,-23)
DTSTART;TZID=Europe/Berlin:20241005T100000
DTEND;TZID=Europe/Berlin:20241005T120000
LOCATION:Tělocvična ZŠ Na Šutce\, Na Šutce 440 Praha - Troja
SUMMARY:1-U18Z-A: Kometa-Jirkov
END:VEVENT
BEGIN:VEVENT
UID:62373330-6362-4666-a664-633537393662
DTSTAMP:20260422T202308Z
DESCRIPTION:6/18 Kometa - Jirkov 3:0 (21\,17\,20)
DTSTART;TZID=Europe/Berlin:20241005T140000
DTEND;TZID=Europe/Berlin:20241005T160000
LOCATION:Tělocvična ZŠ Na Šutce\, Na Šutce 440 Praha - Troja
SUMMARY:1-U18Z-A: Kometa-Jirkov
END:VEVENT
BEGIN:VEVENT
UID:37623431-3634-4564-b834-653965633234
DTSTAMP:20260422T202308Z
DESCRIPTION:9/26 Kometa - Mikulova 3:0 (24\,22\,23)
DTSTART;TZID=Europe/Berlin:20241026T100000
DTEND;TZID=Europe/Berlin:20241026T120000
LOCATION:Tělocvična ZŠ Na Šutce\, Na Šutce 440 Praha - Troja
SUMMARY:1-U18Z-A: Kometa-Mikulova
END:VEVENT
BEGIN:VEVENT
UID:65356135-3631-4462-a531-336338333565
DTSTAMP:20260422T202308Z
DESCRIPTION:10/29 Kometa - Mikulova 3:0 (19\,19\,19)
DTSTART;TZID=Europe/Berlin:20241026T140000
DTEND;TZID=Europe/Berlin:20241026T160000
LOCATION:Tělocvična ZŠ Na Šutce\, Na Šutce 440 Praha - Troja
SUMMARY:1-U18Z-A: Kometa-Mikulova
END:VEVENT
BEGIN:VEVENT
UID:63626337-6132-4831-b734-313339373439
DTSTAMP:20260422T202308Z
DESCRIPTION:11/33 Kometa - Karlovy Vary 3:0 (11\,20\,13)
DTSTART;TZID=Europe/Berlin:20241109T100000
DTEND;TZID=Europe/Berlin:20241109T120000
LOCATION:Tělocvična ZŠ Na Šutce\, Na Šutce 440 Praha - Troja
SUMMARY:1-U18Z-A: Kometa-Karlovy Vary
END:VEVENT
BEGIN:VEVENT
UID:66643332-3864-4136-b637-343834643164
DTSTAMP:20260422T202308Z
DESCRIPTION:12/36 Kometa - Karlovy Vary 3:0 (16\,19\,15)
DTSTART;TZID=Europe/Berlin:20241109T140000
DTEND;TZID=Europe/Berlin:20241109T160000
LOCATION:Tělocvična ZŠ Na Šutce\, Na Šutce 440 Praha - Troja
SUMMARY:1-U18Z-A: Kometa-Karlovy Vary
END:VEVENT
BEGIN:VEVENT
UID:31306633-3363-4637-b439-363934393833
DTSTAMP:20260422T202308Z
DESCRIPTION:13/37 Kometa - Střešovice 3:2 (-16\,-23\,19\,10\,8)
DTSTART;TZID=Europe/Berlin:20241130T100000
DTEND;TZID=Europe/Berlin:20241130T120000
LOCATION:Tělocvična ZŠ Na Šutce\, Na Šutce 440 Praha - Troja
SUMMARY:1-U18Z-A: Kometa-Střešovice
END:VEVENT
BEGIN:VEVENT
UID:38666533-3139-4163-b538-373762383536
DTSTAMP:20260422T202308Z
DESCRIPTION:14/40 Kometa - Střešovice 2:3 (19\,-29\,25\,-16\,-13)
DTSTART;TZID=Europe/Berlin:20241130T140000
DTEND;TZID=Europe/Berlin:20241130T160000
LOCATION:Tělocvična ZŠ Na Šutce\, Na Šutce 440 Praha - Troja
SUMMARY:1-U18Z-A: Kometa-Střešovice
END:VEVENT
BEGIN:VEVENT
UID:61373661-3431-4461-b533-663465303032
DTSTAMP:20260422T202308Z
DESCRIPTION:17/50 Kometa - Plzeň 1:3 (20\,-21\,-23\,-18)
DTSTART;TZID=Europe/Berlin:20250111T100000
DTEND;TZID=Europe/Berlin:20250111T120000
LOCATION:Tělocvična ZŠ Na Šutce\, Na Šutce 440 Praha - Troja
SUMMARY:1-U18Z-A: Kometa-Plzeň
END:VEVENT
BEGIN:VEVENT
UID:38623431-3136-4437-b933-316530666164
DTSTAMP:20260422T202308Z
DESCRIPTION:18/53 Kometa - Plzeň 3:1 (18\,-21\,24\,19)
DTSTART;TZID=Europe/Berlin:20250111T140000
DTEND;TZID=Europe/Berlin:20250111T160000
LOCATION:Tělocvična ZŠ Na Šutce\, Na Šutce 440 Praha - Troja
SUMMARY:1-U18Z-A: Kometa-Plzeň
END:VEVENT
BEGIN:VEVENT
UID:39666166-3932-4337-b461-376239636132
DTSTAMP:20260422T202308Z
DESCRIPTION:1/3 Karlovy Vary - Kometa 3:2 (-22\,24\,22\,-26\,13)
DTSTART;TZID=Europe/Berlin:20240915T110000
DTEND;TZID=Europe/Berlin:20240915T130000
LOCATION:Mattoni Arena Hala míčových sportů\, Západní 1812 Karlovy Vary
SUMMARY:1-U18Z-A: Karlovy Vary-Kometa
END:VEVENT
BEGIN:VEVENT
UID:61623733-3735-4736-b138-356663636233
DTSTAMP:20260422T202308Z
DESCRIPTION:2/6 Karlovy Vary - Kometa 1:3 (19\,-5\,-22\,-19)
DTSTART;TZID=Europe/Berlin:20240915T150000
DTEND;TZID=Europe/Berlin:20240915T170000
LOCATION:Mattoni Arena Hala míčových sportů\, Západní 1812 Karlovy Vary
SUMMARY:1-U18Z-A: Karlovy Vary-Kometa
END:VEVENT
BEGIN:VEVENT
UID:32613837-3237-4661-a561-613830343166
DTSTAMP:20260422T202308Z
DESCRIPTION:3/7 Střešovice - Kometa 0:3 (-20\,-18\,-13)
DTSTART;TZID=Europe/Berlin:20240928T100000
DTEND;TZID=Europe/Berlin:20240928T120000
LOCATION:TJ Tatran Střešovice\, Sibeliova 368 Praha - Střešovice
SUMMARY:1-U18Z-A: Střešovice-Kometa
END:VEVENT
BEGIN:VEVENT
UID:33623839-3365-4963-b237-666465326537
DTSTAMP:20260422T202308Z
DESCRIPTION:4/10 Střešovice - Kometa 0:3 (-18\,-17\,-22)
DTSTART;TZID=Europe/Berlin:20240928T140000
DTEND;TZID=Europe/Berlin:20240928T160000
LOCATION:TJ Tatran Střešovice\, Sibeliova 368 Praha - Střešovice
SUMMARY:1-U18Z-A: Střešovice-Kometa
END:VEVENT
BEGIN:VEVENT
UID:66626662-3464-4234-b837-363963633462
DTSTAMP:20260422T202308Z
DESCRIPTION:7/20 Plzeň - Kometa 3:1 (17\,12\,-17\,23)
DTSTART;TZID=Europe/Berlin:20241012T100000
DTEND;TZID=Europe/Berlin:20241012T120000
LOCATION:Sportovní hala - SG Plzeň\, Vejprnická 663 Plzeň - Skvrňany
SUMMARY:1-U18Z-A: Plzeň-Kometa
END:VEVENT
BEGIN:VEVENT
UID:66353437-3162-4138-a661-666265356630
DTSTAMP:20260422T202308Z
DESCRIPTION:8/23 Plzeň - Kometa 3:2 (22\,-18\,-13\,13\,14)
DTSTART;TZID=Europe/Berlin:20241012T140000
DTEND;TZID=Europe/Berlin:20241012T160000
LOCATION:Sportovní hala - SG Plzeň\, Vejprnická 663 Plzeň - Skvrňany
SUMMARY:1-U18Z-A: Plzeň-Kometa
END:VEVENT
BEGIN:VEVENT
UID:62653763-6161-4861-a133-663036656138
DTSTAMP:20260422T202308Z
DESCRIPTION:15/45 Jirkov - Kometa 3:1 (19\,10\,-21\,23)
DTSTART;TZID=Europe/Berlin:20241207T100000
DTEND;TZID=Europe/Berlin:20241207T120000
LOCATION:Sportovní hala MG a ZŠ Jirkov\, Krušnohorská 1675 Jirkov
SUMMARY:1-U18Z-A: Jirkov-Kometa
END:VEVENT
BEGIN:VEVENT
UID:65336465-6430-4861-b766-333063303832
DTSTAMP:20260422T202308Z
DESCRIPTION:16/48 Jirkov - Kometa 3:1 (16\,19\,-24\,22)
DTSTART;TZID=Europe/Berlin:20241207T140000
DTEND;TZID=Europe/Berlin:20241207T160000
LOCATION:Sportovní hala MG a ZŠ Jirkov\, Krušnohorská 1675 Jirkov
SUMMARY:1-U18Z-A: Jirkov-Kometa
END:VEVENT
BEGIN:VEVENT
UID:38366636-6135-4466-a136-343564623437
DTSTAMP:20260422T202308Z
DESCRIPTION:19/56 Mikulova - Kometa 0:3 (-16\,-20\,-11)
DTSTART;TZID=Europe/Berlin:20250119T120000
DTEND;TZID=Europe/Berlin:20250119T140000
LOCATION:Sportovní hala DDM Praha 12 - Monet\, Herrmannova 2016 Praha - Mod
 řany
SUMMARY:1-U18Z-A: Mikulova-Kometa
END:VEVENT
BEGIN:VEVENT
UID:64323562-3734-4238-a334-343130656235
DTSTAMP:20260422T202308Z
DESCRIPTION:20/59 Mikulova - Kometa 2:3 (23\,23\,-21\,-15\,-14)
DTSTART;TZID=Europe/Berlin:20250119T160000
DTEND;TZID=Europe/Berlin:20250119T180000
LOCATION:Sportovní hala DDM Praha 12 - Monet\, Herrmannova 2016 Praha - Mod
 řany
SUMMARY:1-U18Z-A: Mikulova-Kometa
END:VEVENT
BEGIN:VEVENT
UID:34616361-3364-4263-a332-633063313462
DTSTAMP:20260422T202308Z
DESCRIPTION:1/3 Kometa - Jihlava 2:3 (-20\,21\,-14\,19\,-13)
DTSTART;TZID=Europe/Berlin:20250201T100000
DTEND;TZID=Europe/Berlin:20250201T120000
LOCATION:Tělocvična ZŠ Na Šutce\, Na Šutce 440 Praha - Troja
SUMMARY:1-U18Z-I: Kometa-Jihlava
END:VEVENT
BEGIN:VEVENT
UID:30326333-3236-4433-b530-633230626131
DTSTAMP:20260422T202308Z
DESCRIPTION:2/6 Kometa - Jihlava 3:2 (-20\,8\,-23\,23\,14)
DTSTART;TZID=Europe/Berlin:20250201T140000
DTEND;TZID=Europe/Berlin:20250201T160000
LOCATION:Tělocvična ZŠ Na Šutce\, Na Šutce 440 Praha - Troja
SUMMARY:1-U18Z-I: Kometa-Jihlava
END:VEVENT
BEGIN:VEVENT
UID:31656361-6136-4431-a233-653161616163
DTSTAMP:20260422T202308Z
DESCRIPTION:5/15 Kometa - Šternberk 3:0 (26\,22\,20)
DTSTART;TZID=Europe/Berlin:20250301T100000
DTEND;TZID=Europe/Berlin:20250301T120000
LOCATION:Tělocvična ZŠ Na Šutce\, Na Šutce 440 Praha - Troja
SUMMARY:1-U18Z-I: Kometa-Šternberk
END:VEVENT
BEGIN:VEVENT
UID:61386338-3939-4564-b539-346132633965
DTSTAMP:20260422T202308Z
DESCRIPTION:6/18 Kometa - Šternberk 3:2 (25\,-22\,19\,-19\,10)
DTSTART;TZID=Europe/Berlin:20250301T140000
DTEND;TZID=Europe/Berlin:20250301T160000
LOCATION:Tělocvična ZŠ Na Šutce\, Na Šutce 440 Praha - Troja
SUMMARY:1-U18Z-I: Kometa-Šternberk
END:VEVENT
BEGIN:VEVENT
UID:35623664-3561-4834-a534-346130383265
DTSTAMP:20260422T202308Z
DESCRIPTION:9/27 Kometa - Hradec Králové 3:0 (12\,16\,16)
DTSTART;TZID=Europe/Berlin:20250329T100000
DTEND;TZID=Europe/Berlin:20250329T120000
LOCATION:Tělocvična ZŠ Na Šutce\, Na Šutce 440 Praha - Troja
SUMMARY:1-U18Z-I: Kometa-Hradec Králové
END:VEVENT
BEGIN:VEVENT
UID:39353839-3263-4265-a462-653434633430
DTSTAMP:20260422T202308Z
DESCRIPTION:10/30 Kometa - Hradec Králové 3:0 (12\,15\,19)
DTSTART;TZID=Europe/Berlin:20250329T140000
DTEND;TZID=Europe/Berlin:20250329T160000
LOCATION:Tělocvična ZŠ Na Šutce\, Na Šutce 440 Praha - Troja
SUMMARY:1-U18Z-I: Kometa-Hradec Králové
END:VEVENT
BEGIN:VEVENT
UID:36363764-6461-4361-b637-333331636139
DTSTAMP:20260422T202308Z
DESCRIPTION:3/9 Hradec Králové - Kometa 1:3 (-17\,16\,-17\,-21)
DTSTART;TZID=Europe/Berlin:20250208T110000
DTEND;TZID=Europe/Berlin:20250208T130000
LOCATION:TJ Slavia Hradec Králové\, Víta Nejedlého 1216 Hradec Králové
SUMMARY:1-U18Z-I: Hradec Králové-Kometa
END:VEVENT
BEGIN:VEVENT
UID:30386630-6330-4532-a631-373332366531
DTSTAMP:20260422T202308Z
DESCRIPTION:4/12 Hradec Králové - Kometa 2:3 (-19\,21\,-18\,19\,-10)
DTSTART;TZID=Europe/Berlin:20250208T150000
DTEND;TZID=Europe/Berlin:20250208T170000
LOCATION:TJ Slavia Hradec Králové\, Víta Nejedlého 1216 Hradec Králové
SUMMARY:1-U18Z-I: Hradec Králové-Kometa
END:VEVENT
BEGIN:VEVENT
UID:32313735-3562-4533-a134-386665623135
DTSTAMP:20260422T202308Z
DESCRIPTION:7/21 Jihlava - Kometa 3:2 (22\,21\,-19\,-26\,9)
DTSTART;TZID=Europe/Berlin:20250315T120000
DTEND;TZID=Europe/Berlin:20250315T140000
LOCATION:ZŠ Jihlava Demlova\, Demlova 4178 Jihlava
SUMMARY:1-U18Z-I: Jihlava-Kometa
END:VEVENT
BEGIN:VEVENT
UID:31326231-3930-4335-a534-313038303666
DTSTAMP:20260422T202308Z
DESCRIPTION:8/24 Jihlava - Kometa 3:1 (15\,-23\,19\,23)
DTSTART;TZID=Europe/Berlin:20250315T160000
DTEND;TZID=Europe/Berlin:20250315T180000
LOCATION:ZŠ Jihlava Demlova\, Demlova 4178 Jihlava
SUMMARY:1-U18Z-I: Jihlava-Kometa
END:VEVENT
BEGIN:VEVENT
UID:66396662-3431-4666-b732-633564306537
DTSTAMP:20260422T202308Z
DESCRIPTION:11/33 Šternberk - Kometa 3:0 (20\,24\,21)
DTSTART;TZID=Europe/Berlin:20250405T110000
DTEND;TZID=Europe/Berlin:20250405T130000
LOCATION:UP Olomouc\, U sportovní haly 38 Olomouc - Lazce
SUMMARY:1-U18Z-I: Šternberk-Kometa
END:VEVENT
BEGIN:VEVENT
UID:36623231-3064-4133-a535-383665356261
DTSTAMP:20260422T202308Z
DESCRIPTION:12/36 Šternberk - Kometa 3:1 (-16\,18\,19\,22)
DTSTART;TZID=Europe/Berlin:20250405T150000
DTEND;TZID=Europe/Berlin:20250405T170000
LOCATION:UP Olomouc\, U sportovní haly 38 Olomouc - Lazce
SUMMARY:1-U18Z-I: Šternberk-Kometa
END:VEVENT
END:VCALENDAR
