BEGIN:VCALENDAR
VERSION:2.0
PRODID:-//Volejbal Přerov86101//NONSGML kigkonsult.se iCalcreator 2.41.80//
CALSCALE:GREGORIAN
UID:37613038-3662-4537-a332-306166396239
BEGIN:VEVENT
UID:31383661-3538-4162-a165-363238303430
DTSTAMP:20260422T164513Z
DESCRIPTION:1/1 Přerov - Jihlava 0:3 (-12\,-15\,-13)
DTSTART;TZID=Europe/Berlin:20240914T100000
DTEND;TZID=Europe/Berlin:20240914T120000
LOCATION:Městská sportovní hala\, Petřivalského 2884 Přerov - Přerov I-Měst
 o
SUMMARY:1-U18Z-B: Přerov-Jihlava
END:VEVENT
BEGIN:VEVENT
UID:30633438-3964-4839-b235-393238323332
DTSTAMP:20260422T164513Z
DESCRIPTION:2/4 Přerov - Jihlava 0:3 (-20\,-16\,-9)
DTSTART;TZID=Europe/Berlin:20240914T140000
DTEND;TZID=Europe/Berlin:20240914T160000
LOCATION:Městská sportovní hala\, Petřivalského 2884 Přerov - Přerov I-Měst
 o
SUMMARY:1-U18Z-B: Přerov-Jihlava
END:VEVENT
BEGIN:VEVENT
UID:38323338-3363-4835-b061-656438336662
DTSTAMP:20260422T164513Z
DESCRIPTION:3/9 Přerov - Hradec Králové 0:3 (-21\,-16\,-9)
DTSTART;TZID=Europe/Berlin:20240928T100000
DTEND;TZID=Europe/Berlin:20240928T120000
LOCATION:Městská sportovní hala\, Petřivalského 2884 Přerov - Přerov I-Měst
 o
SUMMARY:1-U18Z-B: Přerov-Hradec Králové
END:VEVENT
BEGIN:VEVENT
UID:32323734-6332-4832-b538-613265366532
DTSTAMP:20260422T164513Z
DESCRIPTION:4/12 Přerov - Hradec Králové 2:3 (-24\,25\,25\,-19\,-12)
DTSTART;TZID=Europe/Berlin:20240928T140000
DTEND;TZID=Europe/Berlin:20240928T160000
LOCATION:Městská sportovní hala\, Petřivalského 2884 Přerov - Přerov I-Měst
 o
SUMMARY:1-U18Z-B: Přerov-Hradec Králové
END:VEVENT
BEGIN:VEVENT
UID:30386234-3862-4336-b333-353438343233
DTSTAMP:20260422T164513Z
DESCRIPTION:7/20 Přerov - Nové Veselí 0:3 (-21\,-19\,-20)
DTSTART;TZID=Europe/Berlin:20241012T110000
DTEND;TZID=Europe/Berlin:20241012T130000
LOCATION:Městská sportovní hala\, Petřivalského 2884 Přerov - Přerov I-Měst
 o
SUMMARY:1-U18Z-B: Přerov-Nové Veselí
END:VEVENT
BEGIN:VEVENT
UID:61666139-6334-4839-b366-633662313738
DTSTAMP:20260422T164513Z
DESCRIPTION:8/23 Přerov - Nové Veselí 0:3 (-15\,-20\,-14)
DTSTART;TZID=Europe/Berlin:20241012T150000
DTEND;TZID=Europe/Berlin:20241012T170000
LOCATION:Městská sportovní hala\, Petřivalského 2884 Přerov - Přerov I-Měst
 o
SUMMARY:1-U18Z-B: Přerov-Nové Veselí
END:VEVENT
BEGIN:VEVENT
UID:38636533-6638-4264-b038-383866636363
DTSTAMP:20260422T164513Z
DESCRIPTION:15/44 Přerov - Nymburk 0:3 (-12\,-21\,-12)
DTSTART;TZID=Europe/Berlin:20241207T090000
DTEND;TZID=Europe/Berlin:20241207T110000
LOCATION:Sportovní hala\, Kouřílkova 1028 Přerov - Přerov I-Město
SUMMARY:1-U18Z-B: Přerov-Nymburk
END:VEVENT
BEGIN:VEVENT
UID:36393131-3436-4665-a138-636166643164
DTSTAMP:20260422T164513Z
DESCRIPTION:16/47 Přerov - Nymburk 0:3 (-10\,-18\,-23)
DTSTART;TZID=Europe/Berlin:20241207T130000
DTEND;TZID=Europe/Berlin:20241207T150000
LOCATION:Sportovní hala\, Kouřílkova 1028 Přerov - Přerov I-Město
SUMMARY:1-U18Z-B: Přerov-Nymburk
END:VEVENT
BEGIN:VEVENT
UID:38613436-3036-4666-b537-353735623838
DTSTAMP:20260422T164513Z
DESCRIPTION:19/57 Přerov - Šternberk 0:3 (-15\,-26\,-6)
DTSTART;TZID=Europe/Berlin:20250118T100000
DTEND;TZID=Europe/Berlin:20250118T120000
LOCATION:Městská sportovní hala\, Petřivalského 2884 Přerov - Přerov I-Měst
 o
SUMMARY:1-U18Z-B: Přerov-Šternberk
END:VEVENT
BEGIN:VEVENT
UID:39323431-6365-4561-a237-633464373530
DTSTAMP:20260422T164513Z
DESCRIPTION:20/60 Přerov - Šternberk 0:3 (-14\,-14\,-12)
DTSTART;TZID=Europe/Berlin:20250118T140000
DTEND;TZID=Europe/Berlin:20250118T160000
LOCATION:Městská sportovní hala\, Petřivalského 2884 Přerov - Přerov I-Měst
 o
SUMMARY:1-U18Z-B: Přerov-Šternberk
END:VEVENT
BEGIN:VEVENT
UID:36666666-3661-4634-a438-663035313564
DTSTAMP:20260422T164513Z
DESCRIPTION:5/14 Nymburk - Přerov 3:0 (11\,11\,15)
DTSTART;TZID=Europe/Berlin:20241005T090000
DTEND;TZID=Europe/Berlin:20241005T110000
LOCATION:Bios\, V Kolonii 1804 Nymburk
SUMMARY:1-U18Z-B: Nymburk-Přerov
END:VEVENT
BEGIN:VEVENT
UID:33383366-3033-4764-b865-613130623532
DTSTAMP:20260422T164513Z
DESCRIPTION:6/17 Nymburk - Přerov 3:0 (7\,20\,21)
DTSTART;TZID=Europe/Berlin:20241005T130000
DTEND;TZID=Europe/Berlin:20241005T150000
LOCATION:Bios\, V Kolonii 1804 Nymburk
SUMMARY:1-U18Z-B: Nymburk-Přerov
END:VEVENT
BEGIN:VEVENT
UID:30393866-6239-4462-a365-346532313864
DTSTAMP:20260422T164513Z
DESCRIPTION:9/27 Šternberk - Přerov 3:0 (26\,16\,24)
DTSTART;TZID=Europe/Berlin:20241016T150000
DTEND;TZID=Europe/Berlin:20241016T170000
LOCATION:UP Olomouc\, U sportovní haly 38 Olomouc - Lazce
SUMMARY:1-U18Z-B: Šternberk-Přerov
END:VEVENT
BEGIN:VEVENT
UID:65393334-3730-4239-a530-303736646633
DTSTAMP:20260422T164513Z
DESCRIPTION:10/30 Šternberk - Přerov 3:0 (17\,23\,14)
DTSTART;TZID=Europe/Berlin:20241016T163000
DTEND;TZID=Europe/Berlin:20241016T183000
LOCATION:UP Olomouc\, U sportovní haly 38 Olomouc - Lazce
SUMMARY:1-U18Z-B: Šternberk-Přerov
END:VEVENT
BEGIN:VEVENT
UID:39333063-3330-4362-b334-643232373865
DTSTAMP:20260422T164513Z
DESCRIPTION:11/31 Jihlava - Přerov 3:0 (9\,16\,9)
DTSTART;TZID=Europe/Berlin:20241109T100000
DTEND;TZID=Europe/Berlin:20241109T120000
LOCATION:ZŠ Jihlava Demlova\, Demlova 4178 Jihlava
SUMMARY:1-U18Z-B: Jihlava-Přerov
END:VEVENT
BEGIN:VEVENT
UID:35336163-6339-4433-b034-393462363265
DTSTAMP:20260422T164513Z
DESCRIPTION:12/34 Jihlava - Přerov 3:0 (10\,15\,11)
DTSTART;TZID=Europe/Berlin:20241109T140000
DTEND;TZID=Europe/Berlin:20241109T160000
LOCATION:ZŠ Jihlava Demlova\, Demlova 4178 Jihlava
SUMMARY:1-U18Z-B: Jihlava-Přerov
END:VEVENT
BEGIN:VEVENT
UID:30393436-6238-4861-a335-323065323934
DTSTAMP:20260422T164513Z
DESCRIPTION:13/39 Hradec Králové - Přerov 3:0 (20\,20\,21)
DTSTART;TZID=Europe/Berlin:20241130T100000
DTEND;TZID=Europe/Berlin:20241130T120000
LOCATION:TJ Slavia Hradec Králové\, Víta Nejedlého 1216 Hradec Králové
SUMMARY:1-U18Z-B: Hradec Králové-Přerov
END:VEVENT
BEGIN:VEVENT
UID:39343665-3765-4335-b530-633565333363
DTSTAMP:20260422T164513Z
DESCRIPTION:14/42 Hradec Králové - Přerov 3:0 (10\,13\,23)
DTSTART;TZID=Europe/Berlin:20241130T140000
DTEND;TZID=Europe/Berlin:20241130T160000
LOCATION:TJ Slavia Hradec Králové\, Víta Nejedlého 1216 Hradec Králové
SUMMARY:1-U18Z-B: Hradec Králové-Přerov
END:VEVENT
BEGIN:VEVENT
UID:39663163-6466-4537-a331-306438396133
DTSTAMP:20260422T164513Z
DESCRIPTION:17/50 Nové Veselí - Přerov 3:0 (19\,21\,15)
DTSTART;TZID=Europe/Berlin:20250111T120000
DTEND;TZID=Europe/Berlin:20250111T140000
LOCATION:Tělocvična ZŠ a MŠ Radostín nad Oslavou\,  Radostín nad Oslavou136
SUMMARY:1-U18Z-B: Nové Veselí-Přerov
END:VEVENT
BEGIN:VEVENT
UID:33313035-3363-4236-a530-313466616362
DTSTAMP:20260422T164513Z
DESCRIPTION:18/53 Nové Veselí - Přerov 3:0 (11\,17\,12)
DTSTART;TZID=Europe/Berlin:20250111T160000
DTEND;TZID=Europe/Berlin:20250111T180000
LOCATION:Tělocvična ZŠ a MŠ Radostín nad Oslavou\,  Radostín nad Oslavou136
SUMMARY:1-U18Z-B: Nové Veselí-Přerov
END:VEVENT
BEGIN:VEVENT
UID:62363364-3665-4561-b833-613831383663
DTSTAMP:20260422T164513Z
DESCRIPTION:3/9 Přerov - Střešovice 3:0 (22\,23\,22)
DTSTART;TZID=Europe/Berlin:20250322T100000
DTEND;TZID=Europe/Berlin:20250322T120000
LOCATION:Městská sportovní hala\, Petřivalského 2884 Přerov - Přerov I-Měst
 o
SUMMARY:1-U18Z-N: Přerov-Střešovice
END:VEVENT
BEGIN:VEVENT
UID:61393035-6363-4137-b234-656236306336
DTSTAMP:20260422T164513Z
DESCRIPTION:4/12 Přerov - Střešovice 0:3 (-17\,-23\,-16)
DTSTART;TZID=Europe/Berlin:20250322T140000
DTEND;TZID=Europe/Berlin:20250322T160000
LOCATION:Městská sportovní hala\, Petřivalského 2884 Přerov - Přerov I-Měst
 o
SUMMARY:1-U18Z-N: Přerov-Střešovice
END:VEVENT
BEGIN:VEVENT
UID:39303637-3137-4933-a236-636265613732
DTSTAMP:20260422T164513Z
DESCRIPTION:7/19 Přerov - Mikulova 1:3 (-22\,21\,-14\,-13)
DTSTART;TZID=Europe/Berlin:20250315T100000
DTEND;TZID=Europe/Berlin:20250315T120000
LOCATION:Sportovní hala\, Kouřílkova 1028 Přerov - Přerov I-Město
SUMMARY:1-U18Z-N: Přerov-Mikulova
END:VEVENT
BEGIN:VEVENT
UID:37653731-6565-4432-b161-336332656634
DTSTAMP:20260422T164513Z
DESCRIPTION:8/22 Přerov - Mikulova 1:3 (-21\,18\,-21\,-23)
DTSTART;TZID=Europe/Berlin:20250315T140000
DTEND;TZID=Europe/Berlin:20250315T160000
LOCATION:Sportovní hala\, Kouřílkova 1028 Přerov - Přerov I-Město
SUMMARY:1-U18Z-N: Přerov-Mikulova
END:VEVENT
BEGIN:VEVENT
UID:35393964-3239-4436-a338-656263333135
DTSTAMP:20260422T164513Z
DESCRIPTION:11/32 Přerov - Karlovy Vary 3:1 (24\,-16\,18\,20)
DTSTART;TZID=Europe/Berlin:20250406T100000
DTEND;TZID=Europe/Berlin:20250406T120000
LOCATION:Městská sportovní hala\, Petřivalského 2884 Přerov - Přerov I-Měst
 o
SUMMARY:1-U18Z-N: Přerov-Karlovy Vary
END:VEVENT
BEGIN:VEVENT
UID:65326336-6466-4266-b839-386163326463
DTSTAMP:20260422T164513Z
DESCRIPTION:12/35 Přerov - Karlovy Vary 1:3 (-22\,23\,-23\,-11)
DTSTART;TZID=Europe/Berlin:20250406T140000
DTEND;TZID=Europe/Berlin:20250406T160000
LOCATION:Městská sportovní hala\, Petřivalského 2884 Přerov - Přerov I-Měst
 o
SUMMARY:1-U18Z-N: Přerov-Karlovy Vary
END:VEVENT
BEGIN:VEVENT
UID:65363766-3462-4961-a639-393433316439
DTSTAMP:20260422T164513Z
DESCRIPTION:1/1 Mikulova - Přerov 3:2 (-24\,-24\,20\,22\,11)
DTSTART;TZID=Europe/Berlin:20250201T120000
DTEND;TZID=Europe/Berlin:20250201T140000
LOCATION:Sportovní hala DDM Praha 12 - Monet\, Herrmannova 2016 Praha - Mod
 řany
SUMMARY:1-U18Z-N: Mikulova-Přerov
END:VEVENT
BEGIN:VEVENT
UID:39636530-3233-4636-b063-636134613032
DTSTAMP:20260422T164513Z
DESCRIPTION:2/4 Mikulova - Přerov 3:0 (9\,16\,17)
DTSTART;TZID=Europe/Berlin:20250201T160000
DTEND;TZID=Europe/Berlin:20250201T180000
LOCATION:Sportovní hala DDM Praha 12 - Monet\, Herrmannova 2016 Praha - Mod
 řany
SUMMARY:1-U18Z-N: Mikulova-Přerov
END:VEVENT
BEGIN:VEVENT
UID:31376332-6239-4161-a231-313834626464
DTSTAMP:20260422T164513Z
DESCRIPTION:5/14 Karlovy Vary - Přerov 2:3 (14\,-23\,26\,-23\,-15)
DTSTART;TZID=Europe/Berlin:20250301T100000
DTEND;TZID=Europe/Berlin:20250301T120000
LOCATION:Hala Tubex\, Západní 1824 Karlovy Vary
SUMMARY:1-U18Z-N: Karlovy Vary-Přerov
END:VEVENT
BEGIN:VEVENT
UID:66383131-3635-4734-b164-613363313832
DTSTAMP:20260422T164513Z
DESCRIPTION:6/17 Karlovy Vary - Přerov 3:0 (25\,20\,23)
DTSTART;TZID=Europe/Berlin:20250301T140000
DTEND;TZID=Europe/Berlin:20250301T160000
LOCATION:Hala Tubex\, Západní 1824 Karlovy Vary
SUMMARY:1-U18Z-N: Karlovy Vary-Přerov
END:VEVENT
BEGIN:VEVENT
UID:65396338-6663-4632-b562-366464653963
DTSTAMP:20260422T164513Z
DESCRIPTION:9/27 Střešovice - Přerov 3:1 (24\,-23\,19\,21)
DTSTART;TZID=Europe/Berlin:20250329T100000
DTEND;TZID=Europe/Berlin:20250329T120000
LOCATION:TJ Tatran Střešovice\, Sibeliova 368 Praha - Střešovice
SUMMARY:1-U18Z-N: Střešovice-Přerov
END:VEVENT
BEGIN:VEVENT
UID:34353831-3430-4861-a364-386234336465
DTSTAMP:20260422T164513Z
DESCRIPTION:10/30 Střešovice - Přerov 3:1 (18\,-21\,16\,13)
DTSTART;TZID=Europe/Berlin:20250329T140000
DTEND;TZID=Europe/Berlin:20250329T160000
LOCATION:TJ Tatran Střešovice\, Sibeliova 368 Praha - Střešovice
SUMMARY:1-U18Z-N: Střešovice-Přerov
END:VEVENT
BEGIN:VEVENT
UID:61343233-3531-4236-a237-323439646235
DTSTAMP:20260422T164513Z
DESCRIPTION:1/2 Přerov - Štoky 1:3 (-12\,-15\,23\,-18)
DTSTART;TZID=Europe/Berlin:20250426T110000
DTEND;TZID=Europe/Berlin:20250426T130000
LOCATION:TJ Tatran Střešovice\, Sibeliova 368 Praha - Střešovice
SUMMARY:1-U18Z-KII: Přerov-Štoky
END:VEVENT
BEGIN:VEVENT
UID:32356164-6134-4139-b631-656532613130
DTSTAMP:20260422T164513Z
DESCRIPTION:2/9 Přerov - Valašské Meziříčí 1:3 (-17\,-21\,25\,-13)
DTSTART;TZID=Europe/Berlin:20250427T150000
DTEND;TZID=Europe/Berlin:20250427T170000
LOCATION:TJ Tatran Střešovice\, Sibeliova 368 Praha - Střešovice
SUMMARY:1-U18Z-KII: Přerov-Valašské Meziříčí
END:VEVENT
BEGIN:VEVENT
UID:31396434-3333-4638-b265-646336653765
DTSTAMP:20260422T164513Z
DESCRIPTION:1/4 Střešovice - Přerov 3:0 (11\,13\,18)
DTSTART;TZID=Europe/Berlin:20250426T150000
DTEND;TZID=Europe/Berlin:20250426T170000
LOCATION:TJ Tatran Střešovice\, Sibeliova 368 Praha - Střešovice
SUMMARY:1-U18Z-KII: Střešovice-Přerov
END:VEVENT
BEGIN:VEVENT
UID:66643736-3237-4535-b132-623336383736
DTSTAMP:20260422T164513Z
DESCRIPTION:2/6 Chodov - Přerov 3:0 (13\,14\,15)
DTSTART;TZID=Europe/Berlin:20250427T090000
DTEND;TZID=Europe/Berlin:20250427T110000
LOCATION:TJ Tatran Střešovice\, Sibeliova 368 Praha - Střešovice
SUMMARY:1-U18Z-KII: Chodov-Přerov
END:VEVENT
END:VCALENDAR
