BEGIN:VCALENDAR
VERSION:2.0
PRODID:-//Volleyball Nymburk86102//NONSGML kigkonsult.se iCalcreator 2.41.80//
CALSCALE:GREGORIAN
UID:37383938-6562-4038-b164-613438353639
BEGIN:VEVENT
UID:65383633-3937-4932-b531-616466313035
DTSTAMP:20260422T164725Z
DESCRIPTION:1/3 Nymburk - Nové Veselí 1:3 (-23\,-20\,22\,-21)
DTSTART;TZID=Europe/Berlin:20240914T120000
DTEND;TZID=Europe/Berlin:20240914T140000
LOCATION:ZŠ Komenského\, Nymburk\, Komenského 589 Nymburk
SUMMARY:1-U18Z-B: Nymburk-Nové Veselí
END:VEVENT
BEGIN:VEVENT
UID:61613037-3430-4437-b632-666666623461
DTSTAMP:20260422T164725Z
DESCRIPTION:2/6 Nymburk - Nové Veselí 1:3 (-23\,-23\,16\,-18)
DTSTART;TZID=Europe/Berlin:20240914T160000
DTEND;TZID=Europe/Berlin:20240914T180000
LOCATION:ZŠ Komenského\, Nymburk\, Komenského 589 Nymburk
SUMMARY:1-U18Z-B: Nymburk-Nové Veselí
END:VEVENT
BEGIN:VEVENT
UID:32393430-6335-4061-a266-393264633931
DTSTAMP:20260422T164725Z
DESCRIPTION:5/14 Nymburk - Přerov 3:0 (11\,11\,15)
DTSTART;TZID=Europe/Berlin:20241005T090000
DTEND;TZID=Europe/Berlin:20241005T110000
LOCATION:Bios\, V Kolonii 1804 Nymburk
SUMMARY:1-U18Z-B: Nymburk-Přerov
END:VEVENT
BEGIN:VEVENT
UID:33333738-3135-4363-a533-353835366161
DTSTAMP:20260422T164725Z
DESCRIPTION:6/17 Nymburk - Přerov 3:0 (7\,20\,21)
DTSTART;TZID=Europe/Berlin:20241005T130000
DTEND;TZID=Europe/Berlin:20241005T150000
LOCATION:Bios\, V Kolonii 1804 Nymburk
SUMMARY:1-U18Z-B: Nymburk-Přerov
END:VEVENT
BEGIN:VEVENT
UID:65616132-6364-4535-b934-626435333939
DTSTAMP:20260422T164725Z
DESCRIPTION:9/25 Nymburk - Jihlava 0:3 (-16\,-8\,-13)
DTSTART;TZID=Europe/Berlin:20241026T090000
DTEND;TZID=Europe/Berlin:20241026T110000
LOCATION:Bios\, V Kolonii 1804 Nymburk
SUMMARY:1-U18Z-B: Nymburk-Jihlava
END:VEVENT
BEGIN:VEVENT
UID:63336263-3232-4365-b933-623862306334
DTSTAMP:20260422T164725Z
DESCRIPTION:10/28 Nymburk - Jihlava 1:3 (-16\,-20\,24\,-19)
DTSTART;TZID=Europe/Berlin:20241026T130000
DTEND;TZID=Europe/Berlin:20241026T150000
LOCATION:Bios\, V Kolonii 1804 Nymburk
SUMMARY:1-U18Z-B: Nymburk-Jihlava
END:VEVENT
BEGIN:VEVENT
UID:61326364-6633-4530-a464-313763353766
DTSTAMP:20260422T164725Z
DESCRIPTION:13/38 Nymburk - Šternberk 3:1 (20\,-22\,14\,21)
DTSTART;TZID=Europe/Berlin:20241130T120000
DTEND;TZID=Europe/Berlin:20241130T140000
LOCATION:Bios\, V Kolonii 1804 Nymburk
SUMMARY:1-U18Z-B: Nymburk-Šternberk
END:VEVENT
BEGIN:VEVENT
UID:63343731-6638-4338-b763-323233333230
DTSTAMP:20260422T164725Z
DESCRIPTION:14/41 Nymburk - Šternberk 1:3 (-15\,17\,-15\,-19)
DTSTART;TZID=Europe/Berlin:20241130T160000
DTEND;TZID=Europe/Berlin:20241130T180000
LOCATION:Bios\, V Kolonii 1804 Nymburk
SUMMARY:1-U18Z-B: Nymburk-Šternberk
END:VEVENT
BEGIN:VEVENT
UID:39613434-6263-4464-a365-666637356566
DTSTAMP:20260422T164725Z
DESCRIPTION:17/51 Nymburk - Hradec Králové 3:1 (-18\,21\,17\,25)
DTSTART;TZID=Europe/Berlin:20250111T140000
DTEND;TZID=Europe/Berlin:20250111T160000
LOCATION:Bios\, V Kolonii 1804 Nymburk
SUMMARY:1-U18Z-B: Nymburk-Hradec Králové
END:VEVENT
BEGIN:VEVENT
UID:63623037-6464-4864-a264-376137313332
DTSTAMP:20260422T164725Z
DESCRIPTION:18/54 Nymburk - Hradec Králové 0:3 (-17\,-17\,-10)
DTSTART;TZID=Europe/Berlin:20250111T160000
DTEND;TZID=Europe/Berlin:20250111T180000
LOCATION:Bios\, V Kolonii 1804 Nymburk
SUMMARY:1-U18Z-B: Nymburk-Hradec Králové
END:VEVENT
BEGIN:VEVENT
UID:33346365-3762-4733-a432-383336313934
DTSTAMP:20260422T164725Z
DESCRIPTION:3/8 Šternberk - Nymburk 3:2 (26\,-24\,23\,-14\,11)
DTSTART;TZID=Europe/Berlin:20240928T140000
DTEND;TZID=Europe/Berlin:20240928T160000
LOCATION:Hala ZŠ Dr. Hrubého\, Dr. Hrubého 319 Šternberk
SUMMARY:1-U18Z-B: Šternberk-Nymburk
END:VEVENT
BEGIN:VEVENT
UID:30653062-6139-4438-a236-343437383832
DTSTAMP:20260422T164725Z
DESCRIPTION:4/11 Šternberk - Nymburk 3:2 (-17\,16\,-17\,18\,12)
DTSTART;TZID=Europe/Berlin:20240928T160000
DTEND;TZID=Europe/Berlin:20240928T180000
LOCATION:Hala ZŠ Dr. Hrubého\, Dr. Hrubého 319 Šternberk
SUMMARY:1-U18Z-B: Šternberk-Nymburk
END:VEVENT
BEGIN:VEVENT
UID:34626466-3034-4537-b937-306335353136
DTSTAMP:20260422T164725Z
DESCRIPTION:7/21 Hradec Králové - Nymburk 3:2 (26\,-15\,-11\,13\,6)
DTSTART;TZID=Europe/Berlin:20241012T100000
DTEND;TZID=Europe/Berlin:20241012T120000
LOCATION:TJ Slavia Hradec Králové\, Víta Nejedlého 1216 Hradec Králové
SUMMARY:1-U18Z-B: Hradec Králové-Nymburk
END:VEVENT
BEGIN:VEVENT
UID:61306361-6239-4639-b862-653763656637
DTSTAMP:20260422T164725Z
DESCRIPTION:8/24 Hradec Králové - Nymburk 2:3 (-19\,-15\,23\,12\,-16)
DTSTART;TZID=Europe/Berlin:20241012T140000
DTEND;TZID=Europe/Berlin:20241012T160000
LOCATION:TJ Slavia Hradec Králové\, Víta Nejedlého 1216 Hradec Králové
SUMMARY:1-U18Z-B: Hradec Králové-Nymburk
END:VEVENT
BEGIN:VEVENT
UID:35656339-3364-4334-b437-653362393330
DTSTAMP:20260422T164725Z
DESCRIPTION:11/33 Nové Veselí - Nymburk 1:3 (-22\,21\,-23\,-22)
DTSTART;TZID=Europe/Berlin:20241109T120000
DTEND;TZID=Europe/Berlin:20241109T140000
LOCATION:Víceúčelová sportovní hala Nové Veselí\, Žďárská 356 Nové Veselí
SUMMARY:1-U18Z-B: Nové Veselí-Nymburk
END:VEVENT
BEGIN:VEVENT
UID:39383266-6464-4466-a161-663562376434
DTSTAMP:20260422T164725Z
DESCRIPTION:12/36 Nové Veselí - Nymburk 1:3 (-9\,-25\,16\,-20)
DTSTART;TZID=Europe/Berlin:20241109T160000
DTEND;TZID=Europe/Berlin:20241109T180000
LOCATION:Víceúčelová sportovní hala Nové Veselí\, Žďárská 356 Nové Veselí
SUMMARY:1-U18Z-B: Nové Veselí-Nymburk
END:VEVENT
BEGIN:VEVENT
UID:39643638-6631-4662-b736-316135613631
DTSTAMP:20260422T164725Z
DESCRIPTION:15/44 Přerov - Nymburk 0:3 (-12\,-21\,-12)
DTSTART;TZID=Europe/Berlin:20241207T090000
DTEND;TZID=Europe/Berlin:20241207T110000
LOCATION:Sportovní hala\, Kouřílkova 1028 Přerov - Přerov I-Město
SUMMARY:1-U18Z-B: Přerov-Nymburk
END:VEVENT
BEGIN:VEVENT
UID:38643638-3036-4937-b039-653864623035
DTSTAMP:20260422T164725Z
DESCRIPTION:16/47 Přerov - Nymburk 0:3 (-10\,-18\,-23)
DTSTART;TZID=Europe/Berlin:20241207T130000
DTEND;TZID=Europe/Berlin:20241207T150000
LOCATION:Sportovní hala\, Kouřílkova 1028 Přerov - Přerov I-Město
SUMMARY:1-U18Z-B: Přerov-Nymburk
END:VEVENT
BEGIN:VEVENT
UID:66316538-3334-4164-b932-616661396134
DTSTAMP:20260422T164725Z
DESCRIPTION:19/55 Jihlava - Nymburk 3:0 (20\,10\,14)
DTSTART;TZID=Europe/Berlin:20250118T090000
DTEND;TZID=Europe/Berlin:20250118T110000
LOCATION:ZŠ Jihlava Demlova\, Demlova 4178 Jihlava
SUMMARY:1-U18Z-B: Jihlava-Nymburk
END:VEVENT
BEGIN:VEVENT
UID:39666362-3937-4530-b232-363265326266
DTSTAMP:20260422T164725Z
DESCRIPTION:20/58 Jihlava - Nymburk 3:0 (10\,12\,17)
DTSTART;TZID=Europe/Berlin:20250118T130000
DTEND;TZID=Europe/Berlin:20250118T150000
LOCATION:ZŠ Jihlava Demlova\, Demlova 4178 Jihlava
SUMMARY:1-U18Z-B: Jihlava-Nymburk
END:VEVENT
BEGIN:VEVENT
UID:66363130-3165-4238-a365-373238353265
DTSTAMP:20260422T164725Z
DESCRIPTION:3/8 Nymburk - Karlovy Vary 3:0 (19\,19\,13)
DTSTART;TZID=Europe/Berlin:20250208T110000
DTEND;TZID=Europe/Berlin:20250208T130000
LOCATION:Bios\, V Kolonii 1804 Nymburk
SUMMARY:1-U18Z-N: Nymburk-Karlovy Vary
END:VEVENT
BEGIN:VEVENT
UID:33356330-3062-4237-b061-613033636238
DTSTAMP:20260422T164725Z
DESCRIPTION:4/11 Nymburk - Karlovy Vary 3:1 (13\,-19\,10\,13)
DTSTART;TZID=Europe/Berlin:20250208T150000
DTEND;TZID=Europe/Berlin:20250208T170000
LOCATION:Bios\, V Kolonii 1804 Nymburk
SUMMARY:1-U18Z-N: Nymburk-Karlovy Vary
END:VEVENT
BEGIN:VEVENT
UID:64333562-6462-4464-b832-663231326235
DTSTAMP:20260422T164725Z
DESCRIPTION:7/21 Nymburk - Střešovice 2:3 (20\,-18\,23\,-22\,-14)
DTSTART;TZID=Europe/Berlin:20250315T100000
DTEND;TZID=Europe/Berlin:20250315T120000
LOCATION:Bios\, V Kolonii 1804 Nymburk
SUMMARY:1-U18Z-N: Nymburk-Střešovice
END:VEVENT
BEGIN:VEVENT
UID:61373033-3535-4130-b634-636638626534
DTSTAMP:20260422T164725Z
DESCRIPTION:8/24 Nymburk - Střešovice 0:3 (-20\,-18\,-19)
DTSTART;TZID=Europe/Berlin:20250315T140000
DTEND;TZID=Europe/Berlin:20250315T160000
LOCATION:Bios\, V Kolonii 1804 Nymburk
SUMMARY:1-U18Z-N: Nymburk-Střešovice
END:VEVENT
BEGIN:VEVENT
UID:64326366-6630-4165-b932-373637626332
DTSTAMP:20260422T164725Z
DESCRIPTION:11/31 Nymburk - Mikulova 0:3 (-10\,-18\,-21)
DTSTART;TZID=Europe/Berlin:20250405T100000
DTEND;TZID=Europe/Berlin:20250405T120000
LOCATION:Bios\, V Kolonii 1804 Nymburk
SUMMARY:1-U18Z-N: Nymburk-Mikulova
END:VEVENT
BEGIN:VEVENT
UID:36336234-6530-4163-a638-363765313038
DTSTAMP:20260422T164725Z
DESCRIPTION:12/34 Nymburk - Mikulova 1:3 (-22\,-22\,22\,-20)
DTSTART;TZID=Europe/Berlin:20250405T130000
DTEND;TZID=Europe/Berlin:20250405T150000
LOCATION:Bios\, V Kolonii 1804 Nymburk
SUMMARY:1-U18Z-N: Nymburk-Mikulova
END:VEVENT
BEGIN:VEVENT
UID:62366166-3331-4536-b363-616439363834
DTSTAMP:20260422T164725Z
DESCRIPTION:1/3 Střešovice - Nymburk 2:3 (-19\,25\,-24\,17\,-5)
DTSTART;TZID=Europe/Berlin:20250201T100000
DTEND;TZID=Europe/Berlin:20250201T120000
LOCATION:TJ Tatran Střešovice\, Sibeliova 368 Praha - Střešovice
SUMMARY:1-U18Z-N: Střešovice-Nymburk
END:VEVENT
BEGIN:VEVENT
UID:30336638-6331-4033-a539-653766623465
DTSTAMP:20260422T164725Z
DESCRIPTION:2/6 Střešovice - Nymburk 3:1 (-25\,22\,20\,22)
DTSTART;TZID=Europe/Berlin:20250201T140000
DTEND;TZID=Europe/Berlin:20250201T160000
LOCATION:TJ Tatran Střešovice\, Sibeliova 368 Praha - Střešovice
SUMMARY:1-U18Z-N: Střešovice-Nymburk
END:VEVENT
BEGIN:VEVENT
UID:38626339-6162-4665-b566-343031613633
DTSTAMP:20260422T164725Z
DESCRIPTION:5/13 Mikulova - Nymburk 1:3 (23\,-15\,-21\,-24)
DTSTART;TZID=Europe/Berlin:20250301T090000
DTEND;TZID=Europe/Berlin:20250301T110000
LOCATION:Sportovní hala DDM Praha 12 - Monet\, Herrmannova 2016 Praha - Mod
 řany
SUMMARY:1-U18Z-N: Mikulova-Nymburk
END:VEVENT
BEGIN:VEVENT
UID:35663163-6466-4562-a538-666239363465
DTSTAMP:20260422T164725Z
DESCRIPTION:6/16 Mikulova - Nymburk 3:1 (-23\,16\,16\,23)
DTSTART;TZID=Europe/Berlin:20250301T130000
DTEND;TZID=Europe/Berlin:20250301T150000
LOCATION:Sportovní hala DDM Praha 12 - Monet\, Herrmannova 2016 Praha - Mod
 řany
SUMMARY:1-U18Z-N: Mikulova-Nymburk
END:VEVENT
BEGIN:VEVENT
UID:30653739-3163-4537-b464-623634373261
DTSTAMP:20260422T164725Z
DESCRIPTION:9/26 Karlovy Vary - Nymburk 3:0 (12\,23\,14)
DTSTART;TZID=Europe/Berlin:20250329T110000
DTEND;TZID=Europe/Berlin:20250329T130000
LOCATION:Hala Tubex\, Západní 1824 Karlovy Vary
SUMMARY:1-U18Z-N: Karlovy Vary-Nymburk
END:VEVENT
BEGIN:VEVENT
UID:35303566-3233-4236-b562-616537313438
DTSTAMP:20260422T164725Z
DESCRIPTION:10/29 Karlovy Vary - Nymburk 3:1 (11\,-21\,14\,16)
DTSTART;TZID=Europe/Berlin:20250329T140000
DTEND;TZID=Europe/Berlin:20250329T160000
LOCATION:Hala Tubex\, Západní 1824 Karlovy Vary
SUMMARY:1-U18Z-N: Karlovy Vary-Nymburk
END:VEVENT
END:VCALENDAR
