BEGIN:VCALENDAR
VERSION:2.0
PRODID:-//VK Šanov Teplice86113//NONSGML kigkonsult.se iCalcreator 2.41.80//
CALSCALE:GREGORIAN
UID:38633434-3239-4438-b835-323339663437
BEGIN:VEVENT
UID:65333437-3733-4134-b639-383166323131
DTSTAMP:20260422T213408Z
DESCRIPTION:5/15 Teplice - Volejbal Ústí n. L. 3:1 (20\,-25\,15\,17)
DTSTART;TZID=Europe/Berlin:20241005T090000
DTEND;TZID=Europe/Berlin:20241005T110000
LOCATION:Hotelová škola\, Smetanovo náměstí 786 Teplice - Trnovany
SUMMARY:2-U18Z-A: Teplice-Volejbal Ústí n. L.
END:VEVENT
BEGIN:VEVENT
UID:36336164-3265-4437-b037-336233623564
DTSTAMP:20260422T213408Z
DESCRIPTION:6/18 Teplice - Volejbal Ústí n. L. 3:0 (12\,17\,14)
DTSTART;TZID=Europe/Berlin:20241005T130000
DTEND;TZID=Europe/Berlin:20241005T150000
LOCATION:Hotelová škola\, Smetanovo náměstí 786 Teplice - Trnovany
SUMMARY:2-U18Z-A: Teplice-Volejbal Ústí n. L.
END:VEVENT
BEGIN:VEVENT
UID:64613932-3537-4138-b339-313738363861
DTSTAMP:20260422T213408Z
DESCRIPTION:9/26 Teplice - Děčín 0:3 (-13\,-23\,-25)
DTSTART;TZID=Europe/Berlin:20241023T160000
DTEND;TZID=Europe/Berlin:20241023T180000
LOCATION:Hotelová škola\, Smetanovo náměstí 786 Teplice - Trnovany
SUMMARY:2-U18Z-A: Teplice-Děčín
END:VEVENT
BEGIN:VEVENT
UID:33353561-6132-4932-b033-386466613338
DTSTAMP:20260422T213408Z
DESCRIPTION:10/29 Teplice - Děčín 1:3 (25\,-9\,-16\,-15)
DTSTART;TZID=Europe/Berlin:20241023T190000
DTEND;TZID=Europe/Berlin:20241023T210000
LOCATION:Hotelová škola\, Smetanovo náměstí 786 Teplice - Trnovany
SUMMARY:2-U18Z-A: Teplice-Děčín
END:VEVENT
BEGIN:VEVENT
UID:36303734-3666-4439-b962-383764373366
DTSTAMP:20260422T213408Z
DESCRIPTION:11/33 Teplice - Chodov 3:2 (-16\,12\,23\,-19\,12)
DTSTART;TZID=Europe/Berlin:20241109T090000
DTEND;TZID=Europe/Berlin:20241109T110000
LOCATION:Hotelová škola\, Smetanovo náměstí 786 Teplice - Trnovany
SUMMARY:2-U18Z-A: Teplice-Chodov
END:VEVENT
BEGIN:VEVENT
UID:36396635-3165-4437-b839-616530666334
DTSTAMP:20260422T213408Z
DESCRIPTION:12/36 Teplice - Chodov 0:3 (-14\,-16\,-15)
DTSTART;TZID=Europe/Berlin:20241109T130000
DTEND;TZID=Europe/Berlin:20241109T150000
LOCATION:Hotelová škola\, Smetanovo náměstí 786 Teplice - Trnovany
SUMMARY:2-U18Z-A: Teplice-Chodov
END:VEVENT
BEGIN:VEVENT
UID:38343338-3038-4961-b233-316366313232
DTSTAMP:20260422T213408Z
DESCRIPTION:13/37 Teplice - Sokolov 2:3 (18\,-28\,19\,-14\,-4)
DTSTART;TZID=Europe/Berlin:20241130T090000
DTEND;TZID=Europe/Berlin:20241130T110000
LOCATION:Hotelová škola\, Smetanovo náměstí 786 Teplice - Trnovany
SUMMARY:2-U18Z-A: Teplice-Sokolov
END:VEVENT
BEGIN:VEVENT
UID:66663036-3164-4366-b161-653437386233
DTSTAMP:20260422T213408Z
DESCRIPTION:14/40 Teplice - Sokolov 3:0 (20\,21\,13)
DTSTART;TZID=Europe/Berlin:20241130T130000
DTEND;TZID=Europe/Berlin:20241130T150000
LOCATION:Hotelová škola\, Smetanovo náměstí 786 Teplice - Trnovany
SUMMARY:2-U18Z-A: Teplice-Sokolov
END:VEVENT
BEGIN:VEVENT
UID:31303938-3261-4933-a262-653965376162
DTSTAMP:20260422T213408Z
DESCRIPTION:17/50 Teplice - SK Ústí n. L. 0:3 (-25\,-18\,-15)
DTSTART;TZID=Europe/Berlin:20250111T090000
DTEND;TZID=Europe/Berlin:20250111T110000
LOCATION:Hotelová škola\, Smetanovo náměstí 786 Teplice - Trnovany
SUMMARY:2-U18Z-A: Teplice-SK Ústí n. L.
END:VEVENT
BEGIN:VEVENT
UID:65376666-6438-4533-b164-316236386531
DTSTAMP:20260422T213408Z
DESCRIPTION:18/53 Teplice - SK Ústí n. L. 0:3 (-19\,-23\,-23)
DTSTART;TZID=Europe/Berlin:20250111T130000
DTEND;TZID=Europe/Berlin:20250111T150000
LOCATION:Hotelová škola\, Smetanovo náměstí 786 Teplice - Trnovany
SUMMARY:2-U18Z-A: Teplice-SK Ústí n. L.
END:VEVENT
BEGIN:VEVENT
UID:63323030-3835-4339-b565-326536306239
DTSTAMP:20260422T213408Z
DESCRIPTION:1/3 Chodov - Teplice 3:0 (23\,10\,15)
DTSTART;TZID=Europe/Berlin:20240914T100000
DTEND;TZID=Europe/Berlin:20240914T120000
LOCATION:Městská sportovní hala Chodov\, Tyršova 1201 Chodov
SUMMARY:2-U18Z-A: Chodov-Teplice
END:VEVENT
BEGIN:VEVENT
UID:32393331-3865-4436-a433-393232663437
DTSTAMP:20260422T213408Z
DESCRIPTION:2/6 Chodov - Teplice 3:0 (13\,17\,20)
DTSTART;TZID=Europe/Berlin:20240914T140000
DTEND;TZID=Europe/Berlin:20240914T160000
LOCATION:Městská sportovní hala Chodov\, Tyršova 1201 Chodov
SUMMARY:2-U18Z-A: Chodov-Teplice
END:VEVENT
BEGIN:VEVENT
UID:31343234-6237-4030-a430-656663363936
DTSTAMP:20260422T213408Z
DESCRIPTION:3/7 Sokolov - Teplice 3:0 (21\,19\,20)
DTSTART;TZID=Europe/Berlin:20240928T100000
DTEND;TZID=Europe/Berlin:20240928T120000
LOCATION:Jiskra\, Maxima Gorkého 280 Sokolov
SUMMARY:2-U18Z-A: Sokolov-Teplice
END:VEVENT
BEGIN:VEVENT
UID:32313933-6439-4332-b733-353237383666
DTSTAMP:20260422T213408Z
DESCRIPTION:4/10 Sokolov - Teplice 1:3 (-23\,18\,-10\,-22)
DTSTART;TZID=Europe/Berlin:20240928T140000
DTEND;TZID=Europe/Berlin:20240928T160000
LOCATION:Jiskra\, Maxima Gorkého 280 Sokolov
SUMMARY:2-U18Z-A: Sokolov-Teplice
END:VEVENT
BEGIN:VEVENT
UID:64386135-3962-4564-b939-653266656437
DTSTAMP:20260422T213408Z
DESCRIPTION:7/20 SK Ústí n. L. - Teplice 2:3 (12\,-19\,7\,-24\,-12)
DTSTART;TZID=Europe/Berlin:20250104T090000
DTEND;TZID=Europe/Berlin:20250104T110000
LOCATION:Střední průmyslová škola strojní a elektro\, Resslova 210 Ústí nad
  Labem - Klíše
SUMMARY:2-U18Z-A: SK Ústí n. L.-Teplice
END:VEVENT
BEGIN:VEVENT
UID:66326566-6434-4661-b438-633231666230
DTSTAMP:20260422T213408Z
DESCRIPTION:8/23 SK Ústí n. L. - Teplice 3:0 (19\,15\,24)
DTSTART;TZID=Europe/Berlin:20250104T130000
DTEND;TZID=Europe/Berlin:20250104T150000
LOCATION:Střední průmyslová škola strojní a elektro\, Resslova 210 Ústí nad
  Labem - Klíše
SUMMARY:2-U18Z-A: SK Ústí n. L.-Teplice
END:VEVENT
BEGIN:VEVENT
UID:37633762-3439-4363-b938-336538313032
DTSTAMP:20260422T213408Z
DESCRIPTION:15/45 Volejbal Ústí n. L. - Teplice 3:0 (15\,18\,17)
DTSTART;TZID=Europe/Berlin:20241207T100000
DTEND;TZID=Europe/Berlin:20241207T120000
LOCATION:Tělocvična Gymnázia a Střední odborné školy dr. Václava Šmejkala\,
  Stará 3299 Ústí nad Labem - Severní Terasa
SUMMARY:2-U18Z-A: Volejbal Ústí n. L.-Teplice
END:VEVENT
BEGIN:VEVENT
UID:34656333-3366-4835-b066-343932363861
DTSTAMP:20260422T213408Z
DESCRIPTION:16/48 Volejbal Ústí n. L. - Teplice 3:0 (17\,18\,13)
DTSTART;TZID=Europe/Berlin:20241207T140000
DTEND;TZID=Europe/Berlin:20241207T160000
LOCATION:Tělocvična Gymnázia a Střední odborné školy dr. Václava Šmejkala\,
  Stará 3299 Ústí nad Labem - Severní Terasa
SUMMARY:2-U18Z-A: Volejbal Ústí n. L.-Teplice
END:VEVENT
BEGIN:VEVENT
UID:66376563-3137-4434-b266-366531623336
DTSTAMP:20260422T213408Z
DESCRIPTION:19/56 Děčín - Teplice 3:2 (21\,-24\,-21\,18\,8)
DTSTART;TZID=Europe/Berlin:20250119T100000
DTEND;TZID=Europe/Berlin:20250119T120000
LOCATION:SH ZŠ Dr M. Tyrše\, Vrchlického 630 Děčín - Děčín II-Nové Město
SUMMARY:2-U18Z-A: Děčín-Teplice
END:VEVENT
BEGIN:VEVENT
UID:37383935-6532-4530-b531-373736646338
DTSTAMP:20260422T213408Z
DESCRIPTION:20/59 Děčín - Teplice 3:1 (16\,22\,-25\,18)
DTSTART;TZID=Europe/Berlin:20250119T140000
DTEND;TZID=Europe/Berlin:20250119T160000
LOCATION:SH ZŠ Dr M. Tyrše\, Vrchlického 630 Děčín - Děčín II-Nové Město
SUMMARY:2-U18Z-A: Děčín-Teplice
END:VEVENT
BEGIN:VEVENT
UID:38663963-3736-4136-a137-623234333336
DTSTAMP:20260422T213408Z
DESCRIPTION:1/2 Teplice - Český Krumlov 3:0 (15\,13\,25)
DTSTART;TZID=Europe/Berlin:20250201T110000
DTEND;TZID=Europe/Berlin:20250201T130000
LOCATION:Hotelová škola\, Smetanovo náměstí 786 Teplice - Trnovany
SUMMARY:2-U18Z-N: Teplice-Český Krumlov
END:VEVENT
BEGIN:VEVENT
UID:36613337-3766-4339-b531-356136333835
DTSTAMP:20260422T213408Z
DESCRIPTION:2/5 Teplice - Český Krumlov 3:1 (-22\,19\,24\,22)
DTSTART;TZID=Europe/Berlin:20250201T150000
DTEND;TZID=Europe/Berlin:20250201T170000
LOCATION:Hotelová škola\, Smetanovo náměstí 786 Teplice - Trnovany
SUMMARY:2-U18Z-N: Teplice-Český Krumlov
END:VEVENT
BEGIN:VEVENT
UID:36373462-6164-4766-a231-316439316530
DTSTAMP:20260422T213408Z
DESCRIPTION:5/14 Teplice - Vejprnice 3:0 (18\,20\,22)
DTSTART;TZID=Europe/Berlin:20250301T090000
DTEND;TZID=Europe/Berlin:20250301T110000
LOCATION:Hotelová škola\, Smetanovo náměstí 786 Teplice - Trnovany
SUMMARY:2-U18Z-N: Teplice-Vejprnice
END:VEVENT
BEGIN:VEVENT
UID:37366438-6136-4334-a365-613531393063
DTSTAMP:20260422T213408Z
DESCRIPTION:6/17 Teplice - Vejprnice 1:3 (-19\,-18\,17\,-19)
DTSTART;TZID=Europe/Berlin:20250301T130000
DTEND;TZID=Europe/Berlin:20250301T150000
LOCATION:Hotelová škola\, Smetanovo náměstí 786 Teplice - Trnovany
SUMMARY:2-U18Z-N: Teplice-Vejprnice
END:VEVENT
BEGIN:VEVENT
UID:31376138-3264-4461-a663-623230356530
DTSTAMP:20260422T213408Z
DESCRIPTION:9/26 Teplice - Klatovy 1:3 (-21\,-19\,11\,-11)
DTSTART;TZID=Europe/Berlin:20250329T110000
DTEND;TZID=Europe/Berlin:20250329T130000
LOCATION:Hotelová škola\, Smetanovo náměstí 786 Teplice - Trnovany
SUMMARY:2-U18Z-N: Teplice-Klatovy
END:VEVENT
BEGIN:VEVENT
UID:34376163-3762-4361-b765-666330653362
DTSTAMP:20260422T213408Z
DESCRIPTION:10/29 Teplice - Klatovy 0:3 (-17\,-25\,-21)
DTSTART;TZID=Europe/Berlin:20250329T150000
DTEND;TZID=Europe/Berlin:20250329T170000
LOCATION:Hotelová škola\, Smetanovo náměstí 786 Teplice - Trnovany
SUMMARY:2-U18Z-N: Teplice-Klatovy
END:VEVENT
BEGIN:VEVENT
UID:62646637-3331-4438-b062-633232613731
DTSTAMP:20260422T213408Z
DESCRIPTION:3/8 Klatovy - Teplice 1:3 (-21\,24\,-14\,-17)
DTSTART;TZID=Europe/Berlin:20250208T100000
DTEND;TZID=Europe/Berlin:20250208T120000
LOCATION:Hala Na Vodojemu\, Studentská 646 Klatovy - Klatovy IV
SUMMARY:2-U18Z-N: Klatovy-Teplice
END:VEVENT
BEGIN:VEVENT
UID:31636335-3863-4439-b163-306539363666
DTSTAMP:20260422T213408Z
DESCRIPTION:4/11 Klatovy - Teplice 1:3 (-18\,23\,-13\,-21)
DTSTART;TZID=Europe/Berlin:20250208T140000
DTEND;TZID=Europe/Berlin:20250208T160000
LOCATION:Hala Na Vodojemu\, Studentská 646 Klatovy - Klatovy IV
SUMMARY:2-U18Z-N: Klatovy-Teplice
END:VEVENT
BEGIN:VEVENT
UID:63623630-3230-4132-a635-333065656539
DTSTAMP:20260422T213408Z
DESCRIPTION:7/20 Český Krumlov - Teplice 0:3 (-20\,-18\,-14)
DTSTART;TZID=Europe/Berlin:20250322T110000
DTEND;TZID=Europe/Berlin:20250322T130000
LOCATION:ZŠ Za Nádražím Český Krumlov\, Za Nádražím 222 Český Krumlov - Nád
 ražní Předměstí
SUMMARY:2-U18Z-N: Český Krumlov-Teplice
END:VEVENT
BEGIN:VEVENT
UID:36633663-6437-4464-b662-636466396362
DTSTAMP:20260422T213408Z
DESCRIPTION:8/23 Český Krumlov - Teplice 3:0 (22\,19\,14)
DTSTART;TZID=Europe/Berlin:20250322T150000
DTEND;TZID=Europe/Berlin:20250322T170000
LOCATION:ZŠ Za Nádražím Český Krumlov\, Za Nádražím 222 Český Krumlov - Nád
 ražní Předměstí
SUMMARY:2-U18Z-N: Český Krumlov-Teplice
END:VEVENT
BEGIN:VEVENT
UID:38326662-3938-4862-a262-303730373432
DTSTAMP:20260422T213408Z
DESCRIPTION:11/32 Vejprnice - Teplice 0:3 (-21\,-23\,-18)
DTSTART;TZID=Europe/Berlin:20250406T090000
DTEND;TZID=Europe/Berlin:20250406T110000
LOCATION:Tělocvična ZŠ Vejprnice\, Jakuba Husníka 527 Vejprnice
SUMMARY:2-U18Z-N: Vejprnice-Teplice
END:VEVENT
BEGIN:VEVENT
UID:33613966-3763-4762-a239-636631343636
DTSTAMP:20260422T213408Z
DESCRIPTION:12/35 Vejprnice - Teplice 3:1 (-29\,19\,21\,15)
DTSTART;TZID=Europe/Berlin:20250406T130000
DTEND;TZID=Europe/Berlin:20250406T150000
LOCATION:Tělocvična ZŠ Vejprnice\, Jakuba Husníka 527 Vejprnice
SUMMARY:2-U18Z-N: Vejprnice-Teplice
END:VEVENT
END:VCALENDAR
