BEGIN:VCALENDAR
VERSION:2.0
PRODID:-//INLAB SK Meteor Praha86121//NONSGML kigkonsult.se iCalcreator 2.41.80//
CALSCALE:GREGORIAN
UID:63363463-6134-4630-b561-646665373239
BEGIN:VEVENT
UID:36333237-3238-4532-b232-363033633761
DTSTAMP:20260423T005314Z
DESCRIPTION:5/15 Meteor - Pardubice 1:3 (-21\,-13\,26\,-22)
DTSTART;TZID=Europe/Berlin:20241005T100000
DTEND;TZID=Europe/Berlin:20241005T120000
LOCATION:ZŠ Žernosecká\, Žernosecká 1597 Praha - Kobylisy
SUMMARY:2-U18Z-D: Meteor-Pardubice
END:VEVENT
BEGIN:VEVENT
UID:31306462-6466-4331-a630-396462623961
DTSTAMP:20260423T005314Z
DESCRIPTION:6/18 Meteor - Pardubice 3:2 (-21\,23\,24\,-17\,9)
DTSTART;TZID=Europe/Berlin:20241005T140000
DTEND;TZID=Europe/Berlin:20241005T160000
LOCATION:ZŠ Žernosecká\, Žernosecká 1597 Praha - Kobylisy
SUMMARY:2-U18Z-D: Meteor-Pardubice
END:VEVENT
BEGIN:VEVENT
UID:64393165-3136-4436-a635-663136643964
DTSTAMP:20260423T005314Z
DESCRIPTION:9/26 Meteor - Rychnov n. K. 3:0 (14\,21\,22)
DTSTART;TZID=Europe/Berlin:20241019T120000
DTEND;TZID=Europe/Berlin:20241019T140000
LOCATION:ZŠ Žernosecká\, Žernosecká 1597 Praha - Kobylisy
SUMMARY:2-U18Z-D: Meteor-Rychnov n. K.
END:VEVENT
BEGIN:VEVENT
UID:38303439-3861-4638-a163-666436313664
DTSTAMP:20260423T005314Z
DESCRIPTION:10/29 Meteor - Rychnov n. K. 3:2 (23\,20\,-27\,-16\,17)
DTSTART;TZID=Europe/Berlin:20241019T160000
DTEND;TZID=Europe/Berlin:20241019T180000
LOCATION:ZŠ Žernosecká\, Žernosecká 1597 Praha - Kobylisy
SUMMARY:2-U18Z-D: Meteor-Rychnov n. K.
END:VEVENT
BEGIN:VEVENT
UID:65633564-3861-4038-b836-623865303164
DTSTAMP:20260423T005314Z
DESCRIPTION:11/33 Meteor - Benátky n. J. 3:0 (16\,20\,21)
DTSTART;TZID=Europe/Berlin:20241109T110000
DTEND;TZID=Europe/Berlin:20241109T130000
LOCATION:ZŠ Žernosecká\, Žernosecká 1597 Praha - Kobylisy
SUMMARY:2-U18Z-D: Meteor-Benátky n. J.
END:VEVENT
BEGIN:VEVENT
UID:33643166-3965-4661-a261-636562343664
DTSTAMP:20260423T005314Z
DESCRIPTION:12/36 Meteor - Benátky n. J. 3:1 (19\,23\,-17\,19)
DTSTART;TZID=Europe/Berlin:20241109T150000
DTEND;TZID=Europe/Berlin:20241109T170000
LOCATION:ZŠ Žernosecká\, Žernosecká 1597 Praha - Kobylisy
SUMMARY:2-U18Z-D: Meteor-Benátky n. J.
END:VEVENT
BEGIN:VEVENT
UID:30376361-6432-4531-a339-376634393635
DTSTAMP:20260423T005314Z
DESCRIPTION:13/37 Meteor - Rtyně 3:0 (18\,22\,22)
DTSTART;TZID=Europe/Berlin:20241130T110000
DTEND;TZID=Europe/Berlin:20241130T130000
LOCATION:ZŠ Žernosecká\, Žernosecká 1597 Praha - Kobylisy
SUMMARY:2-U18Z-D: Meteor-Rtyně
END:VEVENT
BEGIN:VEVENT
UID:63633835-6363-4162-a336-363663383061
DTSTAMP:20260423T005314Z
DESCRIPTION:14/40 Meteor - Rtyně 3:0 (18\,9\,22)
DTSTART;TZID=Europe/Berlin:20241130T150000
DTEND;TZID=Europe/Berlin:20241130T170000
LOCATION:ZŠ Žernosecká\, Žernosecká 1597 Praha - Kobylisy
SUMMARY:2-U18Z-D: Meteor-Rtyně
END:VEVENT
BEGIN:VEVENT
UID:36636535-6430-4531-b736-376232626162
DTSTAMP:20260423T005314Z
DESCRIPTION:17/50 Meteor - Lvice Praha 0:3 (-23\,-8\,-14)
DTSTART;TZID=Europe/Berlin:20250111T100000
DTEND;TZID=Europe/Berlin:20250111T120000
LOCATION:ZŠ Žernosecká\, Žernosecká 1597 Praha - Kobylisy
SUMMARY:2-U18Z-D: Meteor-Lvice Praha
END:VEVENT
BEGIN:VEVENT
UID:30633333-3837-4839-b732-666239616662
DTSTAMP:20260423T005314Z
DESCRIPTION:18/53 Meteor - Lvice Praha 0:3 (-20\,-20\,-20)
DTSTART;TZID=Europe/Berlin:20250111T140000
DTEND;TZID=Europe/Berlin:20250111T160000
LOCATION:ZŠ Žernosecká\, Žernosecká 1597 Praha - Kobylisy
SUMMARY:2-U18Z-D: Meteor-Lvice Praha
END:VEVENT
BEGIN:VEVENT
UID:34653862-6634-4234-b966-396336336261
DTSTAMP:20260423T005314Z
DESCRIPTION:1/3 Benátky n. J. - Meteor 2:3 (22\,-22\,10\,-13\,-12)
DTSTART;TZID=Europe/Berlin:20240914T110000
DTEND;TZID=Europe/Berlin:20240914T130000
LOCATION:Nibe aréna\, městská sportovní hala\, 5. května 746 Benátky nad Ji
 zerou - Benátky nad Jizerou II
SUMMARY:2-U18Z-D: Benátky n. J.-Meteor
END:VEVENT
BEGIN:VEVENT
UID:61366364-6162-4661-b563-663635356564
DTSTAMP:20260423T005314Z
DESCRIPTION:2/6 Benátky n. J. - Meteor 0:3 (-10\,-14\,-23)
DTSTART;TZID=Europe/Berlin:20240914T150000
DTEND;TZID=Europe/Berlin:20240914T170000
LOCATION:Nibe aréna\, městská sportovní hala\, 5. května 746 Benátky nad Ji
 zerou - Benátky nad Jizerou II
SUMMARY:2-U18Z-D: Benátky n. J.-Meteor
END:VEVENT
BEGIN:VEVENT
UID:37386565-3239-4162-b065-633061653264
DTSTAMP:20260423T005314Z
DESCRIPTION:3/7 Rtyně - Meteor 1:3 (23\,-13\,-17\,-24)
DTSTART;TZID=Europe/Berlin:20240928T100000
DTEND;TZID=Europe/Berlin:20240928T120000
LOCATION:Tělocvična ZŠ Zbečník\,  Hronov - Zbečník210
SUMMARY:2-U18Z-D: Rtyně-Meteor
END:VEVENT
BEGIN:VEVENT
UID:63306432-6531-4334-b461-306661333832
DTSTAMP:20260423T005314Z
DESCRIPTION:4/10 Rtyně - Meteor 0:3 (-20\,-15\,-19)
DTSTART;TZID=Europe/Berlin:20240928T140000
DTEND;TZID=Europe/Berlin:20240928T160000
LOCATION:Tělocvična ZŠ Zbečník\,  Hronov - Zbečník210
SUMMARY:2-U18Z-D: Rtyně-Meteor
END:VEVENT
BEGIN:VEVENT
UID:39316330-3334-4366-b963-323039633066
DTSTAMP:20260423T005314Z
DESCRIPTION:7/20 Lvice Praha - Meteor 3:0 (22\,18\,22)
DTSTART;TZID=Europe/Berlin:20241012T100000
DTEND;TZID=Europe/Berlin:20241012T120000
LOCATION:ZŠ Balabenka\, náměstí Na Balabence 800 Praha - Libeň
SUMMARY:2-U18Z-D: Lvice Praha-Meteor
END:VEVENT
BEGIN:VEVENT
UID:39393564-3737-4366-b738-326361656535
DTSTAMP:20260423T005314Z
DESCRIPTION:8/23 Lvice Praha - Meteor 2:3 (-23\,24\,-18\,18\,-11)
DTSTART;TZID=Europe/Berlin:20241012T140000
DTEND;TZID=Europe/Berlin:20241012T160000
LOCATION:ZŠ Balabenka\, náměstí Na Balabence 800 Praha - Libeň
SUMMARY:2-U18Z-D: Lvice Praha-Meteor
END:VEVENT
BEGIN:VEVENT
UID:62643038-6439-4537-b062-326239393263
DTSTAMP:20260423T005314Z
DESCRIPTION:15/45 Pardubice - Meteor 2:3 (23\,-19\,14\,-19\,-9)
DTSTART;TZID=Europe/Berlin:20241207T100000
DTEND;TZID=Europe/Berlin:20241207T120000
LOCATION:Sportovní areál Univerzity Pardubice\, Studentská 95 Pardubice - P
 olabiny
SUMMARY:2-U18Z-D: Pardubice-Meteor
END:VEVENT
BEGIN:VEVENT
UID:32623432-3035-4465-b539-346634313562
DTSTAMP:20260423T005314Z
DESCRIPTION:16/48 Pardubice - Meteor 0:3 (-23\,-18\,-23)
DTSTART;TZID=Europe/Berlin:20241207T140000
DTEND;TZID=Europe/Berlin:20241207T160000
LOCATION:Sportovní areál Univerzity Pardubice\, Studentská 95 Pardubice - P
 olabiny
SUMMARY:2-U18Z-D: Pardubice-Meteor
END:VEVENT
BEGIN:VEVENT
UID:66323837-3261-4663-b162-636137323639
DTSTAMP:20260423T005314Z
DESCRIPTION:19/56 Rychnov n. K. - Meteor 1:3 (-15\,23\,-17\,-19)
DTSTART;TZID=Europe/Berlin:20250118T100000
DTEND;TZID=Europe/Berlin:20250118T120000
LOCATION:Hala VOŠ a SPŠS\, U Stadionu 1166 Rychnov nad Kněžnou
SUMMARY:2-U18Z-D: Rychnov n. K.-Meteor
END:VEVENT
BEGIN:VEVENT
UID:31656634-6134-4333-b638-333565653865
DTSTAMP:20260423T005314Z
DESCRIPTION:20/59 Rychnov n. K. - Meteor 0:3 (-17\,-18\,-18)
DTSTART;TZID=Europe/Berlin:20250118T140000
DTEND;TZID=Europe/Berlin:20250118T160000
LOCATION:Hala VOŠ a SPŠS\, U Stadionu 1166 Rychnov nad Kněžnou
SUMMARY:2-U18Z-D: Rychnov n. K.-Meteor
END:VEVENT
BEGIN:VEVENT
UID:61326464-3638-4865-b438-343438366539
DTSTAMP:20260423T005314Z
DESCRIPTION:3/9 Meteor - Slavia Praha 3:2 (-22\,19\,-17\,14\,11)
DTSTART;TZID=Europe/Berlin:20250208T100000
DTEND;TZID=Europe/Berlin:20250208T120000
LOCATION:ZŠ Žernosecká\, Žernosecká 1597 Praha - Kobylisy
SUMMARY:2-U18Z-II: Meteor-Slavia Praha
END:VEVENT
BEGIN:VEVENT
UID:64303439-3830-4332-b635-323364343763
DTSTAMP:20260423T005314Z
DESCRIPTION:4/12 Meteor - Slavia Praha 1:3 (-26\,-20\,21\,-22)
DTSTART;TZID=Europe/Berlin:20250208T140000
DTEND;TZID=Europe/Berlin:20250208T160000
LOCATION:ZŠ Žernosecká\, Žernosecká 1597 Praha - Kobylisy
SUMMARY:2-U18Z-II: Meteor-Slavia Praha
END:VEVENT
BEGIN:VEVENT
UID:37373132-3732-4634-b934-643061613665
DTSTAMP:20260423T005314Z
DESCRIPTION:7/19 Meteor - Štoky 0:3 (-16\,-21\,-21)
DTSTART;TZID=Europe/Berlin:20250202T100000
DTEND;TZID=Europe/Berlin:20250202T120000
LOCATION:ZŠ Žernosecká\, Žernosecká 1597 Praha - Kobylisy
SUMMARY:2-U18Z-II: Meteor-Štoky
END:VEVENT
BEGIN:VEVENT
UID:37346133-6239-4536-b732-636464383232
DTSTAMP:20260423T005314Z
DESCRIPTION:8/22 Meteor - Štoky 1:3 (-17\,20\,-18\,-25)
DTSTART;TZID=Europe/Berlin:20250202T140000
DTEND;TZID=Europe/Berlin:20250202T160000
LOCATION:ZŠ Žernosecká\, Žernosecká 1597 Praha - Kobylisy
SUMMARY:2-U18Z-II: Meteor-Štoky
END:VEVENT
BEGIN:VEVENT
UID:30343832-6164-4836-a164-616130623533
DTSTAMP:20260423T005314Z
DESCRIPTION:11/32 Meteor - Mělník 1:3 (-12\,-18\,23\,-16)
DTSTART;TZID=Europe/Berlin:20250406T100000
DTEND;TZID=Europe/Berlin:20250406T120000
LOCATION:ZŠ Žernosecká\, Žernosecká 1597 Praha - Kobylisy
SUMMARY:2-U18Z-II: Meteor-Mělník
END:VEVENT
BEGIN:VEVENT
UID:32326264-6165-4337-b261-303639663336
DTSTAMP:20260423T005314Z
DESCRIPTION:12/35 Meteor - Mělník 0:3 (-22\,-21\,-18)
DTSTART;TZID=Europe/Berlin:20250406T140000
DTEND;TZID=Europe/Berlin:20250406T160000
LOCATION:ZŠ Žernosecká\, Žernosecká 1597 Praha - Kobylisy
SUMMARY:2-U18Z-II: Meteor-Mělník
END:VEVENT
BEGIN:VEVENT
UID:66313861-3536-4337-b139-623866656634
DTSTAMP:20260423T005314Z
DESCRIPTION:1/1 Štoky - Meteor 3:0 (13\,19\,12)
DTSTART;TZID=Europe/Berlin:20250315T090000
DTEND;TZID=Europe/Berlin:20250315T110000
LOCATION:Sportovní hala Základní škola a mateřská škola Štoky\,  Štoky220
SUMMARY:2-U18Z-II: Štoky-Meteor
END:VEVENT
BEGIN:VEVENT
UID:61316161-3834-4864-b834-363735623963
DTSTAMP:20260423T005314Z
DESCRIPTION:2/4 Štoky - Meteor 1:3 (-17\,22\,-22\,-25)
DTSTART;TZID=Europe/Berlin:20250315T130000
DTEND;TZID=Europe/Berlin:20250315T150000
LOCATION:Sportovní hala Základní škola a mateřská škola Štoky\,  Štoky220
SUMMARY:2-U18Z-II: Štoky-Meteor
END:VEVENT
BEGIN:VEVENT
UID:38326539-3533-4434-b263-646334343632
DTSTAMP:20260423T005314Z
DESCRIPTION:5/14 Mělník - Meteor 3:0 (26\,15\,10)
DTSTART;TZID=Europe/Berlin:20250301T100000
DTEND;TZID=Europe/Berlin:20250301T120000
LOCATION:Hala SPŠS - Koktánek\, Pražská 416 Mělník
SUMMARY:2-U18Z-II: Mělník-Meteor
END:VEVENT
BEGIN:VEVENT
UID:34656138-3935-4131-a631-383266333164
DTSTAMP:20260423T005314Z
DESCRIPTION:6/17 Mělník - Meteor 3:1 (16\,23\,-23\,13)
DTSTART;TZID=Europe/Berlin:20250301T140000
DTEND;TZID=Europe/Berlin:20250301T160000
LOCATION:Hala SPŠS - Koktánek\, Pražská 416 Mělník
SUMMARY:2-U18Z-II: Mělník-Meteor
END:VEVENT
BEGIN:VEVENT
UID:62336434-6433-4330-b863-343339393231
DTSTAMP:20260423T005314Z
DESCRIPTION:9/27 Slavia Praha - Meteor 1:3 (-21\,-17\,18\,-25)
DTSTART;TZID=Europe/Berlin:20250329T100000
DTEND;TZID=Europe/Berlin:20250329T120000
LOCATION:Jana\, Vladivostocká 1460 Praha - Vršovice
SUMMARY:2-U18Z-II: Slavia Praha-Meteor
END:VEVENT
BEGIN:VEVENT
UID:38663239-6633-4632-b764-303965323765
DTSTAMP:20260423T005314Z
DESCRIPTION:10/30 Slavia Praha - Meteor 0:3 (-15\,-22\,-12)
DTSTART;TZID=Europe/Berlin:20250329T140000
DTEND;TZID=Europe/Berlin:20250329T160000
LOCATION:Jana\, Vladivostocká 1460 Praha - Vršovice
SUMMARY:2-U18Z-II: Slavia Praha-Meteor
END:VEVENT
END:VCALENDAR
