BEGIN:VCALENDAR
VERSION:2.0
PRODID:-//SK Volejbal Ústí nad Labem86127//NONSGML kigkonsult.se iCalcreator 2.41.80//
CALSCALE:GREGORIAN
UID:37376663-6538-4661-b761-663736633034
BEGIN:VEVENT
UID:33313032-3366-4937-b666-613461613563
DTSTAMP:20260423T035338Z
DESCRIPTION:1/1 SK Ústí n. L. - Sokolov 3:1 (15\,-23\,30\,22)
DTSTART;TZID=Europe/Berlin:20240914T090000
DTEND;TZID=Europe/Berlin:20240914T110000
LOCATION:Střední průmyslová škola strojní a elektro\, Resslova 210 Ústí nad
  Labem - Klíše
SUMMARY:2-U18Z-A: SK Ústí n. L.-Sokolov
END:VEVENT
BEGIN:VEVENT
UID:39626239-3865-4765-a663-646233663533
DTSTAMP:20260423T035338Z
DESCRIPTION:2/4 SK Ústí n. L. - Sokolov 3:1 (22\,-18\,21\,21)
DTSTART;TZID=Europe/Berlin:20240914T130000
DTEND;TZID=Europe/Berlin:20240914T150000
LOCATION:Střední průmyslová škola strojní a elektro\, Resslova 210 Ústí nad
  Labem - Klíše
SUMMARY:2-U18Z-A: SK Ústí n. L.-Sokolov
END:VEVENT
BEGIN:VEVENT
UID:38306535-6663-4235-a533-623431363135
DTSTAMP:20260423T035338Z
DESCRIPTION:3/9 SK Ústí n. L. - Děčín 1:3 (-30\,-15\,21\,-21)
DTSTART;TZID=Europe/Berlin:20240928T100000
DTEND;TZID=Europe/Berlin:20240928T120000
LOCATION:Střední průmyslová škola strojní a elektro\, Resslova 210 Ústí nad
  Labem - Klíše
SUMMARY:2-U18Z-A: SK Ústí n. L.-Děčín
END:VEVENT
BEGIN:VEVENT
UID:61313562-3165-4762-b665-633339616636
DTSTAMP:20260423T035338Z
DESCRIPTION:4/12 SK Ústí n. L. - Děčín 2:3 (18\,-18\,-21\,26\,-12)
DTSTART;TZID=Europe/Berlin:20240928T140000
DTEND;TZID=Europe/Berlin:20240928T160000
LOCATION:Střední průmyslová škola strojní a elektro\, Resslova 210 Ústí nad
  Labem - Klíše
SUMMARY:2-U18Z-A: SK Ústí n. L.-Děčín
END:VEVENT
BEGIN:VEVENT
UID:35353862-3631-4562-a364-306338323932
DTSTAMP:20260423T035338Z
DESCRIPTION:7/20 SK Ústí n. L. - Teplice 2:3 (12\,-19\,7\,-24\,-12)
DTSTART;TZID=Europe/Berlin:20250104T090000
DTEND;TZID=Europe/Berlin:20250104T110000
LOCATION:Střední průmyslová škola strojní a elektro\, Resslova 210 Ústí nad
  Labem - Klíše
SUMMARY:2-U18Z-A: SK Ústí n. L.-Teplice
END:VEVENT
BEGIN:VEVENT
UID:61626439-6430-4365-b833-383966663564
DTSTAMP:20260423T035338Z
DESCRIPTION:8/23 SK Ústí n. L. - Teplice 3:0 (19\,15\,24)
DTSTART;TZID=Europe/Berlin:20250104T130000
DTEND;TZID=Europe/Berlin:20250104T150000
LOCATION:Střední průmyslová škola strojní a elektro\, Resslova 210 Ústí nad
  Labem - Klíše
SUMMARY:2-U18Z-A: SK Ústí n. L.-Teplice
END:VEVENT
BEGIN:VEVENT
UID:33383333-3638-4432-a337-636465626461
DTSTAMP:20260423T035338Z
DESCRIPTION:15/44 SK Ústí n. L. - Chodov 3:2 (19\,23\,-16\,-16\,10)
DTSTART;TZID=Europe/Berlin:20241207T090000
DTEND;TZID=Europe/Berlin:20241207T110000
LOCATION:Střední průmyslová škola strojní a elektro\, Resslova 210 Ústí nad
  Labem - Klíše
SUMMARY:2-U18Z-A: SK Ústí n. L.-Chodov
END:VEVENT
BEGIN:VEVENT
UID:66313435-3032-4265-b666-653734613033
DTSTAMP:20260423T035338Z
DESCRIPTION:16/47 SK Ústí n. L. - Chodov 0:3 (-16\,-17\,-7)
DTSTART;TZID=Europe/Berlin:20241207T130000
DTEND;TZID=Europe/Berlin:20241207T150000
LOCATION:Střední průmyslová škola strojní a elektro\, Resslova 210 Ústí nad
  Labem - Klíše
SUMMARY:2-U18Z-A: SK Ústí n. L.-Chodov
END:VEVENT
BEGIN:VEVENT
UID:36613461-3366-4039-b264-623961303634
DTSTAMP:20260423T035338Z
DESCRIPTION:19/57 SK Ústí n. L. - Volejbal Ústí n. L. 3:1 (19\,20\,-22\,20)
DTSTART;TZID=Europe/Berlin:20241026T100000
DTEND;TZID=Europe/Berlin:20241026T120000
LOCATION:Střední průmyslová škola strojní a elektro\, Resslova 210 Ústí nad
  Labem - Klíše
SUMMARY:2-U18Z-A: SK Ústí n. L.-Volejbal Ústí n. L.
END:VEVENT
BEGIN:VEVENT
UID:37623039-3331-4364-a463-343464346265
DTSTAMP:20260423T035338Z
DESCRIPTION:20/60 SK Ústí n. L. - Volejbal Ústí n. L. 3:1 (20\,27\,-18\,20)
DTSTART;TZID=Europe/Berlin:20241026T140000
DTEND;TZID=Europe/Berlin:20241026T160000
LOCATION:Střední průmyslová škola strojní a elektro\, Resslova 210 Ústí nad
  Labem - Klíše
SUMMARY:2-U18Z-A: SK Ústí n. L.-Volejbal Ústí n. L.
END:VEVENT
BEGIN:VEVENT
UID:63376230-6637-4634-b361-656661653066
DTSTAMP:20260423T035338Z
DESCRIPTION:5/14 Chodov - SK Ústí n. L. 3:0 (19\,15\,19)
DTSTART;TZID=Europe/Berlin:20241005T100000
DTEND;TZID=Europe/Berlin:20241005T120000
LOCATION:Městská sportovní hala Chodov\, Tyršova 1201 Chodov
SUMMARY:2-U18Z-A: Chodov-SK Ústí n. L.
END:VEVENT
BEGIN:VEVENT
UID:32366165-6133-4539-a335-623563386432
DTSTAMP:20260423T035338Z
DESCRIPTION:6/17 Chodov - SK Ústí n. L. 3:0 (18\,13\,19)
DTSTART;TZID=Europe/Berlin:20241005T140000
DTEND;TZID=Europe/Berlin:20241005T160000
LOCATION:Městská sportovní hala Chodov\, Tyršova 1201 Chodov
SUMMARY:2-U18Z-A: Chodov-SK Ústí n. L.
END:VEVENT
BEGIN:VEVENT
UID:31333333-3063-4631-b965-616161616561
DTSTAMP:20260423T035338Z
DESCRIPTION:9/27 Volejbal Ústí n. L. - SK Ústí n. L. 0:3 (-16\,-14\,-22)
DTSTART;TZID=Europe/Berlin:20250119T100000
DTEND;TZID=Europe/Berlin:20250119T120000
LOCATION:Tělocvična Gymnázia a Střední odborné školy dr. Václava Šmejkala\,
  Stará 3299 Ústí nad Labem - Severní Terasa
SUMMARY:2-U18Z-A: Volejbal Ústí n. L.-SK Ústí n. L.
END:VEVENT
BEGIN:VEVENT
UID:39306262-3332-4465-b164-666430336433
DTSTAMP:20260423T035338Z
DESCRIPTION:10/30 Volejbal Ústí n. L. - SK Ústí n. L. 3:2 (19\,-19\,-23\,16
 \,13)
DTSTART;TZID=Europe/Berlin:20250119T140000
DTEND;TZID=Europe/Berlin:20250119T160000
LOCATION:Tělocvična Gymnázia a Střední odborné školy dr. Václava Šmejkala\,
  Stará 3299 Ústí nad Labem - Severní Terasa
SUMMARY:2-U18Z-A: Volejbal Ústí n. L.-SK Ústí n. L.
END:VEVENT
BEGIN:VEVENT
UID:37393363-3232-4165-b835-323765643366
DTSTAMP:20260423T035338Z
DESCRIPTION:11/31 Sokolov - SK Ústí n. L. 3:1 (19\,-15\,16\,26)
DTSTART;TZID=Europe/Berlin:20241109T110000
DTEND;TZID=Europe/Berlin:20241109T130000
LOCATION:Jiskra\, Maxima Gorkého 280 Sokolov
SUMMARY:2-U18Z-A: Sokolov-SK Ústí n. L.
END:VEVENT
BEGIN:VEVENT
UID:62316432-6635-4431-b932-633065653239
DTSTAMP:20260423T035338Z
DESCRIPTION:12/34 Sokolov - SK Ústí n. L. 3:1 (23\,-19\,16\,18)
DTSTART;TZID=Europe/Berlin:20241109T150000
DTEND;TZID=Europe/Berlin:20241109T170000
LOCATION:Jiskra\, Maxima Gorkého 280 Sokolov
SUMMARY:2-U18Z-A: Sokolov-SK Ústí n. L.
END:VEVENT
BEGIN:VEVENT
UID:31373365-3936-4736-b238-623434313335
DTSTAMP:20260423T035338Z
DESCRIPTION:13/39 Děčín - SK Ústí n. L. 3:1 (-20\,23\,24\,17)
DTSTART;TZID=Europe/Berlin:20241130T100000
DTEND;TZID=Europe/Berlin:20241130T120000
LOCATION:SH ZŠ Dr M. Tyrše\, Vrchlického 630 Děčín - Děčín II-Nové Město
SUMMARY:2-U18Z-A: Děčín-SK Ústí n. L.
END:VEVENT
BEGIN:VEVENT
UID:31393533-6161-4362-b731-343330376235
DTSTAMP:20260423T035338Z
DESCRIPTION:14/42 Děčín - SK Ústí n. L. 3:0 (18\,14\,13)
DTSTART;TZID=Europe/Berlin:20241130T140000
DTEND;TZID=Europe/Berlin:20241130T160000
LOCATION:SH ZŠ Dr M. Tyrše\, Vrchlického 630 Děčín - Děčín II-Nové Město
SUMMARY:2-U18Z-A: Děčín-SK Ústí n. L.
END:VEVENT
BEGIN:VEVENT
UID:31313137-3861-4236-b034-366137303131
DTSTAMP:20260423T035338Z
DESCRIPTION:17/50 Teplice - SK Ústí n. L. 0:3 (-25\,-18\,-15)
DTSTART;TZID=Europe/Berlin:20250111T090000
DTEND;TZID=Europe/Berlin:20250111T110000
LOCATION:Hotelová škola\, Smetanovo náměstí 786 Teplice - Trnovany
SUMMARY:2-U18Z-A: Teplice-SK Ústí n. L.
END:VEVENT
BEGIN:VEVENT
UID:61313237-6336-4536-a338-633131613930
DTSTAMP:20260423T035338Z
DESCRIPTION:18/53 Teplice - SK Ústí n. L. 0:3 (-19\,-23\,-23)
DTSTART;TZID=Europe/Berlin:20250111T130000
DTEND;TZID=Europe/Berlin:20250111T150000
LOCATION:Hotelová škola\, Smetanovo náměstí 786 Teplice - Trnovany
SUMMARY:2-U18Z-A: Teplice-SK Ústí n. L.
END:VEVENT
BEGIN:VEVENT
UID:34616239-6236-4532-b363-356430666637
DTSTAMP:20260423T035338Z
DESCRIPTION:1/3 SK Ústí n. L. - Hořovice 0:3 (-23\,-18\,-20)
DTSTART;TZID=Europe/Berlin:20250323T090000
DTEND;TZID=Europe/Berlin:20250323T110000
LOCATION:Střední průmyslová škola strojní a elektro\, Resslova 210 Ústí nad
  Labem - Klíše
SUMMARY:2-U18Z-I: SK Ústí n. L.-Hořovice
END:VEVENT
BEGIN:VEVENT
UID:61346531-3465-4531-a461-356464613237
DTSTAMP:20260423T035338Z
DESCRIPTION:2/6 SK Ústí n. L. - Hořovice 0:3 (-13\,-13\,-20)
DTSTART;TZID=Europe/Berlin:20250323T130000
DTEND;TZID=Europe/Berlin:20250323T150000
LOCATION:Střední průmyslová škola strojní a elektro\, Resslova 210 Ústí nad
  Labem - Klíše
SUMMARY:2-U18Z-I: SK Ústí n. L.-Hořovice
END:VEVENT
BEGIN:VEVENT
UID:30343832-3137-4338-a437-366235373135
DTSTAMP:20260423T035338Z
DESCRIPTION:5/15 SK Ústí n. L. - Příbram 3:1 (26\,23\,-14\,21)
DTSTART;TZID=Europe/Berlin:20250301T090000
DTEND;TZID=Europe/Berlin:20250301T110000
LOCATION:Střední průmyslová škola strojní a elektro\, Resslova 210 Ústí nad
  Labem - Klíše
SUMMARY:2-U18Z-I: SK Ústí n. L.-Příbram
END:VEVENT
BEGIN:VEVENT
UID:37613662-3162-4964-b239-643439666338
DTSTAMP:20260423T035338Z
DESCRIPTION:6/18 SK Ústí n. L. - Příbram 3:1 (19\,-23\,18\,21)
DTSTART;TZID=Europe/Berlin:20250301T130000
DTEND;TZID=Europe/Berlin:20250301T150000
LOCATION:Střední průmyslová škola strojní a elektro\, Resslova 210 Ústí nad
  Labem - Klíše
SUMMARY:2-U18Z-I: SK Ústí n. L.-Příbram
END:VEVENT
BEGIN:VEVENT
UID:34623931-6232-4463-b231-353631653330
DTSTAMP:20260423T035338Z
DESCRIPTION:9/27 SK Ústí n. L. - Rudolfov 0:3 (-20\,-12\,-25)
DTSTART;TZID=Europe/Berlin:20250329T110000
DTEND;TZID=Europe/Berlin:20250329T130000
LOCATION:Střední průmyslová škola strojní a elektro\, Resslova 210 Ústí nad
  Labem - Klíše
SUMMARY:2-U18Z-I: SK Ústí n. L.-Rudolfov
END:VEVENT
BEGIN:VEVENT
UID:35373934-3433-4639-b638-336264343234
DTSTAMP:20260423T035338Z
DESCRIPTION:10/30 SK Ústí n. L. - Rudolfov 1:3 (-14\,-19\,19\,-19)
DTSTART;TZID=Europe/Berlin:20250329T150000
DTEND;TZID=Europe/Berlin:20250329T170000
LOCATION:Střední průmyslová škola strojní a elektro\, Resslova 210 Ústí nad
  Labem - Klíše
SUMMARY:2-U18Z-I: SK Ústí n. L.-Rudolfov
END:VEVENT
BEGIN:VEVENT
UID:32346534-6564-4235-b038-396561393363
DTSTAMP:20260423T035338Z
DESCRIPTION:3/9 Rudolfov - SK Ústí n. L. 3:1 (16\,-20\,17\,15)
DTSTART;TZID=Europe/Berlin:20250215T110000
DTEND;TZID=Europe/Berlin:20250215T130000
LOCATION:Sportovní hala Rudolfov\, Adamovská 511 Rudolfov
SUMMARY:2-U18Z-I: Rudolfov-SK Ústí n. L.
END:VEVENT
BEGIN:VEVENT
UID:34356338-3364-4233-a539-393265653564
DTSTAMP:20260423T035338Z
DESCRIPTION:4/12 Rudolfov - SK Ústí n. L. 3:1 (-23\,23\,23\,23)
DTSTART;TZID=Europe/Berlin:20250215T150000
DTEND;TZID=Europe/Berlin:20250215T170000
LOCATION:Sportovní hala Rudolfov\, Adamovská 511 Rudolfov
SUMMARY:2-U18Z-I: Rudolfov-SK Ústí n. L.
END:VEVENT
BEGIN:VEVENT
UID:34303036-6335-4639-a538-313361306433
DTSTAMP:20260423T035338Z
DESCRIPTION:7/21 Hořovice - SK Ústí n. L. 3:1 (-18\,20\,17\,19)
DTSTART;TZID=Europe/Berlin:20250315T100000
DTEND;TZID=Europe/Berlin:20250315T120000
LOCATION:Sportovní hala\, Ke Stadionu 1385 Hořovice
SUMMARY:2-U18Z-I: Hořovice-SK Ústí n. L.
END:VEVENT
BEGIN:VEVENT
UID:65346363-3561-4666-b461-613038333331
DTSTAMP:20260423T035338Z
DESCRIPTION:8/24 Hořovice - SK Ústí n. L. 3:0 (20\,21\,14)
DTSTART;TZID=Europe/Berlin:20250315T140000
DTEND;TZID=Europe/Berlin:20250315T160000
LOCATION:Sportovní hala\, Ke Stadionu 1385 Hořovice
SUMMARY:2-U18Z-I: Hořovice-SK Ústí n. L.
END:VEVENT
BEGIN:VEVENT
UID:37663862-3266-4335-b236-326562626239
DTSTAMP:20260423T035338Z
DESCRIPTION:11/33 Příbram - SK Ústí n. L. 1:3 (-24\,-24\,17\,-23)
DTSTART;TZID=Europe/Berlin:20250406T100000
DTEND;TZID=Europe/Berlin:20250406T120000
LOCATION:Tělocvična ZŠ Balbínova\, Balbínova 328 Příbram - Příbram II
SUMMARY:2-U18Z-I: Příbram-SK Ústí n. L.
END:VEVENT
BEGIN:VEVENT
UID:36383736-6437-4534-b261-363666366231
DTSTAMP:20260423T035338Z
DESCRIPTION:12/36 Příbram - SK Ústí n. L. 1:3 (23\,-19\,-25\,-22)
DTSTART;TZID=Europe/Berlin:20250406T140000
DTEND;TZID=Europe/Berlin:20250406T160000
LOCATION:Tělocvična ZŠ Balbínova\, Balbínova 328 Příbram - Příbram II
SUMMARY:2-U18Z-I: Příbram-SK Ústí n. L.
END:VEVENT
END:VCALENDAR
