BEGIN:VCALENDAR
VERSION:2.0
PRODID:-//VSK Baník Sokolov86137//NONSGML kigkonsult.se iCalcreator 2.41.80//
CALSCALE:GREGORIAN
UID:37386236-3836-4438-b335-313264336534
BEGIN:VEVENT
UID:32376634-6233-4139-b962-653836656339
DTSTAMP:20260422T213410Z
DESCRIPTION:3/7 Sokolov - Teplice 3:0 (21\,19\,20)
DTSTART;TZID=Europe/Berlin:20240928T100000
DTEND;TZID=Europe/Berlin:20240928T120000
LOCATION:Jiskra\, Maxima Gorkého 280 Sokolov
SUMMARY:2-U18Z-A: Sokolov-Teplice
END:VEVENT
BEGIN:VEVENT
UID:39653034-3233-4139-b735-663332656133
DTSTAMP:20260422T213410Z
DESCRIPTION:4/10 Sokolov - Teplice 1:3 (-23\,18\,-10\,-22)
DTSTART;TZID=Europe/Berlin:20240928T140000
DTEND;TZID=Europe/Berlin:20240928T160000
LOCATION:Jiskra\, Maxima Gorkého 280 Sokolov
SUMMARY:2-U18Z-A: Sokolov-Teplice
END:VEVENT
BEGIN:VEVENT
UID:39343361-3363-4237-b861-323763386261
DTSTAMP:20260422T213410Z
DESCRIPTION:7/19 Sokolov - Volejbal Ústí n. L. 3:X
DTSTART;TZID=Europe/Berlin:20241012T100000
DTEND;TZID=Europe/Berlin:20241012T120000
LOCATION:Jiskra\, Maxima Gorkého 280 Sokolov
SUMMARY:2-U18Z-A: Sokolov-Volejbal Ústí n. L.
END:VEVENT
BEGIN:VEVENT
UID:30376562-6235-4234-a363-343832306232
DTSTAMP:20260422T213410Z
DESCRIPTION:8/22 Sokolov - Volejbal Ústí n. L. 3:0 (8\,9\,21)
DTSTART;TZID=Europe/Berlin:20241012T140000
DTEND;TZID=Europe/Berlin:20241012T160000
LOCATION:Jiskra\, Maxima Gorkého 280 Sokolov
SUMMARY:2-U18Z-A: Sokolov-Volejbal Ústí n. L.
END:VEVENT
BEGIN:VEVENT
UID:32643134-6231-4636-b330-333534383061
DTSTAMP:20260422T213410Z
DESCRIPTION:11/31 Sokolov - SK Ústí n. L. 3:1 (19\,-15\,16\,26)
DTSTART;TZID=Europe/Berlin:20241109T110000
DTEND;TZID=Europe/Berlin:20241109T130000
LOCATION:Jiskra\, Maxima Gorkého 280 Sokolov
SUMMARY:2-U18Z-A: Sokolov-SK Ústí n. L.
END:VEVENT
BEGIN:VEVENT
UID:38633765-3437-4363-b465-656165303861
DTSTAMP:20260422T213410Z
DESCRIPTION:12/34 Sokolov - SK Ústí n. L. 3:1 (23\,-19\,16\,18)
DTSTART;TZID=Europe/Berlin:20241109T150000
DTEND;TZID=Europe/Berlin:20241109T170000
LOCATION:Jiskra\, Maxima Gorkého 280 Sokolov
SUMMARY:2-U18Z-A: Sokolov-SK Ústí n. L.
END:VEVENT
BEGIN:VEVENT
UID:31333935-3165-4261-a130-356465373261
DTSTAMP:20260422T213410Z
DESCRIPTION:15/43 Sokolov - Děčín 0:3 (-17\,-21\,-15)
DTSTART;TZID=Europe/Berlin:20241207T100000
DTEND;TZID=Europe/Berlin:20241207T120000
LOCATION:Jiskra\, Maxima Gorkého 280 Sokolov
SUMMARY:2-U18Z-A: Sokolov-Děčín
END:VEVENT
BEGIN:VEVENT
UID:62386431-3065-4439-a562-636532383862
DTSTAMP:20260422T213410Z
DESCRIPTION:16/46 Sokolov - Děčín 0:3 (-20\,-20\,-31)
DTSTART;TZID=Europe/Berlin:20241207T140000
DTEND;TZID=Europe/Berlin:20241207T160000
LOCATION:Jiskra\, Maxima Gorkého 280 Sokolov
SUMMARY:2-U18Z-A: Sokolov-Děčín
END:VEVENT
BEGIN:VEVENT
UID:63386564-3666-4137-b630-333234636130
DTSTAMP:20260422T213410Z
DESCRIPTION:19/55 Sokolov - Chodov 0:3 (-20\,-24\,-16)
DTSTART;TZID=Europe/Berlin:20250118T090000
DTEND;TZID=Europe/Berlin:20250118T110000
LOCATION:Jiskra\, Maxima Gorkého 280 Sokolov
SUMMARY:2-U18Z-A: Sokolov-Chodov
END:VEVENT
BEGIN:VEVENT
UID:66326138-3263-4035-b631-633037653133
DTSTAMP:20260422T213410Z
DESCRIPTION:20/58 Sokolov - Chodov 1:3 (-13\,-21\,19\,-22)
DTSTART;TZID=Europe/Berlin:20250118T130000
DTEND;TZID=Europe/Berlin:20250118T150000
LOCATION:Jiskra\, Maxima Gorkého 280 Sokolov
SUMMARY:2-U18Z-A: Sokolov-Chodov
END:VEVENT
BEGIN:VEVENT
UID:66626365-6366-4464-a263-663764623932
DTSTAMP:20260422T213410Z
DESCRIPTION:1/1 SK Ústí n. L. - Sokolov 3:1 (15\,-23\,30\,22)
DTSTART;TZID=Europe/Berlin:20240914T090000
DTEND;TZID=Europe/Berlin:20240914T110000
LOCATION:Střední průmyslová škola strojní a elektro\, Resslova 210 Ústí nad
  Labem - Klíše
SUMMARY:2-U18Z-A: SK Ústí n. L.-Sokolov
END:VEVENT
BEGIN:VEVENT
UID:64323763-6132-4735-a534-363431306433
DTSTAMP:20260422T213410Z
DESCRIPTION:2/4 SK Ústí n. L. - Sokolov 3:1 (22\,-18\,21\,21)
DTSTART;TZID=Europe/Berlin:20240914T130000
DTEND;TZID=Europe/Berlin:20240914T150000
LOCATION:Střední průmyslová škola strojní a elektro\, Resslova 210 Ústí nad
  Labem - Klíše
SUMMARY:2-U18Z-A: SK Ústí n. L.-Sokolov
END:VEVENT
BEGIN:VEVENT
UID:37613531-6161-4438-b866-333066396332
DTSTAMP:20260422T213410Z
DESCRIPTION:5/13 Děčín - Sokolov 3:0 (19\,11\,15)
DTSTART;TZID=Europe/Berlin:20241005T100000
DTEND;TZID=Europe/Berlin:20241005T120000
LOCATION:SH ZŠ Dr M. Tyrše\, Vrchlického 630 Děčín - Děčín II-Nové Město
SUMMARY:2-U18Z-A: Děčín-Sokolov
END:VEVENT
BEGIN:VEVENT
UID:39333563-6234-4839-b461-646239383235
DTSTAMP:20260422T213410Z
DESCRIPTION:6/16 Děčín - Sokolov 3:1 (22\,-22\,21\,9)
DTSTART;TZID=Europe/Berlin:20241005T140000
DTEND;TZID=Europe/Berlin:20241005T160000
LOCATION:SH ZŠ Dr M. Tyrše\, Vrchlického 630 Děčín - Děčín II-Nové Město
SUMMARY:2-U18Z-A: Děčín-Sokolov
END:VEVENT
BEGIN:VEVENT
UID:64346239-6239-4565-b933-623134346633
DTSTAMP:20260422T213410Z
DESCRIPTION:9/25 Chodov - Sokolov 3:0 (14\,19\,20)
DTSTART;TZID=Europe/Berlin:20241026T100000
DTEND;TZID=Europe/Berlin:20241026T120000
LOCATION:Městská sportovní hala Chodov\, Tyršova 1201 Chodov
SUMMARY:2-U18Z-A: Chodov-Sokolov
END:VEVENT
BEGIN:VEVENT
UID:33633238-6634-4639-b737-356136353763
DTSTAMP:20260422T213410Z
DESCRIPTION:10/28 Chodov - Sokolov 3:1 (21\,18\,-20\,18)
DTSTART;TZID=Europe/Berlin:20241026T140000
DTEND;TZID=Europe/Berlin:20241026T160000
LOCATION:Městská sportovní hala Chodov\, Tyršova 1201 Chodov
SUMMARY:2-U18Z-A: Chodov-Sokolov
END:VEVENT
BEGIN:VEVENT
UID:64646465-3639-4235-b861-363662383437
DTSTAMP:20260422T213410Z
DESCRIPTION:13/37 Teplice - Sokolov 2:3 (18\,-28\,19\,-14\,-4)
DTSTART;TZID=Europe/Berlin:20241130T090000
DTEND;TZID=Europe/Berlin:20241130T110000
LOCATION:Hotelová škola\, Smetanovo náměstí 786 Teplice - Trnovany
SUMMARY:2-U18Z-A: Teplice-Sokolov
END:VEVENT
BEGIN:VEVENT
UID:64373233-3965-4339-b063-613230643063
DTSTAMP:20260422T213410Z
DESCRIPTION:14/40 Teplice - Sokolov 3:0 (20\,21\,13)
DTSTART;TZID=Europe/Berlin:20241130T130000
DTEND;TZID=Europe/Berlin:20241130T150000
LOCATION:Hotelová škola\, Smetanovo náměstí 786 Teplice - Trnovany
SUMMARY:2-U18Z-A: Teplice-Sokolov
END:VEVENT
BEGIN:VEVENT
UID:62386366-6133-4462-b536-613435346336
DTSTAMP:20260422T213410Z
DESCRIPTION:17/49 Volejbal Ústí n. L. - Sokolov 0:3 (-23\,-22\,-24)
DTSTART;TZID=Europe/Berlin:20250111T100000
DTEND;TZID=Europe/Berlin:20250111T120000
LOCATION:Tělocvična Gymnázia a Střední odborné školy dr. Václava Šmejkala\,
  Stará 3299 Ústí nad Labem - Severní Terasa
SUMMARY:2-U18Z-A: Volejbal Ústí n. L.-Sokolov
END:VEVENT
BEGIN:VEVENT
UID:66626430-3730-4862-b933-623131663730
DTSTAMP:20260422T213410Z
DESCRIPTION:18/52 Volejbal Ústí n. L. - Sokolov 0:3 (-22\,-23\,-24)
DTSTART;TZID=Europe/Berlin:20250111T140000
DTEND;TZID=Europe/Berlin:20250111T160000
LOCATION:Tělocvična Gymnázia a Střední odborné školy dr. Václava Šmejkala\,
  Stará 3299 Ústí nad Labem - Severní Terasa
SUMMARY:2-U18Z-A: Volejbal Ústí n. L.-Sokolov
END:VEVENT
BEGIN:VEVENT
UID:34656434-6162-4465-b239-333434356364
DTSTAMP:20260422T213410Z
DESCRIPTION:1/1 Sokolov - Vejprnice 3:0 (22\,17\,12)
DTSTART;TZID=Europe/Berlin:20250201T100000
DTEND;TZID=Europe/Berlin:20250201T120000
LOCATION:Jiskra\, Maxima Gorkého 280 Sokolov
SUMMARY:2-U18Z-N: Sokolov-Vejprnice
END:VEVENT
BEGIN:VEVENT
UID:34353962-3932-4537-a631-633362613634
DTSTAMP:20260422T213410Z
DESCRIPTION:2/4 Sokolov - Vejprnice 3:0 (15\,18\,15)
DTSTART;TZID=Europe/Berlin:20250201T140000
DTEND;TZID=Europe/Berlin:20250201T160000
LOCATION:Jiskra\, Maxima Gorkého 280 Sokolov
SUMMARY:2-U18Z-N: Sokolov-Vejprnice
END:VEVENT
BEGIN:VEVENT
UID:31303563-6132-4535-b663-316636323130
DTSTAMP:20260422T213410Z
DESCRIPTION:5/13 Sokolov - Klatovy 3:0 (13\,17\,18)
DTSTART;TZID=Europe/Berlin:20250301T100000
DTEND;TZID=Europe/Berlin:20250301T120000
LOCATION:Jiskra\, Maxima Gorkého 280 Sokolov
SUMMARY:2-U18Z-N: Sokolov-Klatovy
END:VEVENT
BEGIN:VEVENT
UID:64373233-6262-4761-a465-643435303963
DTSTAMP:20260422T213410Z
DESCRIPTION:6/16 Sokolov - Klatovy 3:0 (21\,21\,16)
DTSTART;TZID=Europe/Berlin:20250301T140000
DTEND;TZID=Europe/Berlin:20250301T160000
LOCATION:Jiskra\, Maxima Gorkého 280 Sokolov
SUMMARY:2-U18Z-N: Sokolov-Klatovy
END:VEVENT
BEGIN:VEVENT
UID:65343533-3037-4339-b832-666462636337
DTSTAMP:20260422T213410Z
DESCRIPTION:9/25 Sokolov - Český Krumlov 3:0 (13\,18\,21)
DTSTART;TZID=Europe/Berlin:20250329T100000
DTEND;TZID=Europe/Berlin:20250329T120000
LOCATION:Jiskra\, Maxima Gorkého 280 Sokolov
SUMMARY:2-U18Z-N: Sokolov-Český Krumlov
END:VEVENT
BEGIN:VEVENT
UID:39666636-3032-4335-b135-653133373862
DTSTAMP:20260422T213410Z
DESCRIPTION:10/28 Sokolov - Český Krumlov 3:1 (11\,-23\,7\,17)
DTSTART;TZID=Europe/Berlin:20250329T140000
DTEND;TZID=Europe/Berlin:20250329T160000
LOCATION:Jiskra\, Maxima Gorkého 280 Sokolov
SUMMARY:2-U18Z-N: Sokolov-Český Krumlov
END:VEVENT
BEGIN:VEVENT
UID:35343136-6365-4436-b832-326362386232
DTSTAMP:20260422T213410Z
DESCRIPTION:3/7 Český Krumlov - Sokolov 0:3 (-16\,-16\,-18)
DTSTART;TZID=Europe/Berlin:20250208T100000
DTEND;TZID=Europe/Berlin:20250208T120000
LOCATION:ZŠ Za Nádražím Český Krumlov\, Za Nádražím 222 Český Krumlov - Nád
 ražní Předměstí
SUMMARY:2-U18Z-N: Český Krumlov-Sokolov
END:VEVENT
BEGIN:VEVENT
UID:30633163-3338-4635-b736-636230633633
DTSTAMP:20260422T213410Z
DESCRIPTION:4/10 Český Krumlov - Sokolov 0:3 (-18\,-23\,-18)
DTSTART;TZID=Europe/Berlin:20250208T140000
DTEND;TZID=Europe/Berlin:20250208T160000
LOCATION:ZŠ Za Nádražím Český Krumlov\, Za Nádražím 222 Český Krumlov - Nád
 ražní Předměstí
SUMMARY:2-U18Z-N: Český Krumlov-Sokolov
END:VEVENT
BEGIN:VEVENT
UID:39343363-3332-4233-b739-373734313037
DTSTAMP:20260422T213410Z
DESCRIPTION:7/19 Vejprnice - Sokolov 1:3 (-16\,-21\,16\,-18)
DTSTART;TZID=Europe/Berlin:20250315T090000
DTEND;TZID=Europe/Berlin:20250315T110000
LOCATION:Tělocvična ZŠ Vejprnice\, Jakuba Husníka 527 Vejprnice
SUMMARY:2-U18Z-N: Vejprnice-Sokolov
END:VEVENT
BEGIN:VEVENT
UID:33663837-6632-4634-a564-653037336430
DTSTAMP:20260422T213410Z
DESCRIPTION:8/22 Vejprnice - Sokolov 3:2 (21\,-14\,-18\,19\,7)
DTSTART;TZID=Europe/Berlin:20250315T130000
DTEND;TZID=Europe/Berlin:20250315T150000
LOCATION:Tělocvična ZŠ Vejprnice\, Jakuba Husníka 527 Vejprnice
SUMMARY:2-U18Z-N: Vejprnice-Sokolov
END:VEVENT
BEGIN:VEVENT
UID:37353863-3436-4964-b435-356434306636
DTSTAMP:20260422T213410Z
DESCRIPTION:11/31 Klatovy - Sokolov 1:3 (-15\,21\,-20\,-15)
DTSTART;TZID=Europe/Berlin:20250406T100000
DTEND;TZID=Europe/Berlin:20250406T120000
LOCATION:Sportovní hala ZŠ Čapkova\, Čapkova 136 Klatovy - Klatovy V
SUMMARY:2-U18Z-N: Klatovy-Sokolov
END:VEVENT
BEGIN:VEVENT
UID:34656362-6639-4233-a662-613537326238
DTSTAMP:20260422T213410Z
DESCRIPTION:12/34 Klatovy - Sokolov 2:3 (17\,25\,-14\,-10\,-15)
DTSTART;TZID=Europe/Berlin:20250406T140000
DTEND;TZID=Europe/Berlin:20250406T160000
LOCATION:Sportovní hala ZŠ Čapkova\, Čapkova 136 Klatovy - Klatovy V
SUMMARY:2-U18Z-N: Klatovy-Sokolov
END:VEVENT
END:VCALENDAR
