BEGIN:VCALENDAR
VERSION:2.0
PRODID:-//VK Šantovka Olomouc UP86140//NONSGML kigkonsult.se iCalcreator 2.41.80//
CALSCALE:GREGORIAN
UID:39623634-6536-4164-b837-353730623134
BEGIN:VEVENT
UID:64313164-6366-4030-b566-346632386361
DTSTAMP:20260423T011056Z
DESCRIPTION:3/7 UP Olomouc - Svitavy 1:3 (18\,-19\,-23\,-20)
DTSTART;TZID=Europe/Berlin:20240928T090000
DTEND;TZID=Europe/Berlin:20240928T110000
LOCATION:Hala ZŠ Dr. Hrubého\, Dr. Hrubého 319 Šternberk
SUMMARY:2-U18Z-F: UP Olomouc-Svitavy
END:VEVENT
BEGIN:VEVENT
UID:65663930-3038-4336-b161-346264306632
DTSTAMP:20260423T011056Z
DESCRIPTION:4/10 UP Olomouc - Svitavy 2:3 (25\,-20\,21\,-13\,-10)
DTSTART;TZID=Europe/Berlin:20240928T120000
DTEND;TZID=Europe/Berlin:20240928T140000
LOCATION:Hala ZŠ Dr. Hrubého\, Dr. Hrubého 319 Šternberk
SUMMARY:2-U18Z-F: UP Olomouc-Svitavy
END:VEVENT
BEGIN:VEVENT
UID:63643263-3439-4563-b737-646131353339
DTSTAMP:20260423T011056Z
DESCRIPTION:7/19 UP Olomouc - Valašské Meziříčí 0:3 (-10\,-17\,-22)
DTSTART;TZID=Europe/Berlin:20241012T100000
DTEND;TZID=Europe/Berlin:20241012T120000
LOCATION:UP Olomouc\, U sportovní haly 38 Olomouc - Lazce
SUMMARY:2-U18Z-F: UP Olomouc-Valašské Meziříčí
END:VEVENT
BEGIN:VEVENT
UID:64653636-6638-4631-a235-313335356430
DTSTAMP:20260423T011056Z
DESCRIPTION:8/22 UP Olomouc - Valašské Meziříčí 1:3 (-16\,-19\,22\,-21)
DTSTART;TZID=Europe/Berlin:20241012T140000
DTEND;TZID=Europe/Berlin:20241012T160000
LOCATION:UP Olomouc\, U sportovní haly 38 Olomouc - Lazce
SUMMARY:2-U18Z-F: UP Olomouc-Valašské Meziříčí
END:VEVENT
BEGIN:VEVENT
UID:32336462-3135-4333-a461-383062343863
DTSTAMP:20260423T011056Z
DESCRIPTION:11/31 UP Olomouc - Raškovice 0:3 (-21\,-23\,-18)
DTSTART;TZID=Europe/Berlin:20241109T090000
DTEND;TZID=Europe/Berlin:20241109T110000
LOCATION:Hala ZŠ Dr. Hrubého\, Dr. Hrubého 319 Šternberk
SUMMARY:2-U18Z-F: UP Olomouc-Raškovice
END:VEVENT
BEGIN:VEVENT
UID:65353162-6566-4838-b334-643038326636
DTSTAMP:20260423T011056Z
DESCRIPTION:12/34 UP Olomouc - Raškovice 0:3 (-20\,-20\,-23)
DTSTART;TZID=Europe/Berlin:20241109T130000
DTEND;TZID=Europe/Berlin:20241109T150000
LOCATION:Hala ZŠ Dr. Hrubého\, Dr. Hrubého 319 Šternberk
SUMMARY:2-U18Z-F: UP Olomouc-Raškovice
END:VEVENT
BEGIN:VEVENT
UID:63663639-3535-4037-a162-663831363230
DTSTAMP:20260423T011056Z
DESCRIPTION:15/43 UP Olomouc - VAM Olomouc 3:2 (-22\,18\,18\,-23\,10)
DTSTART;TZID=Europe/Berlin:20241207T100000
DTEND;TZID=Europe/Berlin:20241207T120000
LOCATION:Hala ZŠ Dr. Hrubého\, Dr. Hrubého 319 Šternberk
SUMMARY:2-U18Z-F: UP Olomouc-VAM Olomouc
END:VEVENT
BEGIN:VEVENT
UID:39643936-3835-4663-a139-386233363431
DTSTAMP:20260423T011056Z
DESCRIPTION:16/46 UP Olomouc - VAM Olomouc 3:2 (23\,-20\,20\,-21\,14)
DTSTART;TZID=Europe/Berlin:20241207T140000
DTEND;TZID=Europe/Berlin:20241207T160000
LOCATION:Hala ZŠ Dr. Hrubého\, Dr. Hrubého 319 Šternberk
SUMMARY:2-U18Z-F: UP Olomouc-VAM Olomouc
END:VEVENT
BEGIN:VEVENT
UID:32366339-6263-4132-b661-333564616365
DTSTAMP:20260423T011056Z
DESCRIPTION:19/55 UP Olomouc - Opava 3:1 (-23\,22\,14\,21)
DTSTART;TZID=Europe/Berlin:20250119T090000
DTEND;TZID=Europe/Berlin:20250119T110000
LOCATION:UP Olomouc\, U sportovní haly 38 Olomouc - Lazce
SUMMARY:2-U18Z-F: UP Olomouc-Opava
END:VEVENT
BEGIN:VEVENT
UID:62383737-6534-4466-b162-663039393137
DTSTAMP:20260423T011056Z
DESCRIPTION:20/58 UP Olomouc - Opava 0:3 (-17\,-19\,-22)
DTSTART;TZID=Europe/Berlin:20250119T130000
DTEND;TZID=Europe/Berlin:20250119T150000
LOCATION:UP Olomouc\, U sportovní haly 38 Olomouc - Lazce
SUMMARY:2-U18Z-F: UP Olomouc-Opava
END:VEVENT
BEGIN:VEVENT
UID:33333538-6437-4235-a566-626432393936
DTSTAMP:20260423T011056Z
DESCRIPTION:1/1 Raškovice - UP Olomouc 3:0 (20\,19\,12)
DTSTART;TZID=Europe/Berlin:20240914T100000
DTEND;TZID=Europe/Berlin:20240914T120000
LOCATION:tělocvična ZŠ Morávka\,  Morávka178
SUMMARY:2-U18Z-F: Raškovice-UP Olomouc
END:VEVENT
BEGIN:VEVENT
UID:38343739-3666-4534-b539-323634363265
DTSTAMP:20260423T011056Z
DESCRIPTION:2/4 Raškovice - UP Olomouc 3:0 (22\,10\,21)
DTSTART;TZID=Europe/Berlin:20240914T140000
DTEND;TZID=Europe/Berlin:20240914T160000
LOCATION:tělocvična ZŠ Morávka\,  Morávka178
SUMMARY:2-U18Z-F: Raškovice-UP Olomouc
END:VEVENT
BEGIN:VEVENT
UID:39353831-6365-4339-b365-343864663635
DTSTAMP:20260423T011056Z
DESCRIPTION:5/13 VAM Olomouc - UP Olomouc 3:0 (14\,21\,18)
DTSTART;TZID=Europe/Berlin:20241001T170000
DTEND;TZID=Europe/Berlin:20241001T190000
LOCATION:VOŠ a SPŠE Olomouc\, Božetěchova 755 Olomouc - Hodolany
SUMMARY:2-U18Z-F: VAM Olomouc-UP Olomouc
END:VEVENT
BEGIN:VEVENT
UID:63646137-3730-4136-b331-663965363833
DTSTAMP:20260423T011056Z
DESCRIPTION:6/16 VAM Olomouc - UP Olomouc 2:3 (-22\,21\,17\,-24\,-13)
DTSTART;TZID=Europe/Berlin:20241008T170000
DTEND;TZID=Europe/Berlin:20241008T190000
LOCATION:VOŠ a SPŠE Olomouc\, Božetěchova 755 Olomouc - Hodolany
SUMMARY:2-U18Z-F: VAM Olomouc-UP Olomouc
END:VEVENT
BEGIN:VEVENT
UID:33343330-6331-4162-a161-623066633630
DTSTAMP:20260423T011056Z
DESCRIPTION:9/25 Opava - UP Olomouc 0:3 (-10\,-20\,-12)
DTSTART;TZID=Europe/Berlin:20241214T100000
DTEND;TZID=Europe/Berlin:20241214T120000
LOCATION:Sportovní hala Obchodní akademie\, Hany Kvapilové 1656 Opava - Pře
 dměstí
SUMMARY:2-U18Z-F: Opava-UP Olomouc
END:VEVENT
BEGIN:VEVENT
UID:32313530-3664-4839-b632-373934643736
DTSTAMP:20260423T011056Z
DESCRIPTION:10/28 Opava - UP Olomouc 0:3 (-18\,-11\,-11)
DTSTART;TZID=Europe/Berlin:20241214T140000
DTEND;TZID=Europe/Berlin:20241214T160000
LOCATION:Sportovní hala Obchodní akademie\, Hany Kvapilové 1656 Opava - Pře
 dměstí
SUMMARY:2-U18Z-F: Opava-UP Olomouc
END:VEVENT
BEGIN:VEVENT
UID:39336665-6662-4030-a466-356664656638
DTSTAMP:20260423T011056Z
DESCRIPTION:13/37 Svitavy - UP Olomouc 3:0 (22\,23\,20)
DTSTART;TZID=Europe/Berlin:20241130T100000
DTEND;TZID=Europe/Berlin:20241130T120000
LOCATION:Sportovní hala Na Střelnici\, Pražská 2162 Svitavy - Předměstí
SUMMARY:2-U18Z-F: Svitavy-UP Olomouc
END:VEVENT
BEGIN:VEVENT
UID:62393232-6332-4231-b036-383338386132
DTSTAMP:20260423T011056Z
DESCRIPTION:14/40 Svitavy - UP Olomouc 2:3 (19\,-23\,19\,-23\,-11)
DTSTART;TZID=Europe/Berlin:20241130T140000
DTEND;TZID=Europe/Berlin:20241130T160000
LOCATION:Sportovní hala Na Střelnici\, Pražská 2162 Svitavy - Předměstí
SUMMARY:2-U18Z-F: Svitavy-UP Olomouc
END:VEVENT
BEGIN:VEVENT
UID:66653133-3337-4261-a136-336661336564
DTSTAMP:20260423T011056Z
DESCRIPTION:17/49 Valašské Meziříčí - UP Olomouc 3:0 (16\,18\,17)
DTSTART;TZID=Europe/Berlin:20250111T110000
DTEND;TZID=Europe/Berlin:20250111T130000
LOCATION:ZŠ Šafaříkova\, Šafaříkova 726 Valašské Meziříčí
SUMMARY:2-U18Z-F: Valašské Meziříčí-UP Olomouc
END:VEVENT
BEGIN:VEVENT
UID:39363962-6431-4566-a230-303436343334
DTSTAMP:20260423T011056Z
DESCRIPTION:18/52 Valašské Meziříčí - UP Olomouc 3:1 (-21\,12\,20\,17)
DTSTART;TZID=Europe/Berlin:20250111T150000
DTEND;TZID=Europe/Berlin:20250111T170000
LOCATION:ZŠ Šafaříkova\, Šafaříkova 726 Valašské Meziříčí
SUMMARY:2-U18Z-F: Valašské Meziříčí-UP Olomouc
END:VEVENT
BEGIN:VEVENT
UID:37646331-3161-4532-a166-313239376433
DTSTAMP:20260423T011056Z
DESCRIPTION:3/7 UP Olomouc - Vyškov 3:1 (14\,-21\,19\,15)
DTSTART;TZID=Europe/Berlin:20250208T100000
DTEND;TZID=Europe/Berlin:20250208T120000
LOCATION:UP Olomouc\, U sportovní haly 38 Olomouc - Lazce
SUMMARY:2-U18Z-P: UP Olomouc-Vyškov
END:VEVENT
BEGIN:VEVENT
UID:62363838-3564-4338-b061-353562306363
DTSTAMP:20260423T011056Z
DESCRIPTION:4/10 UP Olomouc - Vyškov 3:2 (-15\,20\,22\,-21\,11)
DTSTART;TZID=Europe/Berlin:20250208T140000
DTEND;TZID=Europe/Berlin:20250208T160000
LOCATION:UP Olomouc\, U sportovní haly 38 Olomouc - Lazce
SUMMARY:2-U18Z-P: UP Olomouc-Vyškov
END:VEVENT
BEGIN:VEVENT
UID:39383330-3438-4734-a636-643932666435
DTSTAMP:20260423T011056Z
DESCRIPTION:7/20 UP Olomouc - Břeclav 3:2 (23\,-21\,15\,-26\,15)
DTSTART;TZID=Europe/Berlin:20250315T130000
DTEND;TZID=Europe/Berlin:20250315T150000
LOCATION:UP Olomouc\, U sportovní haly 38 Olomouc - Lazce
SUMMARY:2-U18Z-P: UP Olomouc-Břeclav
END:VEVENT
BEGIN:VEVENT
UID:30616530-6563-4261-b537-303965623432
DTSTAMP:20260423T011056Z
DESCRIPTION:8/23 UP Olomouc - Břeclav 0:3 (-15\,-14\,-23)
DTSTART;TZID=Europe/Berlin:20250315T160000
DTEND;TZID=Europe/Berlin:20250315T180000
LOCATION:UP Olomouc\, U sportovní haly 38 Olomouc - Lazce
SUMMARY:2-U18Z-P: UP Olomouc-Břeclav
END:VEVENT
BEGIN:VEVENT
UID:62346666-3362-4230-b336-373631666536
DTSTAMP:20260423T011056Z
DESCRIPTION:11/33 UP Olomouc - Kroměříž 3:2 (-14\,21\,-22\,19\,11)
DTSTART;TZID=Europe/Berlin:20250405T090000
DTEND;TZID=Europe/Berlin:20250405T110000
LOCATION:UP Olomouc\, U sportovní haly 38 Olomouc - Lazce
SUMMARY:2-U18Z-P: UP Olomouc-Kroměříž
END:VEVENT
BEGIN:VEVENT
UID:66336538-6437-4434-b130-303765653034
DTSTAMP:20260423T011056Z
DESCRIPTION:12/36 UP Olomouc - Kroměříž 3:1 (23\,-17\,21\,11)
DTSTART;TZID=Europe/Berlin:20250405T130000
DTEND;TZID=Europe/Berlin:20250405T150000
LOCATION:UP Olomouc\, U sportovní haly 38 Olomouc - Lazce
SUMMARY:2-U18Z-P: UP Olomouc-Kroměříž
END:VEVENT
BEGIN:VEVENT
UID:32643935-3539-4132-b932-623832613262
DTSTAMP:20260423T011056Z
DESCRIPTION:1/2 Břeclav - UP Olomouc 0:3 (-18\,-25\,-24)
DTSTART;TZID=Europe/Berlin:20250308T100000
DTEND;TZID=Europe/Berlin:20250308T120000
LOCATION:TJ Lokomotiva Břeclav\, Veslařská 2753 Břeclav
SUMMARY:2-U18Z-P: Břeclav-UP Olomouc
END:VEVENT
BEGIN:VEVENT
UID:31643834-6135-4565-b766-616363323131
DTSTAMP:20260423T011056Z
DESCRIPTION:2/5 Břeclav - UP Olomouc 3:1 (20\,22\,-15\,15)
DTSTART;TZID=Europe/Berlin:20250308T140000
DTEND;TZID=Europe/Berlin:20250308T160000
LOCATION:TJ Lokomotiva Břeclav\, Veslařská 2753 Břeclav
SUMMARY:2-U18Z-P: Břeclav-UP Olomouc
END:VEVENT
BEGIN:VEVENT
UID:32383266-3639-4065-b332-393464366336
DTSTAMP:20260423T011056Z
DESCRIPTION:5/15 Kroměříž - UP Olomouc 0:3 (-22\,-16\,-20)
DTSTART;TZID=Europe/Berlin:20250301T100000
DTEND;TZID=Europe/Berlin:20250301T120000
LOCATION:ZŠ Slovan\, Zeyerova 3354 Kroměříž
SUMMARY:2-U18Z-P: Kroměříž-UP Olomouc
END:VEVENT
BEGIN:VEVENT
UID:37646663-3862-4165-b239-393031353763
DTSTAMP:20260423T011056Z
DESCRIPTION:6/18 Kroměříž - UP Olomouc 1:3 (23\,-13\,-20\,-21)
DTSTART;TZID=Europe/Berlin:20250301T140000
DTEND;TZID=Europe/Berlin:20250301T160000
LOCATION:ZŠ Slovan\, Zeyerova 3354 Kroměříž
SUMMARY:2-U18Z-P: Kroměříž-UP Olomouc
END:VEVENT
BEGIN:VEVENT
UID:39623631-3863-4630-a665-306235646664
DTSTAMP:20260423T011056Z
DESCRIPTION:9/25 Vyškov - UP Olomouc 3:0 (16\,20\,20)
DTSTART;TZID=Europe/Berlin:20250329T110000
DTEND;TZID=Europe/Berlin:20250329T130000
LOCATION:Tělocvična ZŠ Nádražní\, Nádražní 5 Vyškov - Vyškov-Město
SUMMARY:2-U18Z-P: Vyškov-UP Olomouc
END:VEVENT
BEGIN:VEVENT
UID:33383733-6336-4363-b166-616636643362
DTSTAMP:20260423T011056Z
DESCRIPTION:10/28 Vyškov - UP Olomouc 3:0 (9\,22\,12)
DTSTART;TZID=Europe/Berlin:20250329T150000
DTEND;TZID=Europe/Berlin:20250329T170000
LOCATION:Tělocvična ZŠ Nádražní\, Nádražní 5 Vyškov - Vyškov-Město
SUMMARY:2-U18Z-P: Vyškov-UP Olomouc
END:VEVENT
BEGIN:VEVENT
UID:31376438-3431-4561-b662-636335666532
DTSTAMP:20260423T011056Z
DESCRIPTION:1/4 UP Olomouc - Ostrava C 1:3 (19\,-22\,-22\,-11)
DTSTART;TZID=Europe/Berlin:20250426T160000
DTEND;TZID=Europe/Berlin:20250426T180000
LOCATION:Hala ZŠ Dr. Hrubého\, Dr. Hrubého 319 Šternberk
SUMMARY:2-U18Z-KC: UP Olomouc-Ostrava C
END:VEVENT
BEGIN:VEVENT
UID:61666363-3964-4262-b965-313961653333
DTSTAMP:20260423T011056Z
DESCRIPTION:2/7 UP Olomouc - Slavičín 3:0 (16\,6\,25)
DTSTART;TZID=Europe/Berlin:20250427T120000
DTEND;TZID=Europe/Berlin:20250427T140000
LOCATION:Hala ZŠ Dr. Hrubého\, Dr. Hrubého 319 Šternberk
SUMMARY:2-U18Z-KC: UP Olomouc-Slavičín
END:VEVENT
BEGIN:VEVENT
UID:66623266-3738-4363-b938-646233653534
DTSTAMP:20260423T011056Z
DESCRIPTION:1/1 Kojetín - UP Olomouc 3:0 (10\,13\,14)
DTSTART;TZID=Europe/Berlin:20250426T100000
DTEND;TZID=Europe/Berlin:20250426T120000
LOCATION:Hala ZŠ Dr. Hrubého\, Dr. Hrubého 319 Šternberk
SUMMARY:2-U18Z-KC: Kojetín-UP Olomouc
END:VEVENT
BEGIN:VEVENT
UID:31626538-3535-4437-b765-323030626161
DTSTAMP:20260423T011056Z
DESCRIPTION:2/10 Kroměříž - UP Olomouc 0:3 (-13\,-18\,-21)
DTSTART;TZID=Europe/Berlin:20250427T180000
DTEND;TZID=Europe/Berlin:20250427T200000
LOCATION:Hala ZŠ Dr. Hrubého\, Dr. Hrubého 319 Šternberk
SUMMARY:2-U18Z-KC: Kroměříž-UP Olomouc
END:VEVENT
END:VCALENDAR
