BEGIN:VCALENDAR
VERSION:2.0
PRODID:-//Volejbal Červený Kostelec86149//NONSGML kigkonsult.se iCalcreator 2.41.80//
CALSCALE:GREGORIAN
UID:66623038-6162-4435-a233-373961356632
BEGIN:VEVENT
UID:35353632-3765-4633-a637-333538363838
DTSTAMP:20260423T070859Z
DESCRIPTION:5/20 Volejbal Červený Kostelec - VK Choceň 0:3 (-19\,-20\,-16)
DTSTART;TZID=Europe/Berlin:20241102T110000
DTEND;TZID=Europe/Berlin:20241102T130000
LOCATION:Sportovní hala\, Palackého 1234 Červený Kostelec
SUMMARY:PA-M-1: Volejbal Červený Kostelec-VK Choceň
END:VEVENT
BEGIN:VEVENT
UID:39616432-3239-4434-b963-303362376365
DTSTAMP:20260423T070859Z
DESCRIPTION:6/24 Volejbal Červený Kostelec - VK Choceň 0:3 (-21\,-16\,-15)
DTSTART;TZID=Europe/Berlin:20241102T150000
DTEND;TZID=Europe/Berlin:20241102T170000
LOCATION:Sportovní hala\, Palackého 1234 Červený Kostelec
SUMMARY:PA-M-1: Volejbal Červený Kostelec-VK Choceň
END:VEVENT
BEGIN:VEVENT
UID:37356238-3965-4266-a464-656439363461
DTSTAMP:20260423T070859Z
DESCRIPTION:9/35 Volejbal Červený Kostelec - Kerhartice 0:3 (-15\,-19\,-22)
DTSTART;TZID=Europe/Berlin:20241116T110000
DTEND;TZID=Europe/Berlin:20241116T130000
LOCATION:Sportovní hala\, Palackého 1234 Červený Kostelec
SUMMARY:PA-M-1: Volejbal Červený Kostelec-Kerhartice
END:VEVENT
BEGIN:VEVENT
UID:31383462-6637-4537-b663-663061626661
DTSTAMP:20260423T070859Z
DESCRIPTION:10/39 Volejbal Červený Kostelec - Kerhartice 0:3 (-18\,-18\,-14
 )
DTSTART;TZID=Europe/Berlin:20241116T150000
DTEND;TZID=Europe/Berlin:20241116T170000
LOCATION:Sportovní hala\, Palackého 1234 Červený Kostelec
SUMMARY:PA-M-1: Volejbal Červený Kostelec-Kerhartice
END:VEVENT
BEGIN:VEVENT
UID:30633031-3730-4335-b534-396362383037
DTSTAMP:20260423T070859Z
DESCRIPTION:13/50 Volejbal Červený Kostelec - SK Rybník 0:3 (-17\,-15\,-16)
DTSTART;TZID=Europe/Berlin:20241130T110000
DTEND;TZID=Europe/Berlin:20241130T130000
LOCATION:Sportovní hala\, Palackého 1234 Červený Kostelec
SUMMARY:PA-M-1: Volejbal Červený Kostelec-SK Rybník
END:VEVENT
BEGIN:VEVENT
UID:32346364-6532-4236-a634-366265643765
DTSTAMP:20260423T070859Z
DESCRIPTION:14/54 Volejbal Červený Kostelec - SK Rybník 0:3 (-14\,-12\,-19)
DTSTART;TZID=Europe/Berlin:20241130T150000
DTEND;TZID=Europe/Berlin:20241130T170000
LOCATION:Sportovní hala\, Palackého 1234 Červený Kostelec
SUMMARY:PA-M-1: Volejbal Červený Kostelec-SK Rybník
END:VEVENT
BEGIN:VEVENT
UID:61383464-6461-4164-b666-303337333937
DTSTAMP:20260423T070859Z
DESCRIPTION:15/60 Volejbal Červený Kostelec - TJ Sokol Česká Třebová II 0:3
  (-15\,-21\,-10)
DTSTART;TZID=Europe/Berlin:20250118T110000
DTEND;TZID=Europe/Berlin:20250118T130000
LOCATION:Sportovní hala\, Palackého 1234 Červený Kostelec
SUMMARY:PA-M-1: Volejbal Červený Kostelec-TJ Sokol Česká Třebová II
END:VEVENT
BEGIN:VEVENT
UID:35633166-6366-4935-b833-313266373866
DTSTAMP:20260423T070859Z
DESCRIPTION:16/64 Volejbal Červený Kostelec - TJ Sokol Česká Třebová II 0:3
  (-18\,-19\,-22)
DTSTART;TZID=Europe/Berlin:20250118T150000
DTEND;TZID=Europe/Berlin:20250118T170000
LOCATION:Sportovní hala\, Palackého 1234 Červený Kostelec
SUMMARY:PA-M-1: Volejbal Červený Kostelec-TJ Sokol Česká Třebová II
END:VEVENT
BEGIN:VEVENT
UID:65343631-3565-4137-a636-366661663639
DTSTAMP:20260423T070859Z
DESCRIPTION:21/82 Volejbal Červený Kostelec - VK Litomyšl 3:1 (-14\,23\,19\
 ,20)
DTSTART;TZID=Europe/Berlin:20250222T110000
DTEND;TZID=Europe/Berlin:20250222T130000
LOCATION:Sportovní hala\, Palackého 1234 Červený Kostelec
SUMMARY:PA-M-1: Volejbal Červený Kostelec-VK Litomyšl
END:VEVENT
BEGIN:VEVENT
UID:30663337-6339-4232-b762-643030666334
DTSTAMP:20260423T070859Z
DESCRIPTION:22/86 Volejbal Červený Kostelec - VK Litomyšl 1:3 (14\,-19\,-18
 \,-20)
DTSTART;TZID=Europe/Berlin:20250222T150000
DTEND;TZID=Europe/Berlin:20250222T170000
LOCATION:Sportovní hala\, Palackého 1234 Červený Kostelec
SUMMARY:PA-M-1: Volejbal Červený Kostelec-VK Litomyšl
END:VEVENT
BEGIN:VEVENT
UID:65363666-3733-4536-b037-626534623964
DTSTAMP:20260423T070859Z
DESCRIPTION:25/99 Volejbal Červený Kostelec - TJ Svitavy 3:0 (21\,17\,21)
DTSTART;TZID=Europe/Berlin:20250308T110000
DTEND;TZID=Europe/Berlin:20250308T130000
LOCATION:Sportovní hala\, Palackého 1234 Červený Kostelec
SUMMARY:PA-M-1: Volejbal Červený Kostelec-TJ Svitavy
END:VEVENT
BEGIN:VEVENT
UID:65616437-6133-4065-b933-356637336137
DTSTAMP:20260423T070859Z
DESCRIPTION:26/103 Volejbal Červený Kostelec - TJ Svitavy 0:3 (-15\,-16\,-2
 4)
DTSTART;TZID=Europe/Berlin:20250308T150000
DTEND;TZID=Europe/Berlin:20250308T170000
LOCATION:Sportovní hala\, Palackého 1234 Červený Kostelec
SUMMARY:PA-M-1: Volejbal Červený Kostelec-TJ Svitavy
END:VEVENT
BEGIN:VEVENT
UID:36373262-6236-4934-a430-386262353966
DTSTAMP:20260423T070859Z
DESCRIPTION:1/4 TJ Sokol Česká Třebová II - Volejbal Červený Kostelec 3:0 (
 13\,14\,22)
DTSTART;TZID=Europe/Berlin:20241019T100000
DTEND;TZID=Europe/Berlin:20241019T120000
LOCATION:ZŠ Nádražní\, Nádražní 200 Česká Třebová
SUMMARY:PA-M-1: TJ Sokol Česká Třebová II-Volejbal Červený Kostelec
END:VEVENT
BEGIN:VEVENT
UID:39336332-6661-4065-b138-613839383939
DTSTAMP:20260423T070859Z
DESCRIPTION:2/8 TJ Sokol Česká Třebová II - Volejbal Červený Kostelec 3:1 (
 21\,-20\,15\,12)
DTSTART;TZID=Europe/Berlin:20241019T130000
DTEND;TZID=Europe/Berlin:20241019T150000
LOCATION:ZŠ Nádražní\, Nádražní 200 Česká Třebová
SUMMARY:PA-M-1: TJ Sokol Česká Třebová II-Volejbal Červený Kostelec
END:VEVENT
BEGIN:VEVENT
UID:38643162-6334-4034-b632-626135383237
DTSTAMP:20260423T070859Z
DESCRIPTION:7/26 VK Litomyšl - Volejbal Červený Kostelec 3:1 (-22\,14\,17\,
 17)
DTSTART;TZID=Europe/Berlin:20241110T100000
DTEND;TZID=Europe/Berlin:20241110T120000
LOCATION:Městská sportovní hala\, T. G. Masaryka 1145 Litomyšl - Litomyšl-M
 ěsto
SUMMARY:PA-M-1: VK Litomyšl-Volejbal Červený Kostelec
END:VEVENT
BEGIN:VEVENT
UID:30353831-6261-4662-b562-383935386134
DTSTAMP:20260423T070859Z
DESCRIPTION:8/30 VK Litomyšl - Volejbal Červený Kostelec 3:2 (-20\,23\,20\,
 -13\,9)
DTSTART;TZID=Europe/Berlin:20241110T130000
DTEND;TZID=Europe/Berlin:20241110T150000
LOCATION:Městská sportovní hala\, T. G. Masaryka 1145 Litomyšl - Litomyšl-M
 ěsto
SUMMARY:PA-M-1: VK Litomyšl-Volejbal Červený Kostelec
END:VEVENT
BEGIN:VEVENT
UID:61633331-3432-4038-b265-333535396632
DTSTAMP:20260423T070859Z
DESCRIPTION:11/43 TJ Svitavy - Volejbal Červený Kostelec 0:3 (-20\,-19\,-22
 )
DTSTART;TZID=Europe/Berlin:20241123T100000
DTEND;TZID=Europe/Berlin:20241123T120000
LOCATION:Sportovní hala Na Střelnici\, Pražská 2162 Svitavy - Předměstí
SUMMARY:PA-M-1: TJ Svitavy-Volejbal Červený Kostelec
END:VEVENT
BEGIN:VEVENT
UID:36636262-3134-4765-b366-373735316662
DTSTAMP:20260423T070859Z
DESCRIPTION:12/47 TJ Svitavy - Volejbal Červený Kostelec 3:0 (20\,23\,25)
DTSTART;TZID=Europe/Berlin:20241123T130000
DTEND;TZID=Europe/Berlin:20241123T150000
LOCATION:Sportovní hala Na Střelnici\, Pražská 2162 Svitavy - Předměstí
SUMMARY:PA-M-1: TJ Svitavy-Volejbal Červený Kostelec
END:VEVENT
BEGIN:VEVENT
UID:65333165-3837-4538-b037-316539393832
DTSTAMP:20260423T070859Z
DESCRIPTION:19/76 VK Choceň - Volejbal Červený Kostelec 2:3 (15\,-21\,18\,-
 22\,-20)
DTSTART;TZID=Europe/Berlin:20250215T100000
DTEND;TZID=Europe/Berlin:20250215T120000
LOCATION:Volejbalová hala \, U Koupaliště 1734 Choceň
SUMMARY:PA-M-1: VK Choceň-Volejbal Červený Kostelec
END:VEVENT
BEGIN:VEVENT
UID:34326532-3365-4330-a133-656534383464
DTSTAMP:20260423T070859Z
DESCRIPTION:20/80 VK Choceň - Volejbal Červený Kostelec 3:0 (17\,23\,18)
DTSTART;TZID=Europe/Berlin:20250215T130000
DTEND;TZID=Europe/Berlin:20250215T150000
LOCATION:Volejbalová hala \, U Koupaliště 1734 Choceň
SUMMARY:PA-M-1: VK Choceň-Volejbal Červený Kostelec
END:VEVENT
BEGIN:VEVENT
UID:65333139-6265-4438-a161-633564366135
DTSTAMP:20260423T070859Z
DESCRIPTION:23/91 Kerhartice - Volejbal Červený Kostelec 3:1 (10\,-24\,6\,1
 8)
DTSTART;TZID=Europe/Berlin:20250301T100000
DTEND;TZID=Europe/Berlin:20250301T120000
LOCATION:Střední škola automobilní\, Dukelská 313 Ústí nad Orlicí - Hylváty
SUMMARY:PA-M-1: Kerhartice-Volejbal Červený Kostelec
END:VEVENT
BEGIN:VEVENT
UID:65393338-6232-4662-b730-346666636236
DTSTAMP:20260423T070859Z
DESCRIPTION:24/95 Kerhartice - Volejbal Červený Kostelec 3:0 (9\,21\,22)
DTSTART;TZID=Europe/Berlin:20250301T130000
DTEND;TZID=Europe/Berlin:20250301T150000
LOCATION:Střední škola automobilní\, Dukelská 313 Ústí nad Orlicí - Hylváty
SUMMARY:PA-M-1: Kerhartice-Volejbal Červený Kostelec
END:VEVENT
BEGIN:VEVENT
UID:64383131-6664-4439-a161-386364363230
DTSTAMP:20260423T070859Z
DESCRIPTION:27/106 SK Rybník - Volejbal Červený Kostelec 3:0 (15\,26\,21)
DTSTART;TZID=Europe/Berlin:20250315T100000
DTEND;TZID=Europe/Berlin:20250315T120000
LOCATION:Základní škola Česká Třebová Habrmanova\, Na Skále\, Na Skále 566 
 Česká Třebová
SUMMARY:PA-M-1: SK Rybník-Volejbal Červený Kostelec
END:VEVENT
BEGIN:VEVENT
UID:39353836-3766-4961-b666-643636386535
DTSTAMP:20260423T070859Z
DESCRIPTION:28/110 SK Rybník - Volejbal Červený Kostelec 3:0 (18\,22\,22)
DTSTART;TZID=Europe/Berlin:20250315T130000
DTEND;TZID=Europe/Berlin:20250315T150000
LOCATION:Základní škola Česká Třebová Habrmanova\, Na Skále\, Na Skále 566 
 Česká Třebová
SUMMARY:PA-M-1: SK Rybník-Volejbal Červený Kostelec
END:VEVENT
END:VCALENDAR
