BEGIN:VCALENDAR
VERSION:2.0
PRODID:-//Volejbalový oddíl TJ Lanškroun86201//NONSGML kigkonsult.se iCalcreator 2.41.80//
CALSCALE:GREGORIAN
UID:64623234-3534-4330-a166-313662643066
BEGIN:VEVENT
UID:61373864-3933-4264-a665-656462633937
DTSTAMP:20260421T192721Z
DESCRIPTION:2/6 VO TJ Lanškroun - TJ Svitavy 2:1 (20\,-21\,10)
DTSTART;TZID=Europe/Berlin:20240921T111500
DTEND;TZID=Europe/Berlin:20240921T131500
LOCATION:Sportovní hala\, Masarykovo nám. 108 Lázně Bohdaneč
SUMMARY:CP-U16Z-V1A: VO TJ Lanškroun-TJ Svitavy
END:VEVENT
BEGIN:VEVENT
UID:33353138-6532-4631-b833-336332353632
DTSTAMP:20260421T192721Z
DESCRIPTION:6/15 VO TJ Lanškroun - Volejbal Kolín 2:0 (19\,22)
DTSTART;TZID=Europe/Berlin:20240921T160000
DTEND;TZID=Europe/Berlin:20240921T180000
LOCATION:Sportovní hala\, Masarykovo nám. 108 Lázně Bohdaneč
SUMMARY:CP-U16Z-V1A: VO TJ Lanškroun-Volejbal Kolín
END:VEVENT
BEGIN:VEVENT
UID:36393464-3861-4661-b937-613238303161
DTSTAMP:20260421T192721Z
DESCRIPTION:7/19 VO TJ Lanškroun - Sokol Pardubice I. A 0:2 (-23\,-17)
DTSTART;TZID=Europe/Berlin:20240922T090000
DTEND;TZID=Europe/Berlin:20240922T110000
LOCATION:Sportovní hala\, Masarykovo nám. 108 Lázně Bohdaneč
SUMMARY:CP-U16Z-V1A: VO TJ Lanškroun-Sokol Pardubice I. A
END:VEVENT
BEGIN:VEVENT
UID:61643562-6436-4736-b436-366132346431
DTSTAMP:20260421T192721Z
DESCRIPTION:9/25 VO TJ Lanškroun - TJ Sokol Předklášteří 2:0 (6\,18)
DTSTART;TZID=Europe/Berlin:20240922T113000
DTEND;TZID=Europe/Berlin:20240922T133000
LOCATION:Sportovní hala\, Masarykovo nám. 108 Lázně Bohdaneč
SUMMARY:CP-U16Z-V1A: VO TJ Lanškroun-TJ Sokol Předklášteří
END:VEVENT
BEGIN:VEVENT
UID:30636338-3035-4235-b561-663533366237
DTSTAMP:20260421T192721Z
DESCRIPTION:1/3 Sokol Dolní Újezd - VO TJ Lanškroun 0:2 (-19\,-14)
DTSTART;TZID=Europe/Berlin:20240921T100000
DTEND;TZID=Europe/Berlin:20240921T120000
LOCATION:Sportovní hala\, Masarykovo nám. 108 Lázně Bohdaneč
SUMMARY:CP-U16Z-V1A: Sokol Dolní Újezd-VO TJ Lanškroun
END:VEVENT
BEGIN:VEVENT
UID:32353832-3766-4764-b030-613238373535
DTSTAMP:20260421T192721Z
DESCRIPTION:4/11 Pelhřimov - VO TJ Lanškroun 0:2 (-19\,-17)
DTSTART;TZID=Europe/Berlin:20240921T134500
DTEND;TZID=Europe/Berlin:20240921T154500
LOCATION:Sportovní hala\, Masarykovo nám. 108 Lázně Bohdaneč
SUMMARY:CP-U16Z-V1A: Pelhřimov-VO TJ Lanškroun
END:VEVENT
BEGIN:VEVENT
UID:32393532-6536-4764-a335-376433616633
DTSTAMP:20260421T192721Z
DESCRIPTION:10/27 Spartak Polička - VO TJ Lanškroun 0:2 (-19\,-14)
DTSTART;TZID=Europe/Berlin:20240922T124500
DTEND;TZID=Europe/Berlin:20240922T144500
LOCATION:Sportovní hala\, Masarykovo nám. 108 Lázně Bohdaneč
SUMMARY:CP-U16Z-V1A: Spartak Polička-VO TJ Lanškroun
END:VEVENT
BEGIN:VEVENT
UID:37316266-6533-4237-b663-333765613237
DTSTAMP:20260421T192721Z
DESCRIPTION:1/1 VO TJ Lanškroun - Sokol Česká Třebová 2:0 (12\,15)\npořadat
 el Svitavy
DTSTART;TZID=Europe/Berlin:20240915T090000
DTEND;TZID=Europe/Berlin:20240915T110000
LOCATION:SOŠ a SOU Lanškroun\, Sokolská 288 Lanškroun - Ostrovské Předměstí
SUMMARY:PA-U16Z-KVAL-C: VO TJ Lanškroun-Sokol Česká Třebová
END:VEVENT
BEGIN:VEVENT
UID:30653030-3339-4533-b662-656262313164
DTSTAMP:20260421T192721Z
DESCRIPTION:1/2 VO TJ Lanškroun - TJ Žichlínek 2:0 (12\,18)\npořadatel Svit
 avy
DTSTART;TZID=Europe/Berlin:20240915T090000
DTEND;TZID=Europe/Berlin:20240915T110000
LOCATION:SOŠ a SOU Lanškroun\, Sokolská 288 Lanškroun - Ostrovské Předměstí
SUMMARY:PA-U16Z-KVAL-C: VO TJ Lanškroun-TJ Žichlínek
END:VEVENT
BEGIN:VEVENT
UID:30646233-3831-4133-b931-396566323663
DTSTAMP:20260421T192721Z
DESCRIPTION:4/7 VO TJ Lanškroun - Bedřichov Jihlava 2:0 (10\,21)
DTSTART;TZID=Europe/Berlin:20241102T124500
DTEND;TZID=Europe/Berlin:20241102T144500
LOCATION:Hala ZŠ Komenského\, Komenského 701 Bílovec
SUMMARY:CP-U16Z-V2B: VO TJ Lanškroun-Bedřichov Jihlava
END:VEVENT
BEGIN:VEVENT
UID:32653035-3837-4466-a161-346366626239
DTSTAMP:20260421T192721Z
DESCRIPTION:5/9 VO TJ Lanškroun - ŠSK Bílovec 0:2 (-15\,-19)
DTSTART;TZID=Europe/Berlin:20241102T140000
DTEND;TZID=Europe/Berlin:20241102T160000
LOCATION:Hala ZŠ Komenského\, Komenského 701 Bílovec
SUMMARY:CP-U16Z-V2B: VO TJ Lanškroun-ŠSK Bílovec
END:VEVENT
BEGIN:VEVENT
UID:31656436-3636-4339-b432-376335363135
DTSTAMP:20260421T192721Z
DESCRIPTION:7/14 VO TJ Lanškroun - Přerov A 0:2 (-15\,-13)
DTSTART;TZID=Europe/Berlin:20241102T163000
DTEND;TZID=Europe/Berlin:20241102T183000
LOCATION:Hala ZŠ Komenského\, Komenského 701 Bílovec
SUMMARY:CP-U16Z-V2B: VO TJ Lanškroun-Přerov A
END:VEVENT
BEGIN:VEVENT
UID:35653833-3536-4566-b437-396361636535
DTSTAMP:20260421T192721Z
DESCRIPTION:9/19 VO TJ Lanškroun - Jiskra Havlíčkův Brod 'A' 2:0 (25\,23)
DTSTART;TZID=Europe/Berlin:20241103T083000
DTEND;TZID=Europe/Berlin:20241103T103000
LOCATION:Hala ZŠ Komenského\, Komenského 701 Bílovec
SUMMARY:CP-U16Z-V2B: VO TJ Lanškroun-Jiskra Havlíčkův Brod 'A'
END:VEVENT
BEGIN:VEVENT
UID:64376564-6266-4237-b365-393434346164
DTSTAMP:20260421T192721Z
DESCRIPTION:2/3 TJ Svitavy - VO TJ Lanškroun 1:2 (-22\,21\,-6)
DTSTART;TZID=Europe/Berlin:20241102T101500
DTEND;TZID=Europe/Berlin:20241102T121500
LOCATION:Hala ZŠ Komenského\, Komenského 701 Bílovec
SUMMARY:CP-U16Z-V2B: TJ Svitavy-VO TJ Lanškroun
END:VEVENT
BEGIN:VEVENT
UID:32316466-3131-4534-b130-343763346639
DTSTAMP:20260421T192721Z
DESCRIPTION:10/20 VK Brno A - VO TJ Lanškroun 2:0 (21\,19)
DTSTART;TZID=Europe/Berlin:20241103T094500
DTEND;TZID=Europe/Berlin:20241103T114500
LOCATION:Hala ZŠ Komenského\, Komenského 701 Bílovec
SUMMARY:CP-U16Z-V2B: VK Brno A-VO TJ Lanškroun
END:VEVENT
BEGIN:VEVENT
UID:34623831-3665-4333-b464-333535326539
DTSTAMP:20260421T192721Z
DESCRIPTION:11/23 Tělocvičná jednota Sokol Bučovice - VO TJ Lanškroun 0:2 (
 -21\,-23)
DTSTART;TZID=Europe/Berlin:20241103T110000
DTEND;TZID=Europe/Berlin:20241103T130000
LOCATION:Hala ZŠ Komenského\, Komenského 701 Bílovec
SUMMARY:CP-U16Z-V2B: Tělocvičná jednota Sokol Bučovice-VO TJ Lanškroun
END:VEVENT
BEGIN:VEVENT
UID:65376432-3831-4839-a261-316638383939
DTSTAMP:20260421T192721Z
DESCRIPTION:1/2 VO TJ Lanškroun - Sokol Pardubice I. A 1:2 (-11\,22\,-11)
DTSTART;TZID=Europe/Berlin:20241006T090000
DTEND;TZID=Europe/Berlin:20241006T110000
LOCATION:SOŠ a SOU Lanškroun\, Sokolská 288 Lanškroun - Ostrovské Předměstí
SUMMARY:PA-U16Z-A-1KOLO: VO TJ Lanškroun-Sokol Pardubice I. A
END:VEVENT
BEGIN:VEVENT
UID:66373465-6664-4432-b637-666235373635
DTSTAMP:20260421T192721Z
DESCRIPTION:1/5 VO TJ Lanškroun - TJ Svitavy A 0:2 (-20\,-16)
DTSTART;TZID=Europe/Berlin:20241006T090000
DTEND;TZID=Europe/Berlin:20241006T110000
LOCATION:SOŠ a SOU Lanškroun\, Sokolská 288 Lanškroun - Ostrovské Předměstí
SUMMARY:PA-U16Z-A-1KOLO: VO TJ Lanškroun-TJ Svitavy A
END:VEVENT
BEGIN:VEVENT
UID:62326335-3463-4338-a335-383663643430
DTSTAMP:20260421T192721Z
DESCRIPTION:1/4 Spartak Polička - VO TJ Lanškroun 0:2 (-23\,-23)
DTSTART;TZID=Europe/Berlin:20241006T090000
DTEND;TZID=Europe/Berlin:20241006T110000
LOCATION:TJ Spartak Polička\, z.s. \, nábř. Svobody 447 Polička - Horní Pře
 dměstí
SUMMARY:PA-U16Z-A-1KOLO: Spartak Polička-VO TJ Lanškroun
END:VEVENT
BEGIN:VEVENT
UID:62353064-3764-4832-b761-396561643033
DTSTAMP:20260421T192721Z
DESCRIPTION:1/2 VO TJ Lanškroun - TJ Svitavy A 0:2 (-11\,-21)
DTSTART;TZID=Europe/Berlin:20241013T090000
DTEND;TZID=Europe/Berlin:20241013T110000
LOCATION:VDA u Billy\, Habrmanova 2096 Česká Třebová
SUMMARY:PA-U16Z-A-2KOLO: VO TJ Lanškroun-TJ Svitavy A
END:VEVENT
BEGIN:VEVENT
UID:61376363-6463-4866-b037-323633303863
DTSTAMP:20260421T192721Z
DESCRIPTION:1/5 VO TJ Lanškroun - Sokol Pardubice I. A 0:2 (-6\,-15)
DTSTART;TZID=Europe/Berlin:20241013T090000
DTEND;TZID=Europe/Berlin:20241013T110000
LOCATION:VDA u Billy\, Habrmanova 2096 Česká Třebová
SUMMARY:PA-U16Z-A-2KOLO: VO TJ Lanškroun-Sokol Pardubice I. A
END:VEVENT
BEGIN:VEVENT
UID:35616635-6236-4831-b130-663662373835
DTSTAMP:20260421T192721Z
DESCRIPTION:1/4 Sokol Česká Třebová - VO TJ Lanškroun 0:2 (-15\,-9)
DTSTART;TZID=Europe/Berlin:20241013T090000
DTEND;TZID=Europe/Berlin:20241013T110000
LOCATION:VDA u Billy\, Habrmanova 2096 Česká Třebová
SUMMARY:PA-U16Z-A-2KOLO: Sokol Česká Třebová-VO TJ Lanškroun
END:VEVENT
BEGIN:VEVENT
UID:35653464-6663-4135-b438-353333316166
DTSTAMP:20260421T192721Z
DESCRIPTION:1/6 VO TJ Lanškroun - TJ Svitavy A 0:2 (-12\,-22)
DTSTART;TZID=Europe/Berlin:20241110T090000
DTEND;TZID=Europe/Berlin:20241110T110000
LOCATION:Sportovní hala Na Střelnici\, Pražská 2162 Svitavy - Předměstí
SUMMARY:PA-U16Z-A-3KOLO: VO TJ Lanškroun-TJ Svitavy A
END:VEVENT
BEGIN:VEVENT
UID:31326535-3562-4935-b635-303966326466
DTSTAMP:20260421T192721Z
DESCRIPTION:1/2 Sokol Pardubice I. A - VO TJ Lanškroun 2:0 (19\,7)
DTSTART;TZID=Europe/Berlin:20241110T090000
DTEND;TZID=Europe/Berlin:20241110T110000
LOCATION:Sportovní hala Na Střelnici\, Pražská 2162 Svitavy - Předměstí
SUMMARY:PA-U16Z-A-3KOLO: Sokol Pardubice I. A-VO TJ Lanškroun
END:VEVENT
BEGIN:VEVENT
UID:31643864-3131-4037-a239-633231323034
DTSTAMP:20260421T192721Z
DESCRIPTION:1/3 Spartak Polička - VO TJ Lanškroun 1:2 (22\,-17\,-12)
DTSTART;TZID=Europe/Berlin:20241110T090000
DTEND;TZID=Europe/Berlin:20241110T110000
LOCATION:Sportovní hala Na Střelnici\, Pražská 2162 Svitavy - Předměstí
SUMMARY:PA-U16Z-A-3KOLO: Spartak Polička-VO TJ Lanškroun
END:VEVENT
BEGIN:VEVENT
UID:37303238-6433-4336-b138-613134393364
DTSTAMP:20260421T192721Z
DESCRIPTION:1/2 VO TJ Lanškroun - VK Brno A 1:2 (-22\,20\,-11)
DTSTART;TZID=Europe/Berlin:20241123T090000
DTEND;TZID=Europe/Berlin:20241123T110000
LOCATION:Sportovní hala TJ Jiskra\, Ledečská 3028 Havlíčkův Brod
SUMMARY:CP-U16Z-V3B: VO TJ Lanškroun-VK Brno A
END:VEVENT
BEGIN:VEVENT
UID:61613363-3164-4434-a537-366335626239
DTSTAMP:20260421T192721Z
DESCRIPTION:4/11 VO TJ Lanškroun - Sokol F.- Místek 2:1 (24\,-19\,14)
DTSTART;TZID=Europe/Berlin:20241123T143000
DTEND;TZID=Europe/Berlin:20241123T163000
LOCATION:Sportovní hala TJ Jiskra\, Ledečská 3028 Havlíčkův Brod
SUMMARY:CP-U16Z-V3B: VO TJ Lanškroun-Sokol F.- Místek
END:VEVENT
BEGIN:VEVENT
UID:37613664-3365-4331-b161-643661396433
DTSTAMP:20260421T192721Z
DESCRIPTION:8/21 VO TJ Lanškroun - Sokol Pardubice I. A 2:0 (20\,22)
DTSTART;TZID=Europe/Berlin:20241124T100000
DTEND;TZID=Europe/Berlin:20241124T120000
LOCATION:Sportovní hala TJ Jiskra\, Ledečská 3028 Havlíčkův Brod
SUMMARY:CP-U16Z-V3B: VO TJ Lanškroun-Sokol Pardubice I. A
END:VEVENT
BEGIN:VEVENT
UID:62323761-3439-4262-b733-646433353235
DTSTAMP:20260421T192721Z
DESCRIPTION:10/27 VO TJ Lanškroun - TJ Hlučín 0:2 (-11\,-19)
DTSTART;TZID=Europe/Berlin:20241124T130000
DTEND;TZID=Europe/Berlin:20241124T150000
LOCATION:Sportovní hala TJ Jiskra\, Ledečská 3028 Havlíčkův Brod
SUMMARY:CP-U16Z-V3B: VO TJ Lanškroun-TJ Hlučín
END:VEVENT
BEGIN:VEVENT
UID:39613531-6239-4439-b436-396133356565
DTSTAMP:20260421T192721Z
DESCRIPTION:2/6 ŠSK Bílovec - VO TJ Lanškroun 2:0 (23\,19)
DTSTART;TZID=Europe/Berlin:20241123T103000
DTEND;TZID=Europe/Berlin:20241123T123000
LOCATION:Sportovní hala TJ Jiskra\, Ledečská 3028 Havlíčkův Brod
SUMMARY:CP-U16Z-V3B: ŠSK Bílovec-VO TJ Lanškroun
END:VEVENT
BEGIN:VEVENT
UID:61376234-3761-4938-b336-313663643462
DTSTAMP:20260421T192721Z
DESCRIPTION:6/16 Jiskra Havlíčkův Brod 'A' - VO TJ Lanškroun 2:0 (20\,13)
DTSTART;TZID=Europe/Berlin:20241123T173000
DTEND;TZID=Europe/Berlin:20241123T193000
LOCATION:Sportovní hala TJ Jiskra\, Ledečská 3028 Havlíčkův Brod
SUMMARY:CP-U16Z-V3B: Jiskra Havlíčkův Brod 'A'-VO TJ Lanškroun
END:VEVENT
BEGIN:VEVENT
UID:34656634-3634-4562-b262-613633663930
DTSTAMP:20260421T192721Z
DESCRIPTION:9/24 VK Znojmo - Přímětice - A - VO TJ Lanškroun 2:1 (19\,-17\,
 14)
DTSTART;TZID=Europe/Berlin:20241124T113000
DTEND;TZID=Europe/Berlin:20241124T133000
LOCATION:Sportovní hala TJ Jiskra\, Ledečská 3028 Havlíčkův Brod
SUMMARY:CP-U16Z-V3B: VK Znojmo - Přímětice - A-VO TJ Lanškroun
END:VEVENT
BEGIN:VEVENT
UID:33353065-6239-4738-a535-383265386638
DTSTAMP:20260421T192721Z
DESCRIPTION:3/6 VO TJ Lanškroun - VK Znojmo - Přímětice - A 1:2 (22\,-21\,-
 14)
DTSTART;TZID=Europe/Berlin:20250125T113000
DTEND;TZID=Europe/Berlin:20250125T133000
LOCATION:SOŠ a SOU Lanškroun\, Sokolská 288 Lanškroun - Ostrovské Předměstí
SUMMARY:CP-U16Z-F1D: VO TJ Lanškroun-VK Znojmo - Přímětice - A
END:VEVENT
BEGIN:VEVENT
UID:32353433-6564-4666-a538-643565333661
DTSTAMP:20260421T192721Z
DESCRIPTION:8/15 VO TJ Lanškroun - Jiskra Havlíčkův Brod 'A' 0:2 (-18\,-19)
DTSTART;TZID=Europe/Berlin:20250125T174500
DTEND;TZID=Europe/Berlin:20250125T194500
LOCATION:SOŠ a SOU Lanškroun\, Sokolská 288 Lanškroun - Ostrovské Předměstí
SUMMARY:CP-U16Z-F1D: VO TJ Lanškroun-Jiskra Havlíčkův Brod 'A'
END:VEVENT
BEGIN:VEVENT
UID:39633965-3737-4531-b139-333133623233
DTSTAMP:20260421T192721Z
DESCRIPTION:1/2 VK Brno A - VO TJ Lanškroun 0:2 (-21\,-21)
DTSTART;TZID=Europe/Berlin:20250125T090000
DTEND;TZID=Europe/Berlin:20250125T110000
LOCATION:ZŠ Vejrostova\, Vejrostova 1066 Brno - Bystrc
SUMMARY:CP-U16Z-F1D: VK Brno A-VO TJ Lanškroun
END:VEVENT
BEGIN:VEVENT
UID:33633632-3062-4066-b434-336237313938
DTSTAMP:20260421T192721Z
DESCRIPTION:5/9 Lokomotiva Plzeň - VO TJ Lanškroun 2:0 (14\,12)
DTSTART;TZID=Europe/Berlin:20250125T140000
DTEND;TZID=Europe/Berlin:20250125T160000
LOCATION:Sportovní hala - SG Plzeň\, Vejprnická 663 Plzeň - Skvrňany
SUMMARY:CP-U16Z-F1D: Lokomotiva Plzeň-VO TJ Lanškroun
END:VEVENT
BEGIN:VEVENT
UID:65656530-6564-4066-a561-643432346537
DTSTAMP:20260421T192721Z
DESCRIPTION:9/17 Střešovice - VO TJ Lanškroun 2:1 (-17\,11\,13)
DTSTART;TZID=Europe/Berlin:20250126T090000
DTEND;TZID=Europe/Berlin:20250126T110000
LOCATION:TJ Tatran Střešovice - tělocvična\, Sibeliova 368 Praha - Střešovi
 ce
SUMMARY:CP-U16Z-F1D: Střešovice-VO TJ Lanškroun
END:VEVENT
BEGIN:VEVENT
UID:31666235-3466-4364-a538-326133383834
DTSTAMP:20260421T192721Z
DESCRIPTION:11/22 BVC CHODOV - VO TJ Lanškroun 2:1 (20\,-22\,10)
DTSTART;TZID=Europe/Berlin:20250126T113000
DTEND;TZID=Europe/Berlin:20250126T133000
LOCATION:Městská sportovní hala Chodov\, Tyršova 1201 Chodov
SUMMARY:CP-U16Z-F1D: BVC CHODOV-VO TJ Lanškroun
END:VEVENT
BEGIN:VEVENT
UID:38656263-6535-4738-a135-643637353238
DTSTAMP:20260421T192721Z
DESCRIPTION:13/26 Radotín - VO TJ Lanškroun 2:0 (15\,8)
DTSTART;TZID=Europe/Berlin:20250126T140000
DTEND;TZID=Europe/Berlin:20250126T160000
LOCATION:Sportovní hala Radotín\, U starého stadiónu 1585 Praha - Radotín
SUMMARY:CP-U16Z-F1D: Radotín-VO TJ Lanškroun
END:VEVENT
BEGIN:VEVENT
UID:66653738-3737-4032-b764-303261393531
DTSTAMP:20260421T192721Z
DESCRIPTION:1/4 VO TJ Lanškroun - Sokol Dolní Újezd 2:0 (18\,19)\nKunětická
  92\, Univerzita Pardubice
DTSTART;TZID=Europe/Berlin:20241208T113000
DTEND;TZID=Europe/Berlin:20241208T133000
LOCATION:SOŠ a SOU Lanškroun\, Sokolská 288 Lanškroun - Ostrovské Předměstí
SUMMARY:PA-U16Z-A-4KOLO: VO TJ Lanškroun-Sokol Dolní Újezd
END:VEVENT
BEGIN:VEVENT
UID:64333735-6430-4463-b131-383430376162
DTSTAMP:20260421T192721Z
DESCRIPTION:1/5 TJ Svitavy A - VO TJ Lanškroun 2:0 (12\,19)\nKunětická 92\,
  Univerzita Pardubice
DTSTART;TZID=Europe/Berlin:20241208T123000
DTEND;TZID=Europe/Berlin:20241208T143000
LOCATION:Sportovní hala Na Střelnici\, Pražská 2162 Svitavy - Předměstí
SUMMARY:PA-U16Z-A-4KOLO: TJ Svitavy A-VO TJ Lanškroun
END:VEVENT
BEGIN:VEVENT
UID:39333336-3532-4634-b839-313266336265
DTSTAMP:20260421T192721Z
DESCRIPTION:1/6 Sokol Pardubice I. A - VO TJ Lanškroun 0:2 (-22\,-15)\nKuně
 tická 92\, Univerzita Pardubice
DTSTART;TZID=Europe/Berlin:20241208T140000
DTEND;TZID=Europe/Berlin:20241208T160000
LOCATION:Sokolovna\, Jiráskova 29 Pardubice - Zelené Předměstí
SUMMARY:PA-U16Z-A-4KOLO: Sokol Pardubice I. A-VO TJ Lanškroun
END:VEVENT
BEGIN:VEVENT
UID:65323934-3236-4533-b664-636331376236
DTSTAMP:20260421T192721Z
DESCRIPTION:1/1 VO TJ Lanškroun - TJ Svitavy A 0:2 (-23\,-18)\nSokolská 288
  Lanškroun - Ostrovské Předměstí
DTSTART;TZID=Europe/Berlin:20250112T093000
DTEND;TZID=Europe/Berlin:20250112T113000
LOCATION:SOŠ a SOU Lanškroun\, Sokolská 288 Lanškroun - Ostrovské Předměstí
SUMMARY:PA-U16Z-A-5KOLO: VO TJ Lanškroun-TJ Svitavy A
END:VEVENT
BEGIN:VEVENT
UID:30623233-6335-4162-a662-373861396238
DTSTAMP:20260421T192721Z
DESCRIPTION:1/3 VO TJ Lanškroun - Spartak Polička 2:0 (21\,12)\nSokolská 28
 8 Lanškroun - Ostrovské Předměstí
DTSTART;TZID=Europe/Berlin:20250112T104500
DTEND;TZID=Europe/Berlin:20250112T124500
LOCATION:SOŠ a SOU Lanškroun\, Sokolská 288 Lanškroun - Ostrovské Předměstí
SUMMARY:PA-U16Z-A-5KOLO: VO TJ Lanškroun-Spartak Polička
END:VEVENT
BEGIN:VEVENT
UID:30303835-3063-4230-b539-333138326265
DTSTAMP:20260421T192721Z
DESCRIPTION:1/5 VO TJ Lanškroun - Sokol Pardubice I. A 0:2 (-21\,-22)\nSoko
 lská 288 Lanškroun - Ostrovské Předměstí
DTSTART;TZID=Europe/Berlin:20250112T120000
DTEND;TZID=Europe/Berlin:20250112T140000
LOCATION:SOŠ a SOU Lanškroun\, Sokolská 288 Lanškroun - Ostrovské Předměstí
SUMMARY:PA-U16Z-A-5KOLO: VO TJ Lanškroun-Sokol Pardubice I. A
END:VEVENT
BEGIN:VEVENT
UID:39373433-6232-4264-b065-353736366238
DTSTAMP:20260421T192721Z
DESCRIPTION:1/1 VO TJ Lanškroun - Volejbal Ústí n L. 2:1 (-22\,10\,12)
DTSTART;TZID=Europe/Berlin:20250215T100000
DTEND;TZID=Europe/Berlin:20250215T120000
LOCATION:Městská sportovní hala Chodov\, Tyršova 1201 Chodov
SUMMARY:CP-U16Z-F2E: VO TJ Lanškroun-Volejbal Ústí n L.
END:VEVENT
BEGIN:VEVENT
UID:36343432-3961-4265-a232-303937613063
DTSTAMP:20260421T192721Z
DESCRIPTION:8/21 VO TJ Lanškroun - VoCe 0:2 (-12\,-21)
DTSTART;TZID=Europe/Berlin:20250216T120000
DTEND;TZID=Europe/Berlin:20250216T140000
LOCATION:Městská sportovní hala Chodov\, Tyršova 1201 Chodov
SUMMARY:CP-U16Z-F2E: VO TJ Lanškroun-VoCe
END:VEVENT
BEGIN:VEVENT
UID:61323462-6134-4632-b362-646237363666
DTSTAMP:20260421T192721Z
DESCRIPTION:9/22 VO TJ Lanškroun - Bedřichov Jihlava 2:0 (0\,0)
DTSTART;TZID=Europe/Berlin:20250216T123000
DTEND;TZID=Europe/Berlin:20250216T143000
LOCATION:Městská sportovní hala Chodov\, Tyršova 1201 Chodov
SUMMARY:CP-U16Z-F2E: VO TJ Lanškroun-Bedřichov Jihlava
END:VEVENT
BEGIN:VEVENT
UID:64363861-3131-4632-b933-346464336236
DTSTAMP:20260421T192721Z
DESCRIPTION:2/4 Sokol F.- Místek - VO TJ Lanškroun 2:1 (-12\,18\,9)
DTSTART;TZID=Europe/Berlin:20250215T113000
DTEND;TZID=Europe/Berlin:20250215T133000
LOCATION:Městská sportovní hala Chodov\, Tyršova 1201 Chodov
SUMMARY:CP-U16Z-F2E: Sokol F.- Místek-VO TJ Lanškroun
END:VEVENT
BEGIN:VEVENT
UID:36306433-3533-4631-b634-306632303236
DTSTAMP:20260421T192721Z
DESCRIPTION:4/11 VK Madeta - VO TJ Lanškroun 2:0 (13\,23)
DTSTART;TZID=Europe/Berlin:20250215T143000
DTEND;TZID=Europe/Berlin:20250215T163000
LOCATION:Městská sportovní hala Chodov\, Tyršova 1201 Chodov
SUMMARY:CP-U16Z-F2E: VK Madeta-VO TJ Lanškroun
END:VEVENT
BEGIN:VEVENT
UID:39323838-6162-4837-a164-303363373233
DTSTAMP:20260421T192721Z
DESCRIPTION:5/13 BVC CHODOV - VO TJ Lanškroun 2:0 (15\,23)
DTSTART;TZID=Europe/Berlin:20250215T160000
DTEND;TZID=Europe/Berlin:20250215T180000
LOCATION:Městská sportovní hala Chodov\, Tyršova 1201 Chodov
SUMMARY:CP-U16Z-F2E: BVC CHODOV-VO TJ Lanškroun
END:VEVENT
BEGIN:VEVENT
UID:66656533-3239-4538-a435-323736353162
DTSTAMP:20260421T192721Z
DESCRIPTION:6/15 SVK N. Jičín - VO TJ Lanškroun 1:2 (-21\,13\,-10)
DTSTART;TZID=Europe/Berlin:20250216T090000
DTEND;TZID=Europe/Berlin:20250216T110000
LOCATION:Městská sportovní hala Chodov\, Tyršova 1201 Chodov
SUMMARY:CP-U16Z-F2E: SVK N. Jičín-VO TJ Lanškroun
END:VEVENT
BEGIN:VEVENT
UID:34343138-3630-4132-a266-643634393331
DTSTAMP:20260421T192721Z
DESCRIPTION:1/6 VO TJ Lanškroun - Sokol Dolní Újezd 2:0 (18\,22)
DTSTART;TZID=Europe/Berlin:20250223T120000
DTEND;TZID=Europe/Berlin:20250223T140000
LOCATION:Sportovní hala Na Střelnici\, Pražská 2162 Svitavy - Předměstí
SUMMARY:PA-U16Z-A-6KOLO: VO TJ Lanškroun-Sokol Dolní Újezd
END:VEVENT
BEGIN:VEVENT
UID:39333536-3630-4139-b061-653863646463
DTSTAMP:20260421T192721Z
DESCRIPTION:1/2 Sokol Pardubice I. A - VO TJ Lanškroun 2:0 (15\,23)
DTSTART;TZID=Europe/Berlin:20250223T090000
DTEND;TZID=Europe/Berlin:20250223T110000
LOCATION:Sportovní hala Na Střelnici\, Pražská 2162 Svitavy - Předměstí
SUMMARY:PA-U16Z-A-6KOLO: Sokol Pardubice I. A-VO TJ Lanškroun
END:VEVENT
BEGIN:VEVENT
UID:62333134-3264-4632-b264-343563366332
DTSTAMP:20260421T192721Z
DESCRIPTION:1/3 TJ Svitavy A - VO TJ Lanškroun 2:0 (15\,17)
DTSTART;TZID=Europe/Berlin:20250223T100000
DTEND;TZID=Europe/Berlin:20250223T120000
LOCATION:Sportovní hala Na Střelnici\, Pražská 2162 Svitavy - Předměstí
SUMMARY:PA-U16Z-A-6KOLO: TJ Svitavy A-VO TJ Lanškroun
END:VEVENT
BEGIN:VEVENT
UID:39633364-3436-4338-b762-323538373937
DTSTAMP:20260421T192721Z
DESCRIPTION:1/6 VO TJ Lanškroun - Spartak Polička 2:0 (18\,19)
DTSTART;TZID=Europe/Berlin:20250316T120000
DTEND;TZID=Europe/Berlin:20250316T140000
LOCATION:Sportovní hala Na Střelnici\, Pražská 2162 Svitavy - Předměstí
SUMMARY:PA-U16Z-A-7KOLO: VO TJ Lanškroun-Spartak Polička
END:VEVENT
BEGIN:VEVENT
UID:62346632-3361-4630-a331-393838623737
DTSTAMP:20260421T192721Z
DESCRIPTION:1/2 Sokol Pardubice I. A - VO TJ Lanškroun 2:0 (15\,15)
DTSTART;TZID=Europe/Berlin:20250316T090000
DTEND;TZID=Europe/Berlin:20250316T110000
LOCATION:Sportovní hala Na Střelnici\, Pražská 2162 Svitavy - Předměstí
SUMMARY:PA-U16Z-A-7KOLO: Sokol Pardubice I. A-VO TJ Lanškroun
END:VEVENT
BEGIN:VEVENT
UID:63383733-3438-4937-b535-653735396363
DTSTAMP:20260421T192721Z
DESCRIPTION:1/3 TJ Svitavy A - VO TJ Lanškroun 2:0 (19\,16)
DTSTART;TZID=Europe/Berlin:20250316T103000
DTEND;TZID=Europe/Berlin:20250316T123000
LOCATION:Sportovní hala Na Střelnici\, Pražská 2162 Svitavy - Předměstí
SUMMARY:PA-U16Z-A-7KOLO: TJ Svitavy A-VO TJ Lanškroun
END:VEVENT
BEGIN:VEVENT
UID:62313234-3137-4233-b730-313762396439
DTSTAMP:20260421T192721Z
DESCRIPTION:1/1 VO TJ Lanškroun - Třebíč 1:2 (-18\,24\,-13)
DTSTART;TZID=Europe/Berlin:20250308T090000
DTEND;TZID=Europe/Berlin:20250308T110000
LOCATION:hala ZŠ TGM\, Komenského nám. 61 Třebíč - Horka-Domky
SUMMARY:CP-U16Z-F3H: VO TJ Lanškroun-Třebíč
END:VEVENT
BEGIN:VEVENT
UID:61323330-3135-4237-b663-663434346566
DTSTAMP:20260421T192721Z
DESCRIPTION:4/7 VO TJ Lanškroun - Sokol F.- Místek 0:2 (-15\,-15)
DTSTART;TZID=Europe/Berlin:20250308T130000
DTEND;TZID=Europe/Berlin:20250308T150000
LOCATION:hala ZŠ TGM\, Komenského nám. 61 Třebíč - Horka-Domky
SUMMARY:CP-U16Z-F3H: VO TJ Lanškroun-Sokol F.- Místek
END:VEVENT
BEGIN:VEVENT
UID:61616465-3361-4061-b735-313637316261
DTSTAMP:20260421T192721Z
DESCRIPTION:6/11 VO TJ Lanškroun - SVK N. Jičín 2:0 (19\,23)
DTSTART;TZID=Europe/Berlin:20250308T153000
DTEND;TZID=Europe/Berlin:20250308T173000
LOCATION:hala ZŠ TGM\, Komenského nám. 61 Třebíč - Horka-Domky
SUMMARY:CP-U16Z-F3H: VO TJ Lanškroun-SVK N. Jičín
END:VEVENT
BEGIN:VEVENT
UID:66346366-3764-4538-a433-333434346332
DTSTAMP:20260421T192721Z
DESCRIPTION:8/16 Brandýs nad Labem - VO TJ Lanškroun 2:1 (-18\,25\,9)
DTSTART;TZID=Europe/Berlin:20250308T180000
DTEND;TZID=Europe/Berlin:20250308T200000
LOCATION:hala ZŠ TGM\, Komenského nám. 61 Třebíč - Horka-Domky
SUMMARY:CP-U16Z-F3H: Brandýs nad Labem-VO TJ Lanškroun
END:VEVENT
BEGIN:VEVENT
UID:36373763-3738-4462-a363-643736306236
DTSTAMP:20260421T192721Z
DESCRIPTION:9/17 Střešovice - VO TJ Lanškroun 0:2 (-11\,-17)
DTSTART;TZID=Europe/Berlin:20250309T090000
DTEND;TZID=Europe/Berlin:20250309T110000
LOCATION:hala ZŠ TGM\, Komenského nám. 61 Třebíč - Horka-Domky
SUMMARY:CP-U16Z-F3H: Střešovice-VO TJ Lanškroun
END:VEVENT
BEGIN:VEVENT
UID:37373063-3066-4561-a131-356165393733
DTSTAMP:20260421T192721Z
DESCRIPTION:11/21 BVC CHODOV - VO TJ Lanškroun 0:2 (-18\,-12)
DTSTART;TZID=Europe/Berlin:20250309T113000
DTEND;TZID=Europe/Berlin:20250309T133000
LOCATION:hala ZŠ TGM\, Komenského nám. 61 Třebíč - Horka-Domky
SUMMARY:CP-U16Z-F3H: BVC CHODOV-VO TJ Lanškroun
END:VEVENT
BEGIN:VEVENT
UID:38386530-3630-4331-a332-326663633262
DTSTAMP:20260421T192721Z
DESCRIPTION:14/28 VK Brno A - VO TJ Lanškroun 0:2 (-23\,-18)
DTSTART;TZID=Europe/Berlin:20250309T151500
DTEND;TZID=Europe/Berlin:20250309T171500
LOCATION:hala ZŠ TGM\, Komenského nám. 61 Třebíč - Horka-Domky
SUMMARY:CP-U16Z-F3H: VK Brno A-VO TJ Lanškroun
END:VEVENT
END:VCALENDAR
