BEGIN:VCALENDAR
VERSION:2.0
PRODID:-//VK Valašské Meziříčí86215//NONSGML kigkonsult.se iCalcreator 2.41.80//
CALSCALE:GREGORIAN
UID:39393633-6630-4933-b163-376266363965
BEGIN:VEVENT
UID:33383635-3537-4435-a233-666632303466
DTSTAMP:20260422T205205Z
DESCRIPTION:3/9 Val.Meziříčí - Uherský Brod 3:0 (10\,12\,6)
DTSTART;TZID=Europe/Berlin:20241214T100000
DTEND;TZID=Europe/Berlin:20241214T120000
LOCATION:ZŠ Šafaříkova\, Šafaříkova 726 Valašské Meziříčí
SUMMARY:ZLK-Z: Val.Meziříčí-Uherský Brod
END:VEVENT
BEGIN:VEVENT
UID:37643266-3732-4535-b263-323737373566
DTSTAMP:20260422T205205Z
DESCRIPTION:4/13 Val.Meziříčí - Uherský Brod 3:0 (12\,9\,7)
DTSTART;TZID=Europe/Berlin:20241214T130000
DTEND;TZID=Europe/Berlin:20241214T150000
LOCATION:ZŠ Šafaříkova\, Šafaříkova 726 Valašské Meziříčí
SUMMARY:ZLK-Z: Val.Meziříčí-Uherský Brod
END:VEVENT
BEGIN:VEVENT
UID:31623635-3264-4266-a533-616165343138
DTSTAMP:20260422T205205Z
DESCRIPTION:7/25 Val.Meziříčí - Veselí n.M. 3:0 (16\,24\,11)
DTSTART;TZID=Europe/Berlin:20241102T090000
DTEND;TZID=Europe/Berlin:20241102T110000
LOCATION:ZŠ Šafaříkova\, Šafaříkova 726 Valašské Meziříčí
SUMMARY:ZLK-Z: Val.Meziříčí-Veselí n.M.
END:VEVENT
BEGIN:VEVENT
UID:65336466-6339-4233-a566-633138313864
DTSTAMP:20260422T205205Z
DESCRIPTION:8/29 Val.Meziříčí - Veselí n.M. 3:0 (11\,13\,14)
DTSTART;TZID=Europe/Berlin:20241102T130000
DTEND;TZID=Europe/Berlin:20241102T150000
LOCATION:ZŠ Šafaříkova\, Šafaříkova 726 Valašské Meziříčí
SUMMARY:ZLK-Z: Val.Meziříčí-Veselí n.M.
END:VEVENT
BEGIN:VEVENT
UID:34346666-3164-4235-a530-613130646532
DTSTAMP:20260422T205205Z
DESCRIPTION:15/57 Val.Meziříčí - Slavičín 3:1 (-21\,13\,15\,12)
DTSTART;TZID=Europe/Berlin:20250111T090000
DTEND;TZID=Europe/Berlin:20250111T110000
LOCATION:ZŠ Šafaříkova\, Šafaříkova 726 Valašské Meziříčí
SUMMARY:ZLK-Z: Val.Meziříčí-Slavičín
END:VEVENT
BEGIN:VEVENT
UID:61356361-3462-4463-b230-363734383865
DTSTAMP:20260422T205205Z
DESCRIPTION:16/61 Val.Meziříčí - Slavičín 3:0 (17\,22\,17)
DTSTART;TZID=Europe/Berlin:20250111T130000
DTEND;TZID=Europe/Berlin:20250111T150000
LOCATION:ZŠ Šafaříkova\, Šafaříkova 726 Valašské Meziříčí
SUMMARY:ZLK-Z: Val.Meziříčí-Slavičín
END:VEVENT
BEGIN:VEVENT
UID:34373965-3361-4836-b531-353066386635
DTSTAMP:20260422T205205Z
DESCRIPTION:19/73 Val.Meziříčí - Napajedla 3:0 (15\,12\,15)
DTSTART;TZID=Europe/Berlin:20250201T090000
DTEND;TZID=Europe/Berlin:20250201T110000
LOCATION:ZŠ Šafaříkova\, Šafaříkova 726 Valašské Meziříčí
SUMMARY:ZLK-Z: Val.Meziříčí-Napajedla
END:VEVENT
BEGIN:VEVENT
UID:61333566-3139-4334-b939-383834396534
DTSTAMP:20260422T205205Z
DESCRIPTION:20/77 Val.Meziříčí - Napajedla 3:0 (18\,18\,13)
DTSTART;TZID=Europe/Berlin:20250201T130000
DTEND;TZID=Europe/Berlin:20250201T150000
LOCATION:ZŠ Šafaříkova\, Šafaříkova 726 Valašské Meziříčí
SUMMARY:ZLK-Z: Val.Meziříčí-Napajedla
END:VEVENT
BEGIN:VEVENT
UID:61636364-6531-4661-a230-616430353139
DTSTAMP:20260422T205205Z
DESCRIPTION:23/89 Val.Meziříčí - Uh.Hradiště B 3:0 (19\,11\,17)
DTSTART;TZID=Europe/Berlin:20250308T100000
DTEND;TZID=Europe/Berlin:20250308T120000
LOCATION:ZŠ Šafaříkova\, Šafaříkova 726 Valašské Meziříčí
SUMMARY:ZLK-Z: Val.Meziříčí-Uh.Hradiště B
END:VEVENT
BEGIN:VEVENT
UID:30616164-3265-4337-b362-626334316432
DTSTAMP:20260422T205205Z
DESCRIPTION:24/93 Val.Meziříčí - Uh.Hradiště B 3:0 (23\,21\,12)
DTSTART;TZID=Europe/Berlin:20250308T130000
DTEND;TZID=Europe/Berlin:20250308T150000
LOCATION:ZŠ Šafaříkova\, Šafaříkova 726 Valašské Meziříčí
SUMMARY:ZLK-Z: Val.Meziříčí-Uh.Hradiště B
END:VEVENT
BEGIN:VEVENT
UID:38633265-6461-4461-b339-366638616234
DTSTAMP:20260422T205205Z
DESCRIPTION:27/105 Val.Meziříčí - Hošťálková 3:0 (11\,15\,20)
DTSTART;TZID=Europe/Berlin:20250329T090000
DTEND;TZID=Europe/Berlin:20250329T110000
LOCATION:ZŠ Šafaříkova\, Šafaříkova 726 Valašské Meziříčí
SUMMARY:ZLK-Z: Val.Meziříčí-Hošťálková
END:VEVENT
BEGIN:VEVENT
UID:63633634-3362-4361-b431-373237653838
DTSTAMP:20260422T205205Z
DESCRIPTION:28/109 Val.Meziříčí - Hošťálková 3:0 (0\,0\,0)
DTSTART;TZID=Europe/Berlin:20250329T130000
DTEND;TZID=Europe/Berlin:20250329T150000
LOCATION:ZŠ Šafaříkova\, Šafaříkova 726 Valašské Meziříčí
SUMMARY:ZLK-Z: Val.Meziříčí-Hošťálková
END:VEVENT
BEGIN:VEVENT
UID:63653139-6538-4735-a239-316238623330
DTSTAMP:20260422T205205Z
DESCRIPTION:1/1 Slavičín - Val.Meziříčí 0:3 (-19\,-10\,-10)
DTSTART;TZID=Europe/Berlin:20240928T090000
DTEND;TZID=Europe/Berlin:20240928T110000
LOCATION:Sportovní hala Slavičín\, Školní 29 Slavičín
SUMMARY:ZLK-Z: Slavičín-Val.Meziříčí
END:VEVENT
BEGIN:VEVENT
UID:32633864-3630-4332-a464-333365363762
DTSTAMP:20260422T205205Z
DESCRIPTION:2/5 Slavičín - Val.Meziříčí 0:3 (-10\,-14\,-12)
DTSTART;TZID=Europe/Berlin:20240928T120000
DTEND;TZID=Europe/Berlin:20240928T140000
LOCATION:Sportovní hala Slavičín\, Školní 29 Slavičín
SUMMARY:ZLK-Z: Slavičín-Val.Meziříčí
END:VEVENT
BEGIN:VEVENT
UID:38326630-3664-4838-b732-663833303634
DTSTAMP:20260422T205205Z
DESCRIPTION:5/17 Napajedla - Val.Meziříčí 0:3 (-14\,-13\,-11)
DTSTART;TZID=Europe/Berlin:20241019T100000
DTEND;TZID=Europe/Berlin:20241019T120000
LOCATION:2.ZŠ Napajedla\, Komenského 298 Napajedla
SUMMARY:ZLK-Z: Napajedla-Val.Meziříčí
END:VEVENT
BEGIN:VEVENT
UID:62333832-6132-4335-b231-373261633439
DTSTAMP:20260422T205205Z
DESCRIPTION:6/21 Napajedla - Val.Meziříčí 0:3 (-15\,-22\,-11)
DTSTART;TZID=Europe/Berlin:20241019T130000
DTEND;TZID=Europe/Berlin:20241019T150000
LOCATION:2.ZŠ Napajedla\, Komenského 298 Napajedla
SUMMARY:ZLK-Z: Napajedla-Val.Meziříčí
END:VEVENT
BEGIN:VEVENT
UID:39303061-3162-4161-b930-353136353930
DTSTAMP:20260422T205205Z
DESCRIPTION:9/33 Uh.Hradiště B - Val.Meziříčí 0:3 (-19\,-14\,-19)
DTSTART;TZID=Europe/Berlin:20241109T100000
DTEND;TZID=Europe/Berlin:20241109T120000
LOCATION:Městská sportovní hala\, Stonky 860 Uherské Hradiště
SUMMARY:ZLK-Z: Uh.Hradiště B-Val.Meziříčí
END:VEVENT
BEGIN:VEVENT
UID:38363337-3765-4166-a634-636462393035
DTSTAMP:20260422T205205Z
DESCRIPTION:10/37 Uh.Hradiště B - Val.Meziříčí 0:3 (-13\,-5\,-10)
DTSTART;TZID=Europe/Berlin:20241109T130000
DTEND;TZID=Europe/Berlin:20241109T150000
LOCATION:Městská sportovní hala\, Stonky 860 Uherské Hradiště
SUMMARY:ZLK-Z: Uh.Hradiště B-Val.Meziříčí
END:VEVENT
BEGIN:VEVENT
UID:38333130-3763-4631-a334-396164373535
DTSTAMP:20260422T205205Z
DESCRIPTION:13/49 Hošťálková - Val.Meziříčí 1:3 (-16\,-14\,18\,-16)
DTSTART;TZID=Europe/Berlin:20241129T170000
DTEND;TZID=Europe/Berlin:20241129T190000
LOCATION:ZŠ Hošťálková \,  Hošťálková380
SUMMARY:ZLK-Z: Hošťálková-Val.Meziříčí
END:VEVENT
BEGIN:VEVENT
UID:63643930-3131-4065-b931-633433643461
DTSTAMP:20260422T205205Z
DESCRIPTION:14/53 Hošťálková - Val.Meziříčí 0:3 (-17\,-15\,-25)
DTSTART;TZID=Europe/Berlin:20241129T190000
DTEND;TZID=Europe/Berlin:20241129T210000
LOCATION:ZŠ Hošťálková \,  Hošťálková380
SUMMARY:ZLK-Z: Hošťálková-Val.Meziříčí
END:VEVENT
BEGIN:VEVENT
UID:30613439-3335-4430-a336-303562623061
DTSTAMP:20260422T205205Z
DESCRIPTION:17/65 Uherský Brod - Val.Meziříčí 0:3 (-12\,-9\,-15)
DTSTART;TZID=Europe/Berlin:20250118T100000
DTEND;TZID=Europe/Berlin:20250118T120000
LOCATION:TJ SPARTAK UHERSKÝ BROD z.s.\, U Stadionu 2295 Uherský Brod
SUMMARY:ZLK-Z: Uherský Brod-Val.Meziříčí
END:VEVENT
BEGIN:VEVENT
UID:64323064-6536-4366-b465-653563353630
DTSTAMP:20260422T205205Z
DESCRIPTION:18/69 Uherský Brod - Val.Meziříčí 0:3 (-14\,-11\,-20)
DTSTART;TZID=Europe/Berlin:20250118T130000
DTEND;TZID=Europe/Berlin:20250118T150000
LOCATION:TJ SPARTAK UHERSKÝ BROD z.s.\, U Stadionu 2295 Uherský Brod
SUMMARY:ZLK-Z: Uherský Brod-Val.Meziříčí
END:VEVENT
BEGIN:VEVENT
UID:63653135-6364-4864-a565-376565326231
DTSTAMP:20260422T205205Z
DESCRIPTION:21/81 Veselí n.M. - Val.Meziříčí 0:3 (-10\,-21\,-13)
DTSTART;TZID=Europe/Berlin:20250222T100000
DTEND;TZID=Europe/Berlin:20250222T120000
LOCATION:Církevní ZŠ Veselí nad Moravou\, Školní 698 Veselí nad Moravou
SUMMARY:ZLK-Z: Veselí n.M.-Val.Meziříčí
END:VEVENT
BEGIN:VEVENT
UID:66373865-6238-4061-a233-666265333166
DTSTAMP:20260422T205205Z
DESCRIPTION:22/85 Veselí n.M. - Val.Meziříčí 0:3 (-19\,-9\,-20)
DTSTART;TZID=Europe/Berlin:20250222T130000
DTEND;TZID=Europe/Berlin:20250222T150000
LOCATION:Církevní ZŠ Veselí nad Moravou\, Školní 698 Veselí nad Moravou
SUMMARY:ZLK-Z: Veselí n.M.-Val.Meziříčí
END:VEVENT
BEGIN:VEVENT
UID:38353638-3964-4632-b832-623932613865
DTSTAMP:20260422T205205Z
DESCRIPTION:3/6 Val.Meziříčí - Šlapanice 3:0 (17\,10\,12)
DTSTART;TZID=Europe/Berlin:20250427T120000
DTEND;TZID=Europe/Berlin:20250427T140000
LOCATION:Hala TJ Sokol Šlapanice\, Smetanova 1662 Šlapanice
SUMMARY:2-Z-KC: Val.Meziříčí-Šlapanice
END:VEVENT
BEGIN:VEVENT
UID:64303163-6131-4839-a163-303636653134
DTSTAMP:20260422T205205Z
DESCRIPTION:1/2 VŠB - TU Ostrava - Val.Meziříčí 0:3 (-21\,-17\,-11)
DTSTART;TZID=Europe/Berlin:20250426T120000
DTEND;TZID=Europe/Berlin:20250426T140000
LOCATION:Hala TJ Sokol Šlapanice\, Smetanova 1662 Šlapanice
SUMMARY:2-Z-KC: VŠB - TU Ostrava-Val.Meziříčí
END:VEVENT
BEGIN:VEVENT
UID:36653137-3964-4238-b032-393133396333
DTSTAMP:20260422T205205Z
DESCRIPTION:2/3 Újezd u Brna - Val.Meziříčí 0:3 (-7\,-19\,-20)
DTSTART;TZID=Europe/Berlin:20250426T150000
DTEND;TZID=Europe/Berlin:20250426T170000
LOCATION:Hala TJ Sokol Šlapanice\, Smetanova 1662 Šlapanice
SUMMARY:2-Z-KC: Újezd u Brna-Val.Meziříčí
END:VEVENT
END:VCALENDAR
