BEGIN:VCALENDAR
VERSION:2.0
PRODID:-//Volejbalový klub Choceň86253//NONSGML kigkonsult.se iCalcreator 2.41.80//
CALSCALE:GREGORIAN
UID:65386161-3134-4032-a539-323761333839
BEGIN:VEVENT
UID:30616334-3761-4365-b834-623639633166
DTSTAMP:20260421T215112Z
DESCRIPTION:1/2 VK Choceň - VK Litomyšl 2:0 (12\,6)\nZŠ Masarykova Polička
DTSTART;TZID=Europe/Berlin:20240914T090000
DTEND;TZID=Europe/Berlin:20240914T110000
LOCATION:Volejbalová hala \, U Koupaliště 1734 Choceň
SUMMARY:PA-U14Z-KVAL-B2: VK Choceň-VK Litomyšl
END:VEVENT
BEGIN:VEVENT
UID:37656365-3238-4236-a136-393935626362
DTSTAMP:20260421T215112Z
DESCRIPTION:1/3 VK Choceň - Spartak Polička A 2:1 (13\,-14\,7)\nZŠ Masaryko
 va Polička
DTSTART;TZID=Europe/Berlin:20240914T090000
DTEND;TZID=Europe/Berlin:20240914T110000
LOCATION:Volejbalová hala \, U Koupaliště 1734 Choceň
SUMMARY:PA-U14Z-KVAL-B2: VK Choceň-Spartak Polička A
END:VEVENT
BEGIN:VEVENT
UID:30353862-6366-4937-b935-663431383535
DTSTAMP:20260421T215112Z
DESCRIPTION:1/1 VK Choceň - Spartak Polička A 0:2 (-8\,-14)
DTSTART;TZID=Europe/Berlin:20241019T090000
DTEND;TZID=Europe/Berlin:20241019T110000
LOCATION:Volejbalová hala \, U Koupaliště 1734 Choceň
SUMMARY:PA-U14Z-A-1KOLO: VK Choceň-Spartak Polička A
END:VEVENT
BEGIN:VEVENT
UID:30386261-6262-4435-b466-363166313563
DTSTAMP:20260421T215112Z
DESCRIPTION:1/5 VK Choceň - VO TJ Lanškroun 0:2 (-11\,-14)
DTSTART;TZID=Europe/Berlin:20241019T090000
DTEND;TZID=Europe/Berlin:20241019T110000
LOCATION:Volejbalová hala \, U Koupaliště 1734 Choceň
SUMMARY:PA-U14Z-A-1KOLO: VK Choceň-VO TJ Lanškroun
END:VEVENT
BEGIN:VEVENT
UID:31386538-3838-4864-b536-656535616561
DTSTAMP:20260421T215112Z
DESCRIPTION:1/3 TJ Svitavy A - VK Choceň 2:0 (18\,13)
DTSTART;TZID=Europe/Berlin:20241019T090000
DTEND;TZID=Europe/Berlin:20241019T110000
LOCATION:Volejbalová hala \, U Koupaliště 1734 Choceň
SUMMARY:PA-U14Z-A-1KOLO: TJ Svitavy A-VK Choceň
END:VEVENT
BEGIN:VEVENT
UID:36383962-3765-4163-b566-353962353934
DTSTAMP:20260421T215112Z
DESCRIPTION:1/2 VK Choceň - Sokol Česká Třebová 2:0 (15\,21)
DTSTART;TZID=Europe/Berlin:20241116T090000
DTEND;TZID=Europe/Berlin:20241116T110000
LOCATION:Sportovní hala Na Střelnici\, Pražská 2162 Svitavy - Předměstí
SUMMARY:PA-U14Z-B-2KOLO: VK Choceň-Sokol Česká Třebová
END:VEVENT
BEGIN:VEVENT
UID:33663836-3133-4166-a337-613930653735
DTSTAMP:20260421T215112Z
DESCRIPTION:1/5 VK Choceň - TJ Slovan Moravská Třebová\, z.s. 2:1 (6\,-16\,
 15)
DTSTART;TZID=Europe/Berlin:20241116T090000
DTEND;TZID=Europe/Berlin:20241116T110000
LOCATION:Sportovní hala Na Střelnici\, Pražská 2162 Svitavy - Předměstí
SUMMARY:PA-U14Z-B-2KOLO: VK Choceň-TJ Slovan Moravská Třebová\, z.s.
END:VEVENT
BEGIN:VEVENT
UID:32336664-3066-4764-b833-376164393931
DTSTAMP:20260421T215112Z
DESCRIPTION:1/4 TJ Svitavy B - VK Choceň 0:2 (-10\,-12)\nPražská 2162 Svita
 vy - Předměstí
DTSTART;TZID=Europe/Berlin:20241116T090000
DTEND;TZID=Europe/Berlin:20241116T110000
LOCATION:Sportovní hala Na Střelnici\, Pražská 2162 Svitavy - Předměstí
SUMMARY:PA-U14Z-B-2KOLO: TJ Svitavy B-VK Choceň
END:VEVENT
BEGIN:VEVENT
UID:39336265-3539-4630-a434-306462303031
DTSTAMP:20260421T215112Z
DESCRIPTION:1/6 VK Choceň - VO TJ Lanškroun 0:2 (-24\,-11)
DTSTART;TZID=Europe/Berlin:20241130T090000
DTEND;TZID=Europe/Berlin:20241130T110000
LOCATION:Volejbalová hala \, U Koupaliště 1734 Choceň
SUMMARY:PA-U14Z-A-3KOLO: VK Choceň-VO TJ Lanškroun
END:VEVENT
BEGIN:VEVENT
UID:62623831-6461-4537-a261-313136333536
DTSTAMP:20260421T215112Z
DESCRIPTION:1/2 TJ Svitavy A - VK Choceň 2:0 (19\,11)
DTSTART;TZID=Europe/Berlin:20241130T090000
DTEND;TZID=Europe/Berlin:20241130T110000
LOCATION:Sportovní hala Na Střelnici\, Pražská 2162 Svitavy - Předměstí
SUMMARY:PA-U14Z-A-3KOLO: TJ Svitavy A-VK Choceň
END:VEVENT
BEGIN:VEVENT
UID:65333461-6631-4538-b731-326536363835
DTSTAMP:20260421T215112Z
DESCRIPTION:1/3 Spartak Polička A - VK Choceň 2:0 (10\,17)
DTSTART;TZID=Europe/Berlin:20241130T090000
DTEND;TZID=Europe/Berlin:20241130T110000
LOCATION:TJ Spartak Polička\, z.s. \, nábř. Svobody 447 Polička - Horní Pře
 dměstí
SUMMARY:PA-U14Z-A-3KOLO: Spartak Polička A-VK Choceň
END:VEVENT
BEGIN:VEVENT
UID:39383265-3436-4534-b864-653161393038
DTSTAMP:20260421T215112Z
DESCRIPTION:1/3 VK Choceň - Sokol Česká Třebová 2:0 (13\,24)
DTSTART;TZID=Europe/Berlin:20241207T090000
DTEND;TZID=Europe/Berlin:20241207T110000
LOCATION:tělocvična Základní školy\,  Dolní Újezd342
SUMMARY:PA-U14Z-B-4KOLO: VK Choceň-Sokol Česká Třebová
END:VEVENT
BEGIN:VEVENT
UID:37373961-3966-4638-b032-623963353935
DTSTAMP:20260421T215112Z
DESCRIPTION:1/1 Sokol Dolní Újezd - VK Choceň 0:2 (-20\,-11)
DTSTART;TZID=Europe/Berlin:20241207T090000
DTEND;TZID=Europe/Berlin:20241207T110000
LOCATION:tělocvična Základní školy\,  Dolní Újezd342
SUMMARY:PA-U14Z-B-4KOLO: Sokol Dolní Újezd-VK Choceň
END:VEVENT
BEGIN:VEVENT
UID:61633564-3463-4330-a363-333164376165
DTSTAMP:20260421T215112Z
DESCRIPTION:1/5 TJ Slovan Moravská Třebová\, z.s. - VK Choceň 0:2 (-7\,-7)
DTSTART;TZID=Europe/Berlin:20241207T090000
DTEND;TZID=Europe/Berlin:20241207T110000
LOCATION:tělocvična Základní školy\,  Dolní Újezd342
SUMMARY:PA-U14Z-B-4KOLO: TJ Slovan Moravská Třebová\, z.s.-VK Choceň
END:VEVENT
BEGIN:VEVENT
UID:37623666-6635-4737-b736-623161366238
DTSTAMP:20260421T215112Z
DESCRIPTION:1/3 VK Choceň - VO TJ Lanškroun 0:2 (-23\,-21)
DTSTART;TZID=Europe/Berlin:20250118T114000
DTEND;TZID=Europe/Berlin:20250118T134000
LOCATION:Sportovní hala Na Střelnici\, Pražská 2162 Svitavy - Předměstí
SUMMARY:PA-U14Z-A-5KOLO: VK Choceň-VO TJ Lanškroun
END:VEVENT
BEGIN:VEVENT
UID:33383131-3035-4236-a134-653936353435
DTSTAMP:20260421T215112Z
DESCRIPTION:1/2 TJ Svitavy A - VK Choceň 0:2 (-21\,-18)
DTSTART;TZID=Europe/Berlin:20250118T102000
DTEND;TZID=Europe/Berlin:20250118T122000
LOCATION:Sportovní hala Na Střelnici\, Pražská 2162 Svitavy - Předměstí
SUMMARY:PA-U14Z-A-5KOLO: TJ Svitavy A-VK Choceň
END:VEVENT
BEGIN:VEVENT
UID:66353838-3133-4531-a339-643038313834
DTSTAMP:20260421T215112Z
DESCRIPTION:1/5 Spartak Polička A - VK Choceň 2:0 (8\,12)
DTSTART;TZID=Europe/Berlin:20250118T142000
DTEND;TZID=Europe/Berlin:20250118T162000
LOCATION:Sportovní hala Na Střelnici\, Pražská 2162 Svitavy - Předměstí
SUMMARY:PA-U14Z-A-5KOLO: Spartak Polička A-VK Choceň
END:VEVENT
BEGIN:VEVENT
UID:35333461-3237-4239-a565-356362623064
DTSTAMP:20260421T215112Z
DESCRIPTION:1/2 VK Choceň - Spartak Polička A 1:2 (-10\,24\,-6)
DTSTART;TZID=Europe/Berlin:20250222T102000
DTEND;TZID=Europe/Berlin:20250222T122000
LOCATION:Tělocvična ZŠ\, Felberova 669 Svitavy - Lány
SUMMARY:PA-U14Z-A-6KOLO: VK Choceň-Spartak Polička A
END:VEVENT
BEGIN:VEVENT
UID:62303434-3861-4132-a439-353935646234
DTSTAMP:20260421T215112Z
DESCRIPTION:1/4 VK Choceň - TJ Svitavy A 2:1 (-13\,23\,7)
DTSTART;TZID=Europe/Berlin:20250222T130000
DTEND;TZID=Europe/Berlin:20250222T150000
LOCATION:Tělocvična ZŠ\, Felberova 669 Svitavy - Lány
SUMMARY:PA-U14Z-A-6KOLO: VK Choceň-TJ Svitavy A
END:VEVENT
BEGIN:VEVENT
UID:65643234-3962-4161-a436-396433353363
DTSTAMP:20260421T215112Z
DESCRIPTION:1/5 VK Choceň - Sokol Dolní Újezd 2:0 (24\,18)
DTSTART;TZID=Europe/Berlin:20250222T142000
DTEND;TZID=Europe/Berlin:20250222T162000
LOCATION:Tělocvična ZŠ\, Felberova 669 Svitavy - Lány
SUMMARY:PA-U14Z-A-6KOLO: VK Choceň-Sokol Dolní Újezd
END:VEVENT
BEGIN:VEVENT
UID:65616165-6532-4132-a161-623831643730
DTSTAMP:20260421T215112Z
DESCRIPTION:1/2 VK Choceň - VO TJ Lanškroun 0:2 (-11\,-7)\nZŠ Na Lukách
DTSTART;TZID=Europe/Berlin:20250301T090000
DTEND;TZID=Europe/Berlin:20250301T110000
LOCATION:Volejbalová hala \, U Koupaliště 1734 Choceň
SUMMARY:PA-U14Z-A-7KOLO: VK Choceň-VO TJ Lanškroun
END:VEVENT
BEGIN:VEVENT
UID:64306337-3030-4336-b231-386663313737
DTSTAMP:20260421T215112Z
DESCRIPTION:1/5 VK Choceň - TJ Svitavy A 0:2 (-18\,-21)\nZŠ Na Lukách
DTSTART;TZID=Europe/Berlin:20250301T000000
DTEND;TZID=Europe/Berlin:20250301T020000
LOCATION:Volejbalová hala \, U Koupaliště 1734 Choceň
SUMMARY:PA-U14Z-A-7KOLO: VK Choceň-TJ Svitavy A
END:VEVENT
BEGIN:VEVENT
UID:35653539-6534-4638-a362-653761353866
DTSTAMP:20260421T215112Z
DESCRIPTION:1/4 Spartak Polička A - VK Choceň 2:0 (13\,10)\nZŠ Na Lukách
DTSTART;TZID=Europe/Berlin:20250301T090000
DTEND;TZID=Europe/Berlin:20250301T110000
LOCATION:TJ Spartak Polička\, z.s. \, nábř. Svobody 447 Polička - Horní Pře
 dměstí
SUMMARY:PA-U14Z-A-7KOLO: Spartak Polička A-VK Choceň
END:VEVENT
BEGIN:VEVENT
UID:34326364-3938-4431-a364-626532316438
DTSTAMP:20260421T215112Z
DESCRIPTION:1/1 VK Choceň - VK Litomyšl 1:2 (16\,-14\,-7)\nSH Skalka ČT
DTSTART;TZID=Europe/Berlin:20250322T090000
DTEND;TZID=Europe/Berlin:20250322T110000
LOCATION:Hala VDA Skalka\, Skalka 1162 Česká Třebová
SUMMARY:PA-U14Z-B-8KOLO: VK Choceň-VK Litomyšl
END:VEVENT
BEGIN:VEVENT
UID:31346633-3162-4038-b436-393265633666
DTSTAMP:20260421T215112Z
DESCRIPTION:1/4 VK Choceň - TJ Svitavy B 2:1 (-22\,20\,12)\nSH Skalka ČT
DTSTART;TZID=Europe/Berlin:20250322T100000
DTEND;TZID=Europe/Berlin:20250322T120000
LOCATION:Hala VDA Skalka\, Skalka 1162 Česká Třebová
SUMMARY:PA-U14Z-B-8KOLO: VK Choceň-TJ Svitavy B
END:VEVENT
BEGIN:VEVENT
UID:31646334-3734-4564-b165-333231333038
DTSTAMP:20260421T215112Z
DESCRIPTION:1/6 Sokol Česká Třebová - VK Choceň 1:2 (22\,-23\,-7)\nSH Skalk
 a ČT
DTSTART;TZID=Europe/Berlin:20250322T110000
DTEND;TZID=Europe/Berlin:20250322T130000
LOCATION:Hala VDA Skalka\, Skalka 1162 Česká Třebová
SUMMARY:PA-U14Z-B-8KOLO: Sokol Česká Třebová-VK Choceň
END:VEVENT
BEGIN:VEVENT
UID:65323437-6466-4537-b633-333865323231
DTSTAMP:20260421T215112Z
DESCRIPTION:2/5 VK Choceň - Nové Veselí 0:2 (-3\,-9)
DTSTART;TZID=Europe/Berlin:20250329T104500
DTEND;TZID=Europe/Berlin:20250329T124500
LOCATION:Volejbalová hala \, U Koupaliště 1734 Choceň
SUMMARY:MCR-U14Z-1D: VK Choceň-Nové Veselí
END:VEVENT
BEGIN:VEVENT
UID:34323533-3930-4762-b632-656636636462
DTSTAMP:20260421T215112Z
DESCRIPTION:5/13 VK Choceň - VK Královo Pole 0:2 (-17\,-11)
DTSTART;TZID=Europe/Berlin:20250329T143000
DTEND;TZID=Europe/Berlin:20250329T163000
LOCATION:Volejbalová hala \, U Koupaliště 1734 Choceň
SUMMARY:MCR-U14Z-1D: VK Choceň-VK Královo Pole
END:VEVENT
BEGIN:VEVENT
UID:65303766-6437-4430-b162-313736653864
DTSTAMP:20260421T215112Z
DESCRIPTION:8/20 VK Choceň - TJ Svitavy 0:2 (-8\,-11)
DTSTART;TZID=Europe/Berlin:20250330T104500
DTEND;TZID=Europe/Berlin:20250330T124500
LOCATION:Volejbalová hala \, U Koupaliště 1734 Choceň
SUMMARY:MCR-U14Z-1D: VK Choceň-TJ Svitavy
END:VEVENT
BEGIN:VEVENT
UID:30396438-6139-4562-b631-306633623661
DTSTAMP:20260421T215112Z
DESCRIPTION:9/24 VK Choceň - SVK Nový Jičín 0:2 (-13\,-15)
DTSTART;TZID=Europe/Berlin:20250330T120000
DTEND;TZID=Europe/Berlin:20250330T140000
LOCATION:Volejbalová hala \, U Koupaliště 1734 Choceň
SUMMARY:MCR-U14Z-1D: VK Choceň-SVK Nový Jičín
END:VEVENT
BEGIN:VEVENT
UID:63643036-3563-4436-a337-396538306334
DTSTAMP:20260421T215112Z
DESCRIPTION:1/1 TJ Sokol Dolní Újezd - VK Choceň 1:2 (20\,-15\,-13)
DTSTART;TZID=Europe/Berlin:20250329T093000
DTEND;TZID=Europe/Berlin:20250329T113000
LOCATION:tělocvična Základní školy\,  Dolní Újezd342
SUMMARY:MCR-U14Z-1D: TJ Sokol Dolní Újezd-VK Choceň
END:VEVENT
BEGIN:VEVENT
UID:34666631-6237-4662-a132-333931363863
DTSTAMP:20260421T215112Z
DESCRIPTION:3/8 VK Prostějov A - VK Choceň 2:0 (6\,3)
DTSTART;TZID=Europe/Berlin:20250329T120000
DTEND;TZID=Europe/Berlin:20250329T140000
LOCATION:Letní hala u zimního stadionu\, Kostelecká 3113 Prostějov
SUMMARY:MCR-U14Z-1D: VK Prostějov A-VK Choceň
END:VEVENT
BEGIN:VEVENT
UID:33653130-3763-4534-a563-363835353431
DTSTAMP:20260421T215112Z
DESCRIPTION:10/28 TJ Slovácká Slavia U. Hradiště - VK Choceň 2:0 (20\,9)
DTSTART;TZID=Europe/Berlin:20250330T131500
DTEND;TZID=Europe/Berlin:20250330T151500
LOCATION:Městská sportovní hala\, Stonky 860 Uherské Hradiště
SUMMARY:MCR-U14Z-1D: TJ Slovácká Slavia U. Hradiště-VK Choceň
END:VEVENT
END:VCALENDAR
