BEGIN:VCALENDAR
VERSION:2.0
PRODID:-//TJ Pardubičky, z.s.86265//NONSGML kigkonsult.se iCalcreator 2.41.80//
CALSCALE:GREGORIAN
UID:36366234-6261-4532-b135-353639653666
BEGIN:VEVENT
UID:39343933-3434-4038-a264-626235623034
DTSTAMP:20260422T014819Z
DESCRIPTION:5/18 TJ Pardubičky\, z.s. - TJ Svitavy 0:3 (-24\,-17\,-16)
DTSTART;TZID=Europe/Berlin:20241012T100000
DTEND;TZID=Europe/Berlin:20241012T120000
LOCATION:Tělocvična TJ Pardubičky\, Bokova 364 Pardubice - Pardubičky
SUMMARY:PA-U20Z-U18Z: TJ Pardubičky\, z.s.-TJ Svitavy
END:VEVENT
BEGIN:VEVENT
UID:61633537-3135-4437-b466-376331316663
DTSTAMP:20260422T014819Z
DESCRIPTION:6/22 TJ Pardubičky\, z.s. - TJ Svitavy 0:3 (-18\,-21\,-27)
DTSTART;TZID=Europe/Berlin:20241012T130000
DTEND;TZID=Europe/Berlin:20241012T150000
LOCATION:Tělocvična TJ Pardubičky\, Bokova 364 Pardubice - Pardubičky
SUMMARY:PA-U20Z-U18Z: TJ Pardubičky\, z.s.-TJ Svitavy
END:VEVENT
BEGIN:VEVENT
UID:61643832-3464-4363-b538-363566356631
DTSTAMP:20260422T014819Z
DESCRIPTION:9/33 TJ Pardubičky\, z.s. - Sokol Česká Třebová. U18 0:3 (-19\,
 -21\,-21)
DTSTART;TZID=Europe/Berlin:20241123T100000
DTEND;TZID=Europe/Berlin:20241123T120000
LOCATION:Tělocvična TJ Pardubičky\, Bokova 364 Pardubice - Pardubičky
SUMMARY:PA-U20Z-U18Z: TJ Pardubičky\, z.s.-Sokol Česká Třebová. U18
END:VEVENT
BEGIN:VEVENT
UID:36353636-6532-4363-a532-396663363739
DTSTAMP:20260422T014819Z
DESCRIPTION:10/37 TJ Pardubičky\, z.s. - Sokol Česká Třebová. U18 1:3 (-19\
 ,-26\,21\,-15)
DTSTART;TZID=Europe/Berlin:20241123T130000
DTEND;TZID=Europe/Berlin:20241123T150000
LOCATION:Tělocvična TJ Pardubičky\, Bokova 364 Pardubice - Pardubičky
SUMMARY:PA-U20Z-U18Z: TJ Pardubičky\, z.s.-Sokol Česká Třebová. U18
END:VEVENT
BEGIN:VEVENT
UID:37333532-3162-4363-b464-633138613935
DTSTAMP:20260422T014819Z
DESCRIPTION:11/44 TJ Pardubičky\, z.s. - Orel Letohrad 0:3 (-10\,-9\,-16)
DTSTART;TZID=Europe/Berlin:20241130T100000
DTEND;TZID=Europe/Berlin:20241130T120000
LOCATION:Tělocvična TJ Pardubičky\, Bokova 364 Pardubice - Pardubičky
SUMMARY:PA-U20Z-U18Z: TJ Pardubičky\, z.s.-Orel Letohrad
END:VEVENT
BEGIN:VEVENT
UID:64316435-3030-4761-b966-383563613331
DTSTAMP:20260422T014819Z
DESCRIPTION:12/48 TJ Pardubičky\, z.s. - Orel Letohrad 0:3 (-9\,-14\,-11)
DTSTART;TZID=Europe/Berlin:20241130T130000
DTEND;TZID=Europe/Berlin:20241130T150000
LOCATION:Tělocvična TJ Pardubičky\, Bokova 364 Pardubice - Pardubičky
SUMMARY:PA-U20Z-U18Z: TJ Pardubičky\, z.s.-Orel Letohrad
END:VEVENT
BEGIN:VEVENT
UID:65626266-6435-4137-b865-613266373666
DTSTAMP:20260422T014819Z
DESCRIPTION:17/67 TJ Pardubičky\, z.s. - Energetik Chvaletice\, U20 0:3 (-2
 4\,-20\,-21)
DTSTART;TZID=Europe/Berlin:20250118T100000
DTEND;TZID=Europe/Berlin:20250118T120000
LOCATION:Tělocvična TJ Pardubičky\, Bokova 364 Pardubice - Pardubičky
SUMMARY:PA-U20Z-U18Z: TJ Pardubičky\, z.s.-Energetik Chvaletice\, U20
END:VEVENT
BEGIN:VEVENT
UID:38366233-6563-4265-b733-363937343466
DTSTAMP:20260422T014819Z
DESCRIPTION:18/71 TJ Pardubičky\, z.s. - Energetik Chvaletice\, U20 3:2 (-1
 8\,-24\,26\,15\,7)
DTSTART;TZID=Europe/Berlin:20250118T130000
DTEND;TZID=Europe/Berlin:20250118T150000
LOCATION:Tělocvična TJ Pardubičky\, Bokova 364 Pardubice - Pardubičky
SUMMARY:PA-U20Z-U18Z: TJ Pardubičky\, z.s.-Energetik Chvaletice\, U20
END:VEVENT
BEGIN:VEVENT
UID:33323863-3162-4437-b333-653832636630
DTSTAMP:20260422T014819Z
DESCRIPTION:21/84 TJ Pardubičky\, z.s. - Volejbalový klub Choceň\, z.s. 0:3
  (-18\,-15\,-16)
DTSTART;TZID=Europe/Berlin:20250215T100000
DTEND;TZID=Europe/Berlin:20250215T120000
LOCATION:Tělocvična TJ Pardubičky\, Bokova 364 Pardubice - Pardubičky
SUMMARY:PA-U20Z-U18Z: TJ Pardubičky\, z.s.-Volejbalový klub Choceň\, z.s.
END:VEVENT
BEGIN:VEVENT
UID:32366638-6630-4232-b832-333463663734
DTSTAMP:20260422T014819Z
DESCRIPTION:22/88 TJ Pardubičky\, z.s. - Volejbalový klub Choceň\, z.s. 0:3
  (-19\,-7\,-15)
DTSTART;TZID=Europe/Berlin:20250215T130000
DTEND;TZID=Europe/Berlin:20250215T150000
LOCATION:Tělocvična TJ Pardubičky\, Bokova 364 Pardubice - Pardubičky
SUMMARY:PA-U20Z-U18Z: TJ Pardubičky\, z.s.-Volejbalový klub Choceň\, z.s.
END:VEVENT
BEGIN:VEVENT
UID:35343033-3366-4930-b461-303336616437
DTSTAMP:20260422T014819Z
DESCRIPTION:27/106 TJ Pardubičky\, z.s. - Slovan Moravská Třebová 1:3 (21\,
 -16\,-24\,-20)
DTSTART;TZID=Europe/Berlin:20250329T100000
DTEND;TZID=Europe/Berlin:20250329T120000
LOCATION:Tělocvična TJ Pardubičky\, Bokova 364 Pardubice - Pardubičky
SUMMARY:PA-U20Z-U18Z: TJ Pardubičky\, z.s.-Slovan Moravská Třebová
END:VEVENT
BEGIN:VEVENT
UID:39646461-3533-4338-a661-346661646133
DTSTAMP:20260422T014819Z
DESCRIPTION:28/110 TJ Pardubičky\, z.s. - Slovan Moravská Třebová 3:0 (23\,
 17\,17)
DTSTART;TZID=Europe/Berlin:20250329T130000
DTEND;TZID=Europe/Berlin:20250329T150000
LOCATION:Tělocvična TJ Pardubičky\, Bokova 364 Pardubice - Pardubičky
SUMMARY:PA-U20Z-U18Z: TJ Pardubičky\, z.s.-Slovan Moravská Třebová
END:VEVENT
BEGIN:VEVENT
UID:38663231-3830-4635-a662-353432633230
DTSTAMP:20260422T014819Z
DESCRIPTION:3/11 Energetik Chvaletice\, U20 - TJ Pardubičky\, z.s. 3:1 (-26
 \,21\,22\,12)
DTSTART;TZID=Europe/Berlin:20241005T100000
DTEND;TZID=Europe/Berlin:20241005T120000
LOCATION:ZŠ Chvaletice\, Spojovací 431 Chvaletice
SUMMARY:PA-U20Z-U18Z: Energetik Chvaletice\, U20-TJ Pardubičky\, z.s.
END:VEVENT
BEGIN:VEVENT
UID:33666432-6237-4163-b463-656234623434
DTSTAMP:20260422T014819Z
DESCRIPTION:4/15 Energetik Chvaletice\, U20 - TJ Pardubičky\, z.s. 1:3 (-11
 \,23\,-18\,-12)
DTSTART;TZID=Europe/Berlin:20241005T130000
DTEND;TZID=Europe/Berlin:20241005T150000
LOCATION:ZŠ Chvaletice\, Spojovací 431 Chvaletice
SUMMARY:PA-U20Z-U18Z: Energetik Chvaletice\, U20-TJ Pardubičky\, z.s.
END:VEVENT
BEGIN:VEVENT
UID:66653932-3439-4432-b262-663636363132
DTSTAMP:20260422T014819Z
DESCRIPTION:7/28 Volejbalový klub Choceň\, z.s. - TJ Pardubičky\, z.s. 3:0 
 (9\,5\,16)
DTSTART;TZID=Europe/Berlin:20241109T100000
DTEND;TZID=Europe/Berlin:20241109T120000
LOCATION:Volejbalová hala \, U Koupaliště 1734 Choceň
SUMMARY:PA-U20Z-U18Z: Volejbalový klub Choceň\, z.s.-TJ Pardubičky\, z.s.
END:VEVENT
BEGIN:VEVENT
UID:62636565-3236-4264-a434-636430656462
DTSTAMP:20260422T014819Z
DESCRIPTION:8/32 Volejbalový klub Choceň\, z.s. - TJ Pardubičky\, z.s. 3:0 
 (13\,8\,15)
DTSTART;TZID=Europe/Berlin:20241109T130000
DTEND;TZID=Europe/Berlin:20241109T150000
LOCATION:Volejbalová hala \, U Koupaliště 1734 Choceň
SUMMARY:PA-U20Z-U18Z: Volejbalový klub Choceň\, z.s.-TJ Pardubičky\, z.s.
END:VEVENT
BEGIN:VEVENT
UID:65663264-6432-4766-b130-346530623063
DTSTAMP:20260422T014819Z
DESCRIPTION:13/50 Slovan Moravská Třebová - TJ Pardubičky\, z.s. 3:0 (10\,1
 6\,14)
DTSTART;TZID=Europe/Berlin:20241207T100000
DTEND;TZID=Europe/Berlin:20241207T120000
LOCATION:Sportovní hala SOŠ OU\, J. K. Tyla 1275 Moravská Třebová - Předměs
 tí
SUMMARY:PA-U20Z-U18Z: Slovan Moravská Třebová-TJ Pardubičky\, z.s.
END:VEVENT
BEGIN:VEVENT
UID:32396633-6433-4839-b866-633765646439
DTSTAMP:20260422T014819Z
DESCRIPTION:14/54 Slovan Moravská Třebová - TJ Pardubičky\, z.s. 3:0 (11\,2
 0\,16)
DTSTART;TZID=Europe/Berlin:20241207T130000
DTEND;TZID=Europe/Berlin:20241207T150000
LOCATION:Sportovní hala SOŠ OU\, J. K. Tyla 1275 Moravská Třebová - Předměs
 tí
SUMMARY:PA-U20Z-U18Z: Slovan Moravská Třebová-TJ Pardubičky\, z.s.
END:VEVENT
BEGIN:VEVENT
UID:66613035-6464-4763-a636-623462326239
DTSTAMP:20260422T014819Z
DESCRIPTION:19/74 TJ Svitavy - TJ Pardubičky\, z.s. 3:0 (21\,23\,17)
DTSTART;TZID=Europe/Berlin:20250125T100000
DTEND;TZID=Europe/Berlin:20250125T120000
LOCATION:Tělocvična ZŠ\, Felberova 669 Svitavy - Lány
SUMMARY:PA-U20Z-U18Z: TJ Svitavy-TJ Pardubičky\, z.s.
END:VEVENT
BEGIN:VEVENT
UID:35353266-3865-4237-b539-616166353530
DTSTAMP:20260422T014819Z
DESCRIPTION:20/78 TJ Svitavy - TJ Pardubičky\, z.s. 3:1 (18\,21\,-19\,24)
DTSTART;TZID=Europe/Berlin:20250125T130000
DTEND;TZID=Europe/Berlin:20250125T150000
LOCATION:Tělocvična ZŠ\, Felberova 669 Svitavy - Lány
SUMMARY:PA-U20Z-U18Z: TJ Svitavy-TJ Pardubičky\, z.s.
END:VEVENT
BEGIN:VEVENT
UID:37623132-3235-4738-b134-373236393633
DTSTAMP:20260422T014819Z
DESCRIPTION:23/89 Sokol Česká Třebová. U18 - TJ Pardubičky\, z.s. 3:0 (19\,
 19\,21)
DTSTART;TZID=Europe/Berlin:20250301T100000
DTEND;TZID=Europe/Berlin:20250301T120000
LOCATION:Základní škola Česká Třebová Habrmanova\, Na Skále\, Na Skále 566 
 Česká Třebová
SUMMARY:PA-U20Z-U18Z: Sokol Česká Třebová. U18-TJ Pardubičky\, z.s.
END:VEVENT
BEGIN:VEVENT
UID:61643333-6336-4030-a132-666530346333
DTSTAMP:20260422T014819Z
DESCRIPTION:24/93 Sokol Česká Třebová. U18 - TJ Pardubičky\, z.s. 3:1 (15\,
 -22\,19\,25)
DTSTART;TZID=Europe/Berlin:20250301T130000
DTEND;TZID=Europe/Berlin:20250301T150000
LOCATION:Základní škola Česká Třebová Habrmanova\, Na Skále\, Na Skále 566 
 Česká Třebová
SUMMARY:PA-U20Z-U18Z: Sokol Česká Třebová. U18-TJ Pardubičky\, z.s.
END:VEVENT
BEGIN:VEVENT
UID:32653239-3439-4665-a361-626236376265
DTSTAMP:20260422T014819Z
DESCRIPTION:25/100 Orel Letohrad - TJ Pardubičky\, z.s. 3:0 (11\,12\,21)
DTSTART;TZID=Europe/Berlin:20250315T090000
DTEND;TZID=Europe/Berlin:20250315T110000
LOCATION:ZŠ U Dvora\, U Dvora 663 Letohrad
SUMMARY:PA-U20Z-U18Z: Orel Letohrad-TJ Pardubičky\, z.s.
END:VEVENT
BEGIN:VEVENT
UID:65656261-6639-4633-b865-393061363637
DTSTAMP:20260422T014819Z
DESCRIPTION:26/104 Orel Letohrad - TJ Pardubičky\, z.s. 3:0 (16\,20\,15)
DTSTART;TZID=Europe/Berlin:20250315T120000
DTEND;TZID=Europe/Berlin:20250315T140000
LOCATION:ZŠ U Dvora\, U Dvora 663 Letohrad
SUMMARY:PA-U20Z-U18Z: Orel Letohrad-TJ Pardubičky\, z.s.
END:VEVENT
END:VCALENDAR
