BEGIN:VCALENDAR
VERSION:2.0
PRODID:-//Slavia Hradec Králové A86298//NONSGML kigkonsult.se iCalcreator 2.41.80//
CALSCALE:GREGORIAN
UID:34313936-3835-4339-b562-663261383932
BEGIN:VEVENT
UID:63663261-6361-4631-b937-633930636135
DTSTAMP:20260421T192717Z
DESCRIPTION:1/5 Slavia H.Králové A - Sokol Chlumec 2:0 (10\,6)
DTSTART;TZID=Europe/Berlin:20240915T090000
DTEND;TZID=Europe/Berlin:20240915T110000
LOCATION:TJ Slavia Hradec Králové\, Víta Nejedlého 1216 Hradec Králové
SUMMARY:HK-U16Z-A: Slavia H.Králové A-Sokol Chlumec
END:VEVENT
BEGIN:VEVENT
UID:34346333-3038-4732-b539-396335393333
DTSTAMP:20260421T192717Z
DESCRIPTION:1/6 Slavia H.Králové A - TJ Jičín 2:0 (19\,18)
DTSTART;TZID=Europe/Berlin:20240915T090000
DTEND;TZID=Europe/Berlin:20240915T110000
LOCATION:TJ Slavia Hradec Králové\, Víta Nejedlého 1216 Hradec Králové
SUMMARY:HK-U16Z-A: Slavia H.Králové A-TJ Jičín
END:VEVENT
BEGIN:VEVENT
UID:35643530-3962-4861-a164-653536663835
DTSTAMP:20260421T192717Z
DESCRIPTION:2/8 Slavia H.Králové A - Sokol Chlumec 2:0 (10\,22)
DTSTART;TZID=Europe/Berlin:20240929T090000
DTEND;TZID=Europe/Berlin:20240929T110000
LOCATION:TJ Slavia Hradec Králové\, Víta Nejedlého 1216 Hradec Králové
SUMMARY:HK-U16Z-A: Slavia H.Králové A-Sokol Chlumec
END:VEVENT
BEGIN:VEVENT
UID:36646337-6235-4432-a164-363834316532
DTSTAMP:20260421T192717Z
DESCRIPTION:2/12 Slavia H.Králové A - TJ Jičín 2:0 (7\,19)
DTSTART;TZID=Europe/Berlin:20240929T090000
DTEND;TZID=Europe/Berlin:20240929T110000
LOCATION:TJ Slavia Hradec Králové\, Víta Nejedlého 1216 Hradec Králové
SUMMARY:HK-U16Z-A: Slavia H.Králové A-TJ Jičín
END:VEVENT
BEGIN:VEVENT
UID:33613766-6433-4632-a262-353861343762
DTSTAMP:20260421T192717Z
DESCRIPTION:3/13 Slavia H.Králové A - TJ Jičín 2:0 (15\,10)\npoř: Slavia HK
DTSTART;TZID=Europe/Berlin:20241013T090000
DTEND;TZID=Europe/Berlin:20241013T110000
LOCATION:TJ Slavia Hradec Králové\, Víta Nejedlého 1216 Hradec Králové
SUMMARY:HK-U16Z-A: Slavia H.Králové A-TJ Jičín
END:VEVENT
BEGIN:VEVENT
UID:35353234-6138-4563-a161-653031323333
DTSTAMP:20260421T192717Z
DESCRIPTION:3/14 Slavia H.Králové A - Sokol Chlumec 2:0 (13\,14)
DTSTART;TZID=Europe/Berlin:20241013T090000
DTEND;TZID=Europe/Berlin:20241013T110000
LOCATION:TJ Slavia Hradec Králové\, Víta Nejedlého 1216 Hradec Králové
SUMMARY:HK-U16Z-A: Slavia H.Králové A-Sokol Chlumec
END:VEVENT
BEGIN:VEVENT
UID:33623732-3133-4161-a566-613738343034
DTSTAMP:20260421T192717Z
DESCRIPTION:4/23 Slavia H.Králové A - TJ Jičín 2:0 (14\,14)
DTSTART;TZID=Europe/Berlin:20241027T140000
DTEND;TZID=Europe/Berlin:20241027T160000
LOCATION:TJ Slavia Hradec Králové\, Víta Nejedlého 1216 Hradec Králové
SUMMARY:HK-U16Z-A: Slavia H.Králové A-TJ Jičín
END:VEVENT
BEGIN:VEVENT
UID:66636137-6164-4430-a165-383736366534
DTSTAMP:20260421T192717Z
DESCRIPTION:1/4 Nová Paka A - Slavia H.Králové A 0:2 (-22\,-17)
DTSTART;TZID=Europe/Berlin:20240915T090000
DTEND;TZID=Europe/Berlin:20240915T110000
LOCATION:ZŠ Husitská\, O. Číly 1933 Nová Paka
SUMMARY:HK-U16Z-A: Nová Paka A-Slavia H.Králové A
END:VEVENT
BEGIN:VEVENT
UID:61643336-3261-4361-b566-633631326131
DTSTAMP:20260421T192717Z
DESCRIPTION:2/10 Nová Paka A - Slavia H.Králové A 0:2 (-22\,-15)
DTSTART;TZID=Europe/Berlin:20240929T090000
DTEND;TZID=Europe/Berlin:20240929T110000
LOCATION:ZŠ Husitská\, O. Číly 1933 Nová Paka
SUMMARY:HK-U16Z-A: Nová Paka A-Slavia H.Králové A
END:VEVENT
BEGIN:VEVENT
UID:63646134-6634-4465-b162-666465623537
DTSTAMP:20260421T192717Z
DESCRIPTION:3/16 Nová Paka A - Slavia H.Králové A 0:2 (-7\,-13)
DTSTART;TZID=Europe/Berlin:20241013T090000
DTEND;TZID=Europe/Berlin:20241013T110000
LOCATION:ZŠ Husitská\, O. Číly 1933 Nová Paka
SUMMARY:HK-U16Z-A: Nová Paka A-Slavia H.Králové A
END:VEVENT
BEGIN:VEVENT
UID:36633730-3561-4539-b863-323266646633
DTSTAMP:20260421T192717Z
DESCRIPTION:4/20 Sokol Chlumec - Slavia H.Králové A 0:2 (-6\,-10)
DTSTART;TZID=Europe/Berlin:20241027T100000
DTEND;TZID=Europe/Berlin:20241027T120000
LOCATION:Slavíčkova hala\, Sokolská 795 Chlumec nad Cidlinou - Chlumec nad 
 Cidlinou IV
SUMMARY:HK-U16Z-A: Sokol Chlumec-Slavia H.Králové A
END:VEVENT
BEGIN:VEVENT
UID:64636334-6339-4866-b734-323937666634
DTSTAMP:20260421T192717Z
DESCRIPTION:4/22 Nová Paka A - Slavia H.Králové A 0:2 (-13\,-10)
DTSTART;TZID=Europe/Berlin:20241027T110000
DTEND;TZID=Europe/Berlin:20241027T130000
LOCATION:ZŠ Husitská\, O. Číly 1933 Nová Paka
SUMMARY:HK-U16Z-A: Nová Paka A-Slavia H.Králové A
END:VEVENT
BEGIN:VEVENT
UID:34366366-3731-4363-b439-333066336434
DTSTAMP:20260421T192717Z
DESCRIPTION:1/3 Slavia H.Králové A - Třebechovice 2:0 (8\,14)
DTSTART;TZID=Europe/Berlin:20241110T110000
DTEND;TZID=Europe/Berlin:20241110T130000
LOCATION:TJ Slavia Hradec Králové\, Víta Nejedlého 1216 Hradec Králové
SUMMARY:HK-U16Z-SA: Slavia H.Králové A-Třebechovice
END:VEVENT
BEGIN:VEVENT
UID:31356236-6130-4636-b866-623166646439
DTSTAMP:20260421T192717Z
DESCRIPTION:2/9 Slavia H.Králové A - Třebechovice 2:0 (14\,10)
DTSTART;TZID=Europe/Berlin:20241201T110000
DTEND;TZID=Europe/Berlin:20241201T130000
LOCATION:TJ Slavia Hradec Králové\, Víta Nejedlého 1216 Hradec Králové
SUMMARY:HK-U16Z-SA: Slavia H.Králové A-Třebechovice
END:VEVENT
BEGIN:VEVENT
UID:62386362-6639-4230-b130-653965356663
DTSTAMP:20260421T192717Z
DESCRIPTION:3/15 Slavia H.Králové A - Třebechovice 2:0 (14\,9)
DTSTART;TZID=Europe/Berlin:20241215T090000
DTEND;TZID=Europe/Berlin:20241215T110000
LOCATION:TJ Slavia Hradec Králové\, Víta Nejedlého 1216 Hradec Králové
SUMMARY:HK-U16Z-SA: Slavia H.Králové A-Třebechovice
END:VEVENT
BEGIN:VEVENT
UID:38663739-3631-4435-b661-343365623835
DTSTAMP:20260421T192717Z
DESCRIPTION:4/19 Slavia H.Králové A - RÉMA B 2:0 (12\,10)\npořadatel: Slavi
 a HK
DTSTART;TZID=Europe/Berlin:20250112T090000
DTEND;TZID=Europe/Berlin:20250112T110000
LOCATION:TJ Slavia Hradec Králové\, Víta Nejedlého 1216 Hradec Králové
SUMMARY:HK-U16Z-SA: Slavia H.Králové A-RÉMA B
END:VEVENT
BEGIN:VEVENT
UID:61383031-3838-4338-a138-386162666133
DTSTAMP:20260421T192717Z
DESCRIPTION:4/21 Slavia H.Králové A - Třebechovice 2:0 (9\,12)
DTSTART;TZID=Europe/Berlin:20250112T090000
DTEND;TZID=Europe/Berlin:20250112T110000
LOCATION:TJ Slavia Hradec Králové\, Víta Nejedlého 1216 Hradec Králové
SUMMARY:HK-U16Z-SA: Slavia H.Králové A-Třebechovice
END:VEVENT
BEGIN:VEVENT
UID:31303535-6134-4534-b466-333564643938
DTSTAMP:20260421T192717Z
DESCRIPTION:1/1 RÉMA B - Slavia H.Králové A 0:2 (-13\,-12)\npoř: RÉMA RK
DTSTART;TZID=Europe/Berlin:20241110T090000
DTEND;TZID=Europe/Berlin:20241110T110000
LOCATION:Hala VOŠ a SPŠS\, U Stadionu 1166 Rychnov nad Kněžnou
SUMMARY:HK-U16Z-SA: RÉMA B-Slavia H.Králové A
END:VEVENT
BEGIN:VEVENT
UID:32666334-6338-4439-a363-356634613233
DTSTAMP:20260421T192717Z
DESCRIPTION:1/5 VK Hronov - Slavia H.Králové A 1:2 (-22\,16\,-10)
DTSTART;TZID=Europe/Berlin:20241110T130000
DTEND;TZID=Europe/Berlin:20241110T150000
LOCATION:ZŠ Hronov\, Palackého 162 Hronov
SUMMARY:HK-U16Z-SA: VK Hronov-Slavia H.Králové A
END:VEVENT
BEGIN:VEVENT
UID:33366635-3461-4534-b736-346436653439
DTSTAMP:20260421T192717Z
DESCRIPTION:2/8 RÉMA B - Slavia H.Králové A 0:2 (-16\,-18)
DTSTART;TZID=Europe/Berlin:20241201T100000
DTEND;TZID=Europe/Berlin:20241201T120000
LOCATION:Hala VOŠ a SPŠS\, U Stadionu 1166 Rychnov nad Kněžnou
SUMMARY:HK-U16Z-SA: RÉMA B-Slavia H.Králové A
END:VEVENT
BEGIN:VEVENT
UID:37613236-3632-4538-b834-643330623063
DTSTAMP:20260421T192717Z
DESCRIPTION:2/11 VK Hronov - Slavia H.Králové A 0:2 (-20\,-19)
DTSTART;TZID=Europe/Berlin:20241201T140000
DTEND;TZID=Europe/Berlin:20241201T160000
LOCATION:ZŠ Hronov\, Palackého 162 Hronov
SUMMARY:HK-U16Z-SA: VK Hronov-Slavia H.Králové A
END:VEVENT
BEGIN:VEVENT
UID:63633965-3963-4336-a438-363935393532
DTSTAMP:20260421T192717Z
DESCRIPTION:3/14 RÉMA B - Slavia H.Králové A 0:2 (-12\,-5)
DTSTART;TZID=Europe/Berlin:20241215T090000
DTEND;TZID=Europe/Berlin:20241215T110000
LOCATION:Hala VOŠ a SPŠS\, U Stadionu 1166 Rychnov nad Kněžnou
SUMMARY:HK-U16Z-SA: RÉMA B-Slavia H.Králové A
END:VEVENT
BEGIN:VEVENT
UID:66323533-6665-4531-b864-623562613139
DTSTAMP:20260421T192717Z
DESCRIPTION:3/18 VK Hronov - Slavia H.Králové A 0:2 (-13\,-10)
DTSTART;TZID=Europe/Berlin:20241215T090000
DTEND;TZID=Europe/Berlin:20241215T110000
LOCATION:ZŠ Hronov\, Palackého 162 Hronov
SUMMARY:HK-U16Z-SA: VK Hronov-Slavia H.Králové A
END:VEVENT
BEGIN:VEVENT
UID:34353932-3630-4561-b038-613865636132
DTSTAMP:20260421T192717Z
DESCRIPTION:4/24 VK Hronov - Slavia H.Králové A 0:2 (-9\,-13)
DTSTART;TZID=Europe/Berlin:20250112T090000
DTEND;TZID=Europe/Berlin:20250112T110000
LOCATION:ZŠ Hronov\, Palackého 162 Hronov
SUMMARY:HK-U16Z-SA: VK Hronov-Slavia H.Králové A
END:VEVENT
BEGIN:VEVENT
UID:65323865-3865-4130-a234-343066356261
DTSTAMP:20260421T192717Z
DESCRIPTION:1/1 Slavia H.Králové A - Baník Rtyně 2:0 (16\,13)\npořadatel: S
 lavia HK
DTSTART;TZID=Europe/Berlin:20250119T090000
DTEND;TZID=Europe/Berlin:20250119T110000
LOCATION:TJ Slavia Hradec Králové\, Víta Nejedlého 1216 Hradec Králové
SUMMARY:HK-U16Z-FA: Slavia H.Králové A-Baník Rtyně
END:VEVENT
BEGIN:VEVENT
UID:66663064-3462-4864-b664-336134333739
DTSTAMP:20260421T192717Z
DESCRIPTION:1/6 Slavia H.Králové A - VoCe 2:0 (17\,11)
DTSTART;TZID=Europe/Berlin:20250119T090000
DTEND;TZID=Europe/Berlin:20250119T110000
LOCATION:TJ Slavia Hradec Králové\, Víta Nejedlého 1216 Hradec Králové
SUMMARY:HK-U16Z-FA: Slavia H.Králové A-VoCe
END:VEVENT
BEGIN:VEVENT
UID:37643730-6466-4539-a138-623136313237
DTSTAMP:20260421T192717Z
DESCRIPTION:2/8 Slavia H.Králové A - Baník Rtyně 2:0 (14\,13)
DTSTART;TZID=Europe/Berlin:20250209T093000
DTEND;TZID=Europe/Berlin:20250209T113000
LOCATION:TJ Slavia Hradec Králové\, Víta Nejedlého 1216 Hradec Králové
SUMMARY:HK-U16Z-FA: Slavia H.Králové A-Baník Rtyně
END:VEVENT
BEGIN:VEVENT
UID:62613464-3164-4362-a664-363762306239
DTSTAMP:20260421T192717Z
DESCRIPTION:3/14 Slavia H.Králové A - Baník Rtyně 2:0 (10\,21)
DTSTART;TZID=Europe/Berlin:20250223T093000
DTEND;TZID=Europe/Berlin:20250223T113000
LOCATION:TJ Slavia Hradec Králové\, Víta Nejedlého 1216 Hradec Králové
SUMMARY:HK-U16Z-FA: Slavia H.Králové A-Baník Rtyně
END:VEVENT
BEGIN:VEVENT
UID:38373364-3735-4338-a537-363466653330
DTSTAMP:20260421T192717Z
DESCRIPTION:3/17 Slavia H.Králové A - VoCe 2:1 (20\,-24\,2)
DTSTART;TZID=Europe/Berlin:20250223T120000
DTEND;TZID=Europe/Berlin:20250223T140000
LOCATION:TJ Slavia Hradec Králové\, Víta Nejedlého 1216 Hradec Králové
SUMMARY:HK-U16Z-FA: Slavia H.Králové A-VoCe
END:VEVENT
BEGIN:VEVENT
UID:30633731-3463-4732-b639-643039666333
DTSTAMP:20260421T192717Z
DESCRIPTION:4/23 Slavia H.Králové A - VoCe 2:0 (21\,22)
DTSTART;TZID=Europe/Berlin:20250302T090000
DTEND;TZID=Europe/Berlin:20250302T110000
LOCATION:TJ Slavia Hradec Králové\, Víta Nejedlého 1216 Hradec Králové
SUMMARY:HK-U16Z-FA: Slavia H.Králové A-VoCe
END:VEVENT
BEGIN:VEVENT
UID:66383866-3534-4665-b939-343532333934
DTSTAMP:20260421T192717Z
DESCRIPTION:1/4 Sokol Pouchov - Slavia H.Králové A 0:2 (-19\,-14)
DTSTART;TZID=Europe/Berlin:20250119T090000
DTEND;TZID=Europe/Berlin:20250119T110000
LOCATION:Hala Pouchov\, K Sokolovně 544 Hradec Králové - Pouchov
SUMMARY:HK-U16Z-FA: Sokol Pouchov-Slavia H.Králové A
END:VEVENT
BEGIN:VEVENT
UID:64343039-3431-4238-b938-636531636164
DTSTAMP:20260421T192717Z
DESCRIPTION:2/10 Sokol Pouchov - Slavia H.Králové A 0:2 (-16\,-20)
DTSTART;TZID=Europe/Berlin:20250209T110000
DTEND;TZID=Europe/Berlin:20250209T130000
LOCATION:Hala Pouchov\, K Sokolovně 544 Hradec Králové - Pouchov
SUMMARY:HK-U16Z-FA: Sokol Pouchov-Slavia H.Králové A
END:VEVENT
BEGIN:VEVENT
UID:36333663-6366-4337-b661-613234613139
DTSTAMP:20260421T192717Z
DESCRIPTION:2/12 VoCe - Slavia H.Králové A 0:2 (-9\,-18)
DTSTART;TZID=Europe/Berlin:20250209T130000
DTEND;TZID=Europe/Berlin:20250209T150000
LOCATION:Tělocvična ZŠ Černčice\,  Černčice68
SUMMARY:HK-U16Z-FA: VoCe-Slavia H.Králové A
END:VEVENT
BEGIN:VEVENT
UID:32376335-6561-4738-b361-383062376262
DTSTAMP:20260421T192717Z
DESCRIPTION:3/16 Sokol Pouchov - Slavia H.Králové A 0:2 (-9\,-13)
DTSTART;TZID=Europe/Berlin:20250223T110000
DTEND;TZID=Europe/Berlin:20250223T130000
LOCATION:Hala Pouchov\, K Sokolovně 544 Hradec Králové - Pouchov
SUMMARY:HK-U16Z-FA: Sokol Pouchov-Slavia H.Králové A
END:VEVENT
BEGIN:VEVENT
UID:38623033-6565-4333-a436-303632383133
DTSTAMP:20260421T192717Z
DESCRIPTION:4/19 Baník Rtyně - Slavia H.Králové A 0:2 (-11\,-22)\npoř: RTYN
 Ě
DTSTART;TZID=Europe/Berlin:20250302T090000
DTEND;TZID=Europe/Berlin:20250302T110000
LOCATION:Orlovna\, nám. Horníků 856 Rtyně v Podkrkonoší
SUMMARY:HK-U16Z-FA: Baník Rtyně-Slavia H.Králové A
END:VEVENT
BEGIN:VEVENT
UID:34386331-3437-4062-a535-333033383036
DTSTAMP:20260421T192717Z
DESCRIPTION:4/22 Sokol Pouchov - Slavia H.Králové A 0:2 (-16\,-21)
DTSTART;TZID=Europe/Berlin:20250302T090000
DTEND;TZID=Europe/Berlin:20250302T110000
LOCATION:Hala Pouchov\, K Sokolovně 544 Hradec Králové - Pouchov
SUMMARY:HK-U16Z-FA: Sokol Pouchov-Slavia H.Králové A
END:VEVENT
BEGIN:VEVENT
UID:31306662-3532-4636-b531-613263643034
DTSTAMP:20260421T192717Z
DESCRIPTION:4/7 Slavia H.Králové A - Klatovy 0:2 (-23\,-27)
DTSTART;TZID=Europe/Berlin:20250418T124500
DTEND;TZID=Europe/Berlin:20250418T144500
LOCATION:ZŠ Komenského\, Nymburk\, Komenského 589 Nymburk
SUMMARY:MCR-U16Z-C: Slavia H.Králové A-Klatovy
END:VEVENT
BEGIN:VEVENT
UID:31353962-3138-4132-a639-373462363266
DTSTAMP:20260421T192717Z
DESCRIPTION:7/14 Slavia H.Králové A - TJ Prachatice - A 2:0 (12\,13)
DTSTART;TZID=Europe/Berlin:20250418T163000
DTEND;TZID=Europe/Berlin:20250418T183000
LOCATION:ZŠ Komenského\, Nymburk\, Komenského 589 Nymburk
SUMMARY:MCR-U16Z-C: Slavia H.Králové A-TJ Prachatice - A
END:VEVENT
BEGIN:VEVENT
UID:31316537-6265-4733-b834-363733643530
DTSTAMP:20260421T192717Z
DESCRIPTION:14/27 Slavia H.Králové A - Nymburské BOMBY 0:2 (-16\,-22)
DTSTART;TZID=Europe/Berlin:20250419T160000
DTEND;TZID=Europe/Berlin:20250419T180000
LOCATION:ZŠ Komenského\, Nymburk\, Komenského 589 Nymburk
SUMMARY:MCR-U16Z-C: Slavia H.Králové A-Nymburské BOMBY
END:VEVENT
BEGIN:VEVENT
UID:37646538-6263-4232-b737-623165666564
DTSTAMP:20260421T192717Z
DESCRIPTION:1/2 Mikulova B - Slavia H.Králové A 1:2 (-20\,23\,-10)
DTSTART;TZID=Europe/Berlin:20250418T090000
DTEND;TZID=Europe/Berlin:20250418T110000
LOCATION:ZŠ Komenského\, Nymburk\, Komenského 589 Nymburk
SUMMARY:MCR-U16Z-C: Mikulova B-Slavia H.Králové A
END:VEVENT
BEGIN:VEVENT
UID:64653535-3735-4639-a165-333531623664
DTSTAMP:20260421T192717Z
DESCRIPTION:6/11 Bílovec 'A' - Slavia H.Králové A 2:1 (20\,-17\,11)
DTSTART;TZID=Europe/Berlin:20250418T151500
DTEND;TZID=Europe/Berlin:20250418T171500
LOCATION:ZŠ Komenského\, Nymburk\, Komenského 589 Nymburk
SUMMARY:MCR-U16Z-C: Bílovec 'A'-Slavia H.Králové A
END:VEVENT
BEGIN:VEVENT
UID:38333231-3939-4930-a437-333130313539
DTSTAMP:20260421T192717Z
DESCRIPTION:10/20 Nové Veselí A - Slavia H.Králové A 0:2 (-22\,-11)
DTSTART;TZID=Europe/Berlin:20250419T110000
DTEND;TZID=Europe/Berlin:20250419T130000
LOCATION:ZŠ Komenského\, Nymburk\, Komenského 589 Nymburk
SUMMARY:MCR-U16Z-C: Nové Veselí A-Slavia H.Králové A
END:VEVENT
BEGIN:VEVENT
UID:64663162-3938-4434-b964-383663373239
DTSTAMP:20260421T192717Z
DESCRIPTION:11/22 Zlín A - Slavia H.Králové A 0:2 (-13\,-12)
DTSTART;TZID=Europe/Berlin:20250419T121500
DTEND;TZID=Europe/Berlin:20250419T141500
LOCATION:ZŠ Komenského\, Nymburk\, Komenského 589 Nymburk
SUMMARY:MCR-U16Z-C: Zlín A-Slavia H.Králové A
END:VEVENT
BEGIN:VEVENT
UID:62653531-3363-4564-b462-623631343936
DTSTAMP:20260421T192717Z
DESCRIPTION:2/3 Slavia H.Králové A - Kralupy A 2:0 (17\,22)
DTSTART;TZID=Europe/Berlin:20250502T133000
DTEND;TZID=Europe/Berlin:20250502T153000
LOCATION:ZŠ Janáčkovo náměstí 17\, Janáčkovo náměstí 1970 Krnov - Pod Bezru
 čovým vrchem
SUMMARY:MCR-U16Z-FA: Slavia H.Králové A-Kralupy A
END:VEVENT
BEGIN:VEVENT
UID:39386433-3563-4530-b534-343635323337
DTSTAMP:20260421T192717Z
DESCRIPTION:1/1 Orion Praha A - Slavia H.Králové A 2:0 (16\,21)
DTSTART;TZID=Europe/Berlin:20250502T110000
DTEND;TZID=Europe/Berlin:20250502T130000
LOCATION:ZŠ Janáčkovo náměstí 17\, Janáčkovo náměstí 1970 Krnov - Pod Bezru
 čovým vrchem
SUMMARY:MCR-U16Z-FA: Orion Praha A-Slavia H.Králové A
END:VEVENT
BEGIN:VEVENT
UID:35313863-3537-4136-b335-326632326236
DTSTAMP:20260421T192717Z
DESCRIPTION:3/5 TJ Svitavy A - Slavia H.Králové A 1:2 (-23\,18\,-13)
DTSTART;TZID=Europe/Berlin:20250502T160000
DTEND;TZID=Europe/Berlin:20250502T180000
LOCATION:ZŠ Janáčkovo náměstí 17\, Janáčkovo náměstí 1970 Krnov - Pod Bezru
 čovým vrchem
SUMMARY:MCR-U16Z-FA: TJ Svitavy A-Slavia H.Králové A
END:VEVENT
BEGIN:VEVENT
UID:35666138-3166-4161-b838-336233303732
DTSTAMP:20260421T192717Z
DESCRIPTION:1/2 Slavia H.Králové A - Volejbal Ústí n L. 2:0 (24\,23)\nA2 - 
 C2
DTSTART;TZID=Europe/Berlin:20250503T100000
DTEND;TZID=Europe/Berlin:20250503T120000
LOCATION:ZŠ Janáčkovo náměstí 17\, Janáčkovo náměstí 1970 Krnov - Pod Bezru
 čovým vrchem
SUMMARY:MCR-U16Z-FE: Slavia H.Králové A-Volejbal Ústí n L.
END:VEVENT
BEGIN:VEVENT
UID:31633262-3635-4535-b333-313233306639
DTSTAMP:20260421T192717Z
DESCRIPTION:3/8 Slavia H.Králové A - Příbram A 2:0 (19\,15)\nA2 - C3
DTSTART;TZID=Europe/Berlin:20250503T160000
DTEND;TZID=Europe/Berlin:20250503T180000
LOCATION:ZŠ Janáčkovo náměstí 17\, Janáčkovo náměstí 1970 Krnov - Pod Bezru
 čovým vrchem
SUMMARY:MCR-U16Z-FE: Slavia H.Králové A-Příbram A
END:VEVENT
BEGIN:VEVENT
UID:37336435-6264-4333-a538-323530633633
DTSTAMP:20260421T192717Z
DESCRIPTION:2/4 Nymburské BOMBY - Slavia H.Králové A 2:0 (22\,22)\nC1 - A2
DTSTART;TZID=Europe/Berlin:20250503T130000
DTEND;TZID=Europe/Berlin:20250503T150000
LOCATION:ZŠ Janáčkovo náměstí 17\, Janáčkovo náměstí 1970 Krnov - Pod Bezru
 čovým vrchem
SUMMARY:MCR-U16Z-FE: Nymburské BOMBY-Slavia H.Králové A
END:VEVENT
BEGIN:VEVENT
UID:39303362-6135-4636-a338-636663646238
DTSTAMP:20260421T192717Z
DESCRIPTION:1/1 Slavia H.Králové A - Demlova 0:2 (-21\,-23)\nE3 - F4
DTSTART;TZID=Europe/Berlin:20250504T083000
DTEND;TZID=Europe/Berlin:20250504T103000
LOCATION:TJ Slavia Hradec Králové\, Víta Nejedlého 1216 Hradec Králové
SUMMARY:MCR-U16Z-FI: Slavia H.Králové A-Demlova
END:VEVENT
BEGIN:VEVENT
UID:31656337-3036-4063-b165-373864613434
DTSTAMP:20260421T192717Z
DESCRIPTION:2/9 Slavia H.Králové A - Mikulova B 0:2 (-21\,-18)\no 7. místo
DTSTART;TZID=Europe/Berlin:20250504T110500
DTEND;TZID=Europe/Berlin:20250504T130500
LOCATION:TJ Slavia Hradec Králové\, Víta Nejedlého 1216 Hradec Králové
SUMMARY:MCR-U16Z-FI: Slavia H.Králové A-Mikulova B
END:VEVENT
END:VCALENDAR
