BEGIN:VCALENDAR
VERSION:2.0
PRODID:-//TJ Slavia Hradec Králové, z.s.86301//NONSGML kigkonsult.se iCalcreator 2.41.80//
CALSCALE:GREGORIAN
UID:64343862-3638-4962-a462-653665363161
BEGIN:VEVENT
UID:63343761-3862-4031-b339-623431366234
DTSTAMP:20260422T052744Z
DESCRIPTION:1/6 Slavia H.Králové - Sokol Chlumec/C. 2:0 (16\,24)
DTSTART;TZID=Europe/Berlin:20240915T100000
DTEND;TZID=Europe/Berlin:20240915T120000
LOCATION:TJ Slavia Hradec Králové\, Víta Nejedlého 1216 Hradec Králové
SUMMARY:HK-U14Z-Z: Slavia H.Králové-Sokol Chlumec/C.
END:VEVENT
BEGIN:VEVENT
UID:62613236-6166-4361-b164-393336363264
DTSTAMP:20260422T052744Z
DESCRIPTION:2/11 Slavia H.Králové - RÉMA RK 2:0 (8\,11)\nPOŘ:SLAVIA
DTSTART;TZID=Europe/Berlin:20241005T090000
DTEND;TZID=Europe/Berlin:20241005T110000
LOCATION:TJ Slavia Hradec Králové\, Víta Nejedlého 1216 Hradec Králové
SUMMARY:HK-U14Z-Z: Slavia H.Králové-RÉMA RK
END:VEVENT
BEGIN:VEVENT
UID:33396437-3630-4561-b962-653636633334
DTSTAMP:20260422T052744Z
DESCRIPTION:2/17 Slavia H.Králové - Baník Rtyně 0:2 (-20\,-14)
DTSTART;TZID=Europe/Berlin:20241005T130000
DTEND;TZID=Europe/Berlin:20241005T150000
LOCATION:TJ Slavia Hradec Králové\, Víta Nejedlého 1216 Hradec Králové
SUMMARY:HK-U14Z-Z: Slavia H.Králové-Baník Rtyně
END:VEVENT
BEGIN:VEVENT
UID:34646166-3263-4465-b932-376663353930
DTSTAMP:20260422T052744Z
DESCRIPTION:2/20 Slavia H.Králové - Sokol Chlumec/C. 2:0 (14\,8)
DTSTART;TZID=Europe/Berlin:20241005T120000
DTEND;TZID=Europe/Berlin:20241005T140000
LOCATION:TJ Slavia Hradec Králové\, Víta Nejedlého 1216 Hradec Králové
SUMMARY:HK-U14Z-Z: Slavia H.Králové-Sokol Chlumec/C.
END:VEVENT
BEGIN:VEVENT
UID:37326137-3030-4262-a334-363362653437
DTSTAMP:20260422T052744Z
DESCRIPTION:3/25 Slavia H.Králové - VK Hronov 2:1 (20\,-22\,8)
DTSTART;TZID=Europe/Berlin:20241019T110000
DTEND;TZID=Europe/Berlin:20241019T130000
LOCATION:TJ Slavia Hradec Králové\, Víta Nejedlého 1216 Hradec Králové
SUMMARY:HK-U14Z-Z: Slavia H.Králové-VK Hronov
END:VEVENT
BEGIN:VEVENT
UID:63316330-3733-4661-a530-313938663264
DTSTAMP:20260422T052744Z
DESCRIPTION:3/29 Slavia H.Králové - Baník Rtyně 0:2 (-21\,-23)
DTSTART;TZID=Europe/Berlin:20241019T130000
DTEND;TZID=Europe/Berlin:20241019T150000
LOCATION:TJ Slavia Hradec Králové\, Víta Nejedlého 1216 Hradec Králové
SUMMARY:HK-U14Z-Z: Slavia H.Králové-Baník Rtyně
END:VEVENT
BEGIN:VEVENT
UID:61326363-3766-4635-a664-363835343838
DTSTAMP:20260422T052744Z
DESCRIPTION:6/76 Slavia H.Králové - VK Hronov 2:0 (19\,15)
DTSTART;TZID=Europe/Berlin:20241207T103000
DTEND;TZID=Europe/Berlin:20241207T123000
LOCATION:TJ Slavia Hradec Králové\, Víta Nejedlého 1216 Hradec Králové
SUMMARY:HK-U14Z-Z: Slavia H.Králové-VK Hronov
END:VEVENT
BEGIN:VEVENT
UID:33623733-3630-4239-a532-623261623133
DTSTAMP:20260422T052744Z
DESCRIPTION:7/87 Slavia H.Králové - VK Hronov 2:0 (9\,23)
DTSTART;TZID=Europe/Berlin:20250111T093000
DTEND;TZID=Europe/Berlin:20250111T113000
LOCATION:TJ Slavia Hradec Králové\, Víta Nejedlého 1216 Hradec Králové
SUMMARY:HK-U14Z-Z: Slavia H.Králové-VK Hronov
END:VEVENT
BEGIN:VEVENT
UID:63616435-3862-4764-b264-383632336562
DTSTAMP:20260422T052744Z
DESCRIPTION:7/91 Slavia H.Králové - Baník Rtyně 2:1 (-19\,19\,12)
DTSTART;TZID=Europe/Berlin:20250111T103000
DTEND;TZID=Europe/Berlin:20250111T123000
LOCATION:TJ Slavia Hradec Králové\, Víta Nejedlého 1216 Hradec Králové
SUMMARY:HK-U14Z-Z: Slavia H.Králové-Baník Rtyně
END:VEVENT
BEGIN:VEVENT
UID:38356334-3739-4461-b162-653866393264
DTSTAMP:20260422T052744Z
DESCRIPTION:7/92 Slavia H.Králové - Sokol Chlumec/C. 2:1 (-18\,16\,6)
DTSTART;TZID=Europe/Berlin:20250111T120000
DTEND;TZID=Europe/Berlin:20250111T140000
LOCATION:TJ Slavia Hradec Králové\, Víta Nejedlého 1216 Hradec Králové
SUMMARY:HK-U14Z-Z: Slavia H.Králové-Sokol Chlumec/C.
END:VEVENT
BEGIN:VEVENT
UID:66626338-3238-4839-b064-336231616533
DTSTAMP:20260422T052744Z
DESCRIPTION:8/98 Slavia H.Králové - Baník Rtyně 0:2 (-7\,-19)
DTSTART;TZID=Europe/Berlin:20250125T110000
DTEND;TZID=Europe/Berlin:20250125T130000
LOCATION:TJ Slavia Hradec Králové\, Víta Nejedlého 1216 Hradec Králové
SUMMARY:HK-U14Z-Z: Slavia H.Králové-Baník Rtyně
END:VEVENT
BEGIN:VEVENT
UID:37333337-3638-4331-a334-333963396663
DTSTAMP:20260422T052744Z
DESCRIPTION:8/100 Slavia H.Králové - Sokol Chlumec/C. 2:1 (-23\,17\,16)
DTSTART;TZID=Europe/Berlin:20250125T120000
DTEND;TZID=Europe/Berlin:20250125T140000
LOCATION:TJ Slavia Hradec Králové\, Víta Nejedlého 1216 Hradec Králové
SUMMARY:HK-U14Z-Z: Slavia H.Králové-Sokol Chlumec/C.
END:VEVENT
BEGIN:VEVENT
UID:32663738-6535-4065-b636-386236343531
DTSTAMP:20260422T052744Z
DESCRIPTION:1/1 VK Hronov - Slavia H.Králové 0:2 (-24\,-15)\nPOŘ:HRONOV
DTSTART;TZID=Europe/Berlin:20240915T120000
DTEND;TZID=Europe/Berlin:20240915T140000
LOCATION:ZŠ Hronov\, Palackého 162 Hronov
SUMMARY:HK-U14Z-Z: VK Hronov-Slavia H.Králové
END:VEVENT
BEGIN:VEVENT
UID:65653331-6235-4262-b239-336266336432
DTSTAMP:20260422T052744Z
DESCRIPTION:1/8 RÉMA RK - Slavia H.Králové 0:2 (-11\,-9)
DTSTART;TZID=Europe/Berlin:20240915T130000
DTEND;TZID=Europe/Berlin:20240915T150000
LOCATION:Hala VOŠ a SPŠS\, U Stadionu 1166 Rychnov nad Kněžnou
SUMMARY:HK-U14Z-Z: RÉMA RK-Slavia H.Králové
END:VEVENT
BEGIN:VEVENT
UID:62653738-3564-4331-b762-643366346166
DTSTAMP:20260422T052744Z
DESCRIPTION:2/18 VoCe - Slavia H.Králové 2:1 (18\,-21\,12)
DTSTART;TZID=Europe/Berlin:20241005T100000
DTEND;TZID=Europe/Berlin:20241005T120000
LOCATION:Tělocvična ZŠ Černčice\,  Černčice68
SUMMARY:HK-U14Z-Z: VoCe-Slavia H.Králové
END:VEVENT
BEGIN:VEVENT
UID:31306236-3164-4234-b761-313866396563
DTSTAMP:20260422T052744Z
DESCRIPTION:3/28 VoCe - Slavia H.Králové 2:1 (11\,-20\,6)
DTSTART;TZID=Europe/Berlin:20241019T120000
DTEND;TZID=Europe/Berlin:20241019T140000
LOCATION:Tělocvična ZŠ Černčice\,  Černčice68
SUMMARY:HK-U14Z-Z: VoCe-Slavia H.Králové
END:VEVENT
BEGIN:VEVENT
UID:36613065-3639-4631-a231-383235613036
DTSTAMP:20260422T052744Z
DESCRIPTION:6/79 RÉMA RK - Slavia H.Králové 0:2 (-13\,-12)
DTSTART;TZID=Europe/Berlin:20241207T123000
DTEND;TZID=Europe/Berlin:20241207T143000
LOCATION:Hala VOŠ a SPŠS\, U Stadionu 1166 Rychnov nad Kněžnou
SUMMARY:HK-U14Z-Z: RÉMA RK-Slavia H.Králové
END:VEVENT
BEGIN:VEVENT
UID:37666133-3939-4266-b233-376135663261
DTSTAMP:20260422T052744Z
DESCRIPTION:6/80 VoCe - Slavia H.Králové 2:0 (8\,20)
DTSTART;TZID=Europe/Berlin:20241207T113000
DTEND;TZID=Europe/Berlin:20241207T133000
LOCATION:Tělocvična ZŠ Černčice\,  Černčice68
SUMMARY:HK-U14Z-Z: VoCe-Slavia H.Králové
END:VEVENT
BEGIN:VEVENT
UID:64336435-6131-4464-b136-393639373738
DTSTAMP:20260422T052744Z
DESCRIPTION:8/95 VoCe - Slavia H.Králové 2:0 (12\,23)
DTSTART;TZID=Europe/Berlin:20250125T100000
DTEND;TZID=Europe/Berlin:20250125T120000
LOCATION:Tělocvična ZŠ Černčice\,  Černčice68
SUMMARY:HK-U14Z-Z: VoCe-Slavia H.Králové
END:VEVENT
BEGIN:VEVENT
UID:64363361-3066-4465-a233-356632353633
DTSTAMP:20260422T052744Z
DESCRIPTION:8/101 RÉMA RK - Slavia H.Králové 0:2 (-7\,-6)
DTSTART;TZID=Europe/Berlin:20250125T130000
DTEND;TZID=Europe/Berlin:20250125T150000
LOCATION:Hala VOŠ a SPŠS\, U Stadionu 1166 Rychnov nad Kněžnou
SUMMARY:HK-U14Z-Z: RÉMA RK-Slavia H.Králové
END:VEVENT
BEGIN:VEVENT
UID:65376563-6436-4666-a134-636561663733
DTSTAMP:20260422T052744Z
DESCRIPTION:1/1 Slavia H.Králové - Baník Rtyně 0:2 (-11\,-4)\npořadatel: Sl
 avia HK
DTSTART;TZID=Europe/Berlin:20250322T090000
DTEND;TZID=Europe/Berlin:20250322T110000
LOCATION:TJ Slavia Hradec Králové\, Víta Nejedlého 1216 Hradec Králové
SUMMARY:HK-U14Z-FA: Slavia H.Králové-Baník Rtyně
END:VEVENT
BEGIN:VEVENT
UID:65613639-6436-4762-a137-386236613762
DTSTAMP:20260422T052744Z
DESCRIPTION:1/4 Slavia H.Králové - VoCe 0:2 (-10\,-9)
DTSTART;TZID=Europe/Berlin:20250322T090000
DTEND;TZID=Europe/Berlin:20250322T110000
LOCATION:TJ Slavia Hradec Králové\, Víta Nejedlého 1216 Hradec Králové
SUMMARY:HK-U14Z-FA: Slavia H.Králové-VoCe
END:VEVENT
BEGIN:VEVENT
UID:63636136-6431-4365-b433-373237346665
DTSTAMP:20260422T052744Z
DESCRIPTION:1/6 Slavia H.Králové - VK Hronov 2:1 (19\,-28\,15)
DTSTART;TZID=Europe/Berlin:20250322T090000
DTEND;TZID=Europe/Berlin:20250322T110000
LOCATION:TJ Slavia Hradec Králové\, Víta Nejedlého 1216 Hradec Králové
SUMMARY:HK-U14Z-FA: Slavia H.Králové-VK Hronov
END:VEVENT
BEGIN:VEVENT
UID:34346434-3338-4533-b133-356233376332
DTSTAMP:20260422T052744Z
DESCRIPTION:2/11 Slavia H.Králové - VK Hronov 2:0 (19\,19)
DTSTART;TZID=Europe/Berlin:20250215T130000
DTEND;TZID=Europe/Berlin:20250215T150000
LOCATION:TJ Slavia Hradec Králové\, Víta Nejedlého 1216 Hradec Králové
SUMMARY:HK-U14Z-FA: Slavia H.Králové-VK Hronov
END:VEVENT
BEGIN:VEVENT
UID:66303835-3165-4030-a633-303963343065
DTSTAMP:20260422T052744Z
DESCRIPTION:3/17 Slavia H.Králové - VK Hronov 2:0 (23\,24)
DTSTART;TZID=Europe/Berlin:20250503T130000
DTEND;TZID=Europe/Berlin:20250503T150000
LOCATION:TJ Slavia Hradec Králové\, Víta Nejedlého 1216 Hradec Králové
SUMMARY:HK-U14Z-FA: Slavia H.Králové-VK Hronov
END:VEVENT
BEGIN:VEVENT
UID:39653462-3932-4366-b365-393035333861
DTSTAMP:20260422T052744Z
DESCRIPTION:2/8 VoCe - Slavia H.Králové 2:0 (19\,12)
DTSTART;TZID=Europe/Berlin:20250215T100000
DTEND;TZID=Europe/Berlin:20250215T120000
LOCATION:Tělocvična ZŠ Černčice\,  Černčice68
SUMMARY:HK-U14Z-FA: VoCe-Slavia H.Králové
END:VEVENT
BEGIN:VEVENT
UID:33663737-6534-4437-b466-663536356437
DTSTAMP:20260422T052744Z
DESCRIPTION:2/9 Baník Rtyně - Slavia H.Králové 2:1 (17\,-22\,10)
DTSTART;TZID=Europe/Berlin:20250215T110000
DTEND;TZID=Europe/Berlin:20250215T130000
LOCATION:Tělocvična ZŠ Zbečník\,  Hronov - Zbečník210
SUMMARY:HK-U14Z-FA: Baník Rtyně-Slavia H.Králové
END:VEVENT
BEGIN:VEVENT
UID:34633531-3636-4835-b864-643163666136
DTSTAMP:20260422T052744Z
DESCRIPTION:3/14 Baník Rtyně - Slavia H.Králové 2:0 (21\,20)
DTSTART;TZID=Europe/Berlin:20250503T100000
DTEND;TZID=Europe/Berlin:20250503T120000
LOCATION:Orlovna\, nám. Horníků 856 Rtyně v Podkrkonoší
SUMMARY:HK-U14Z-FA: Baník Rtyně-Slavia H.Králové
END:VEVENT
BEGIN:VEVENT
UID:34656261-3263-4165-a131-383537303739
DTSTAMP:20260422T052744Z
DESCRIPTION:3/16 VoCe - Slavia H.Králové 2:0 (20\,18)
DTSTART;TZID=Europe/Berlin:20250503T120000
DTEND;TZID=Europe/Berlin:20250503T140000
LOCATION:TJ Sokol Velká Jesenice \,  Velká Jesenice168
SUMMARY:HK-U14Z-FA: VoCe-Slavia H.Králové
END:VEVENT
END:VCALENDAR
