BEGIN:VCALENDAR
VERSION:2.0
PRODID:-//Klub volejbalu Kopřivnice86304//NONSGML kigkonsult.se iCalcreator 2.41.80//
CALSCALE:GREGORIAN
UID:39636263-6436-4838-a464-353464316662
BEGIN:VEVENT
UID:38316162-3763-4262-b736-633937623932
DTSTAMP:20260422T165844Z
DESCRIPTION:3/7 Kopřivnice - Napajedla 3:0 (12\,14\,14)
DTSTART;TZID=Europe/Berlin:20241020T100000
DTEND;TZID=Europe/Berlin:20241020T120000
LOCATION:Tělocvičny ZŠ 17.listopadu Kopřivnice\, 17. listopadu 1225 Kopřivn
 ice
SUMMARY:ZLK-U22Z: Kopřivnice-Napajedla
END:VEVENT
BEGIN:VEVENT
UID:63643031-3838-4438-a364-393930306433
DTSTAMP:20260422T165844Z
DESCRIPTION:4/10 Kopřivnice - Napajedla 3:0 (14\,8\,11)
DTSTART;TZID=Europe/Berlin:20241020T130000
DTEND;TZID=Europe/Berlin:20241020T150000
LOCATION:Tělocvičny ZŠ 17.listopadu Kopřivnice\, 17. listopadu 1225 Kopřivn
 ice
SUMMARY:ZLK-U22Z: Kopřivnice-Napajedla
END:VEVENT
BEGIN:VEVENT
UID:65636137-3166-4363-b630-343437623936
DTSTAMP:20260422T165844Z
DESCRIPTION:7/19 Kopřivnice - Uherský Brod 3:2 (-11\,23\,13\,-9\,16)
DTSTART;TZID=Europe/Berlin:20241109T100000
DTEND;TZID=Europe/Berlin:20241109T120000
LOCATION:Tělocvičny ZŠ 17.listopadu Kopřivnice\, 17. listopadu 1225 Kopřivn
 ice
SUMMARY:ZLK-U22Z: Kopřivnice-Uherský Brod
END:VEVENT
BEGIN:VEVENT
UID:39623031-3261-4163-b063-323939653636
DTSTAMP:20260422T165844Z
DESCRIPTION:8/22 Kopřivnice - Uherský Brod 3:2 (-15\,25\,-16\,22\,12)
DTSTART;TZID=Europe/Berlin:20241109T130000
DTEND;TZID=Europe/Berlin:20241109T150000
LOCATION:Tělocvičny ZŠ 17.listopadu Kopřivnice\, 17. listopadu 1225 Kopřivn
 ice
SUMMARY:ZLK-U22Z: Kopřivnice-Uherský Brod
END:VEVENT
BEGIN:VEVENT
UID:33343766-6564-4738-b630-396532633864
DTSTAMP:20260422T165844Z
DESCRIPTION:11/31 Kopřivnice - Nivnice 3:2 (23\,-21\,-18\,14\,6)
DTSTART;TZID=Europe/Berlin:20250112T100000
DTEND;TZID=Europe/Berlin:20250112T120000
LOCATION:Tělocvičny ZŠ 17.listopadu Kopřivnice\, 17. listopadu 1225 Kopřivn
 ice
SUMMARY:ZLK-U22Z: Kopřivnice-Nivnice
END:VEVENT
BEGIN:VEVENT
UID:32376261-6430-4836-b939-353933373365
DTSTAMP:20260422T165844Z
DESCRIPTION:12/34 Kopřivnice - Nivnice 3:1 (16\,-21\,16\,18)
DTSTART;TZID=Europe/Berlin:20250112T130000
DTEND;TZID=Europe/Berlin:20250112T150000
LOCATION:Tělocvičny ZŠ 17.listopadu Kopřivnice\, 17. listopadu 1225 Kopřivn
 ice
SUMMARY:ZLK-U22Z: Kopřivnice-Nivnice
END:VEVENT
BEGIN:VEVENT
UID:66623337-6565-4930-b530-336430373835
DTSTAMP:20260422T165844Z
DESCRIPTION:15/43 Kopřivnice - Rožnov p.R. 3:0 (12\,14\,18)
DTSTART;TZID=Europe/Berlin:20250209T100000
DTEND;TZID=Europe/Berlin:20250209T120000
LOCATION:Tělocvičny ZŠ 17.listopadu Kopřivnice\, 17. listopadu 1225 Kopřivn
 ice
SUMMARY:ZLK-U22Z: Kopřivnice-Rožnov p.R.
END:VEVENT
BEGIN:VEVENT
UID:39313934-3332-4765-b164-326364613330
DTSTAMP:20260422T165844Z
DESCRIPTION:16/46 Kopřivnice - Rožnov p.R. 3:0 (11\,19\,17)
DTSTART;TZID=Europe/Berlin:20250209T130000
DTEND;TZID=Europe/Berlin:20250209T150000
LOCATION:Tělocvičny ZŠ 17.listopadu Kopřivnice\, 17. listopadu 1225 Kopřivn
 ice
SUMMARY:ZLK-U22Z: Kopřivnice-Rožnov p.R.
END:VEVENT
BEGIN:VEVENT
UID:39396563-3535-4035-b736-663034356234
DTSTAMP:20260422T165844Z
DESCRIPTION:19/55 Kopřivnice - Střítež 3:2 (-22\,20\,-24\,16\,15)
DTSTART;TZID=Europe/Berlin:20250316T100000
DTEND;TZID=Europe/Berlin:20250316T120000
LOCATION:Tělocvičny ZŠ 17.listopadu Kopřivnice\, 17. listopadu 1225 Kopřivn
 ice
SUMMARY:ZLK-U22Z: Kopřivnice-Střítež
END:VEVENT
BEGIN:VEVENT
UID:38366266-6466-4632-a562-353964623839
DTSTAMP:20260422T165844Z
DESCRIPTION:20/58 Kopřivnice - Střítež 3:0 (15\,13\,12)
DTSTART;TZID=Europe/Berlin:20250316T130000
DTEND;TZID=Europe/Berlin:20250316T150000
LOCATION:Tělocvičny ZŠ 17.listopadu Kopřivnice\, 17. listopadu 1225 Kopřivn
 ice
SUMMARY:ZLK-U22Z: Kopřivnice-Střítež
END:VEVENT
BEGIN:VEVENT
UID:62663837-3561-4933-a435-333661323337
DTSTAMP:20260422T165844Z
DESCRIPTION:1/1 Nivnice - Kopřivnice 0:3 (-23\,-15\,-16)
DTSTART;TZID=Europe/Berlin:20241006T090000
DTEND;TZID=Europe/Berlin:20241006T110000
LOCATION:Sportovní hala Nivnice\, Podohradí 888 Nivnice
SUMMARY:ZLK-U22Z: Nivnice-Kopřivnice
END:VEVENT
BEGIN:VEVENT
UID:61386463-3336-4961-a664-326135333532
DTSTAMP:20260422T165844Z
DESCRIPTION:2/4 Nivnice - Kopřivnice 1:3 (23\,-24\,-10\,-22)
DTSTART;TZID=Europe/Berlin:20241006T110000
DTEND;TZID=Europe/Berlin:20241006T130000
LOCATION:Sportovní hala Nivnice\, Podohradí 888 Nivnice
SUMMARY:ZLK-U22Z: Nivnice-Kopřivnice
END:VEVENT
BEGIN:VEVENT
UID:30656537-3461-4166-b835-623863633731
DTSTAMP:20260422T165844Z
DESCRIPTION:5/13 Rožnov p.R. - Kopřivnice 1:3 (-14\,25\,-16\,-18)
DTSTART;TZID=Europe/Berlin:20241103T100000
DTEND;TZID=Europe/Berlin:20241103T120000
LOCATION:ZŠ POD SKALKOU\, Bezručova 293 Rožnov pod Radhoštěm
SUMMARY:ZLK-U22Z: Rožnov p.R.-Kopřivnice
END:VEVENT
BEGIN:VEVENT
UID:63363036-3134-4161-b361-636163643138
DTSTAMP:20260422T165844Z
DESCRIPTION:6/16 Rožnov p.R. - Kopřivnice 0:3 (-21\,-18\,-19)
DTSTART;TZID=Europe/Berlin:20241103T130000
DTEND;TZID=Europe/Berlin:20241103T150000
LOCATION:ZŠ POD SKALKOU\, Bezručova 293 Rožnov pod Radhoštěm
SUMMARY:ZLK-U22Z: Rožnov p.R.-Kopřivnice
END:VEVENT
BEGIN:VEVENT
UID:63353533-3730-4637-b536-663363363461
DTSTAMP:20260422T165844Z
DESCRIPTION:9/25 Střítež - Kopřivnice 3:1 (22\,20\,-19\,18)
DTSTART;TZID=Europe/Berlin:20241130T100000
DTEND;TZID=Europe/Berlin:20241130T120000
LOCATION:Sokolovna\,  Střítež nad Bečvou1
SUMMARY:ZLK-U22Z: Střítež-Kopřivnice
END:VEVENT
BEGIN:VEVENT
UID:33323261-3162-4335-b539-316337333662
DTSTAMP:20260422T165844Z
DESCRIPTION:10/28 Střítež - Kopřivnice 3:2 (19\,-21\,23\,-21\,10)
DTSTART;TZID=Europe/Berlin:20241130T130000
DTEND;TZID=Europe/Berlin:20241130T150000
LOCATION:Sokolovna\,  Střítež nad Bečvou1
SUMMARY:ZLK-U22Z: Střítež-Kopřivnice
END:VEVENT
BEGIN:VEVENT
UID:64346535-6336-4662-a233-313761346631
DTSTAMP:20260422T165844Z
DESCRIPTION:13/37 Napajedla - Kopřivnice 0:3 (-19\,-20\,-12)
DTSTART;TZID=Europe/Berlin:20250126T100000
DTEND;TZID=Europe/Berlin:20250126T120000
LOCATION:2.ZŠ Napajedla\, Komenského 298 Napajedla
SUMMARY:ZLK-U22Z: Napajedla-Kopřivnice
END:VEVENT
BEGIN:VEVENT
UID:38613231-3365-4333-b337-383933643632
DTSTAMP:20260422T165844Z
DESCRIPTION:14/40 Napajedla - Kopřivnice 1:3 (-18\,-13\,18\,-13)
DTSTART;TZID=Europe/Berlin:20250126T130000
DTEND;TZID=Europe/Berlin:20250126T150000
LOCATION:2.ZŠ Napajedla\, Komenského 298 Napajedla
SUMMARY:ZLK-U22Z: Napajedla-Kopřivnice
END:VEVENT
BEGIN:VEVENT
UID:31653061-3833-4438-a234-363632313530
DTSTAMP:20260422T165844Z
DESCRIPTION:17/49 Uherský Brod - Kopřivnice 3:1 (-23\,22\,14\,22)\nhala Gym
 názium UB\, Naardenská 225
DTSTART;TZID=Europe/Berlin:20250202T100000
DTEND;TZID=Europe/Berlin:20250202T120000
LOCATION:TJ SPARTAK UHERSKÝ BROD z.s.\, U Stadionu 2295 Uherský Brod
SUMMARY:ZLK-U22Z: Uherský Brod-Kopřivnice
END:VEVENT
BEGIN:VEVENT
UID:36353734-3330-4964-a263-663232343064
DTSTAMP:20260422T165844Z
DESCRIPTION:18/52 Uherský Brod - Kopřivnice 3:2 (14\,-20\,20\,-18\,10)\nhal
 a Gymnázium UB\, Naardenská 225
DTSTART;TZID=Europe/Berlin:20250202T130000
DTEND;TZID=Europe/Berlin:20250202T150000
LOCATION:TJ SPARTAK UHERSKÝ BROD z.s.\, U Stadionu 2295 Uherský Brod
SUMMARY:ZLK-U22Z: Uherský Brod-Kopřivnice
END:VEVENT
END:VCALENDAR
