BEGIN:VCALENDAR
VERSION:2.0
PRODID:-//TJ SOKOL LETOVICE, z.s.86312//NONSGML kigkonsult.se iCalcreator 2.41.80//
CALSCALE:GREGORIAN
UID:65393030-6533-4033-b566-666162393836
BEGIN:VEVENT
UID:62373734-3463-4637-b933-353333626230
DTSTAMP:20260422T131129Z
DESCRIPTION:2/2 TJ SOKOL LETOVICE\, z.s. - Sokol Šlapanice u Brna 0:2 (-17\
 ,-11)
DTSTART;TZID=Europe/Berlin:20240921T103000
DTEND;TZID=Europe/Berlin:20240921T123000
LOCATION:Sportovní hala Rousínov\, Habrovanská 1199 Rousínov
SUMMARY:JM-U16M-KVA: TJ SOKOL LETOVICE\, z.s.-Sokol Šlapanice u Brna
END:VEVENT
BEGIN:VEVENT
UID:64663661-3935-4864-a338-383763646363
DTSTAMP:20260422T131129Z
DESCRIPTION:5/5 TJ SOKOL LETOVICE\, z.s. - VK Brno B\, z.s. 2:0 (24\,24)
DTSTART;TZID=Europe/Berlin:20240921T141500
DTEND;TZID=Europe/Berlin:20240921T161500
LOCATION:Sportovní hala Rousínov\, Habrovanská 1199 Rousínov
SUMMARY:JM-U16M-KVA: TJ SOKOL LETOVICE\, z.s.-VK Brno B\, z.s.
END:VEVENT
BEGIN:VEVENT
UID:64313338-6664-4136-b339-643138393336
DTSTAMP:20260422T131129Z
DESCRIPTION:4/4 VK Rousínov - TJ SOKOL LETOVICE\, z.s. 2:0 (15\,21)
DTSTART;TZID=Europe/Berlin:20240921T130000
DTEND;TZID=Europe/Berlin:20240921T150000
LOCATION:Sportovní hala Rousínov\, Habrovanská 1199 Rousínov
SUMMARY:JM-U16M-KVA: VK Rousínov-TJ SOKOL LETOVICE\, z.s.
END:VEVENT
BEGIN:VEVENT
UID:63656330-6531-4266-a365-363366343562
DTSTAMP:20260422T131129Z
DESCRIPTION:1/1 TJ SOKOL LETOVICE\, z.s. - VS Drásov 2:0 (11\,9)\nKurt 1
DTSTART;TZID=Europe/Berlin:20241019T090000
DTEND;TZID=Europe/Berlin:20241019T110000
LOCATION:Sportovní hala Letovice\, V zahradách 831 Letovice
SUMMARY:JM-U16M-IC: TJ SOKOL LETOVICE\, z.s.-VS Drásov
END:VEVENT
BEGIN:VEVENT
UID:64343036-3965-4465-a439-333635356634
DTSTAMP:20260422T131129Z
DESCRIPTION:2/3 TJ SOKOL LETOVICE\, z.s. - VK Brno B\, z.s. 2:1 (-12\,23\,9
 )\nKurt 1
DTSTART;TZID=Europe/Berlin:20241019T103000
DTEND;TZID=Europe/Berlin:20241019T123000
LOCATION:Sportovní hala Letovice\, V zahradách 831 Letovice
SUMMARY:JM-U16M-IC: TJ SOKOL LETOVICE\, z.s.-VK Brno B\, z.s.
END:VEVENT
BEGIN:VEVENT
UID:34643938-3331-4533-b135-323034663665
DTSTAMP:20260422T131129Z
DESCRIPTION:3/6 VK Znojmo - Přímětice 'B' - TJ SOKOL LETOVICE\, z.s. 0:2 (-
 16\,-18)\nKurt 2
DTSTART;TZID=Europe/Berlin:20241019T114500
DTEND;TZID=Europe/Berlin:20241019T134500
LOCATION:Sportovní hala Letovice\, V zahradách 831 Letovice
SUMMARY:JM-U16M-IC: VK Znojmo - Přímětice 'B'-TJ SOKOL LETOVICE\, z.s.
END:VEVENT
BEGIN:VEVENT
UID:62373739-3730-4734-a137-396439653835
DTSTAMP:20260422T131129Z
DESCRIPTION:1/1 TJ SOKOL LETOVICE\, z.s. - VK Brno\, Vejrostova 2:0 (15\,8)
DTSTART;TZID=Europe/Berlin:20241109T090000
DTEND;TZID=Europe/Berlin:20241109T110000
LOCATION:Sportovní hala Letovice\, V zahradách 831 Letovice
SUMMARY:JM-U16M-IIB: TJ SOKOL LETOVICE\, z.s.-VK Brno\, Vejrostova
END:VEVENT
BEGIN:VEVENT
UID:61363331-3561-4761-a264-386530613331
DTSTAMP:20260422T131129Z
DESCRIPTION:2/4 TJ SOKOL LETOVICE\, z.s. - TJ TESLA BRNO z.s. 2:0 (17\,20)
DTSTART;TZID=Europe/Berlin:20241109T114500
DTEND;TZID=Europe/Berlin:20241109T134500
LOCATION:Sportovní hala Letovice\, V zahradách 831 Letovice
SUMMARY:JM-U16M-IIB: TJ SOKOL LETOVICE\, z.s.-TJ TESLA BRNO z.s.
END:VEVENT
BEGIN:VEVENT
UID:36643466-3831-4361-b562-623066656236
DTSTAMP:20260422T131129Z
DESCRIPTION:3/6 Orel Křenovice - TJ SOKOL LETOVICE\, z.s. 2:0 (16\,19)
DTSTART;TZID=Europe/Berlin:20241109T130000
DTEND;TZID=Europe/Berlin:20241109T150000
LOCATION:Sportovní hala Letovice\, V zahradách 831 Letovice
SUMMARY:JM-U16M-IIB: Orel Křenovice-TJ SOKOL LETOVICE\, z.s.
END:VEVENT
BEGIN:VEVENT
UID:39643833-3365-4164-a134-313366623232
DTSTAMP:20260422T131129Z
DESCRIPTION:1/1 TJ SOKOL LETOVICE\, z.s. - VK Brno B\, z.s. 2:0 (19\,26)
DTSTART;TZID=Europe/Berlin:20241123T090000
DTEND;TZID=Europe/Berlin:20241123T110000
LOCATION:Sportovní hala Letovice\, V zahradách 831 Letovice
SUMMARY:JM-U16M-IIIB: TJ SOKOL LETOVICE\, z.s.-VK Brno B\, z.s.
END:VEVENT
BEGIN:VEVENT
UID:62616437-6330-4236-b561-653536376135
DTSTAMP:20260422T131129Z
DESCRIPTION:2/4 TJ SOKOL LETOVICE\, z.s. - VK Znojmo - Přímětice 'A' 0:2 (-
 17\,-26)
DTSTART;TZID=Europe/Berlin:20241123T103000
DTEND;TZID=Europe/Berlin:20241123T123000
LOCATION:Sportovní hala Letovice\, V zahradách 831 Letovice
SUMMARY:JM-U16M-IIIB: TJ SOKOL LETOVICE\, z.s.-VK Znojmo - Přímětice 'A'
END:VEVENT
BEGIN:VEVENT
UID:62306336-3563-4065-a362-393536303266
DTSTAMP:20260422T131129Z
DESCRIPTION:3/6 TJ TESLA BRNO z.s. - TJ SOKOL LETOVICE\, z.s. 1:2 (-14\,22\
 ,-10)
DTSTART;TZID=Europe/Berlin:20241123T114500
DTEND;TZID=Europe/Berlin:20241123T134500
LOCATION:Sportovní hala Letovice\, V zahradách 831 Letovice
SUMMARY:JM-U16M-IIIB: TJ TESLA BRNO z.s.-TJ SOKOL LETOVICE\, z.s.
END:VEVENT
BEGIN:VEVENT
UID:63353363-6232-4230-a464-356239323137
DTSTAMP:20260422T131129Z
DESCRIPTION:1/1 TJ SOKOL LETOVICE\, z.s. - TJ Slovan Ivančice\, z.s. 2:0 (1
 0\,13)
DTSTART;TZID=Europe/Berlin:20241207T090000
DTEND;TZID=Europe/Berlin:20241207T110000
LOCATION:Sportovní hala u ZŠ Brněnec \,  Brněnec - Moravská Chrastová100
SUMMARY:JM-U16M-IVB: TJ SOKOL LETOVICE\, z.s.-TJ Slovan Ivančice\, z.s.
END:VEVENT
BEGIN:VEVENT
UID:61366664-3831-4631-a130-313438326662
DTSTAMP:20260422T131129Z
DESCRIPTION:4/4 TJ SOKOL LETOVICE\, z.s. - TJ TESLA BRNO z.s. 2:X
DTSTART;TZID=Europe/Berlin:20241207T130000
DTEND;TZID=Europe/Berlin:20241207T150000
LOCATION:Sportovní hala u ZŠ Brněnec \,  Brněnec - Moravská Chrastová100
SUMMARY:JM-U16M-IVB: TJ SOKOL LETOVICE\, z.s.-TJ TESLA BRNO z.s.
END:VEVENT
BEGIN:VEVENT
UID:65666462-6263-4562-a133-366632633833
DTSTAMP:20260422T131129Z
DESCRIPTION:3/3 Orel Křenovice - TJ SOKOL LETOVICE\, z.s. 2:0 (18\,20)
DTSTART;TZID=Europe/Berlin:20241207T114500
DTEND;TZID=Europe/Berlin:20241207T134500
LOCATION:Sportovní hala u ZŠ Brněnec \,  Brněnec - Moravská Chrastová100
SUMMARY:JM-U16M-IVB: Orel Křenovice-TJ SOKOL LETOVICE\, z.s.
END:VEVENT
BEGIN:VEVENT
UID:38633534-3737-4638-b130-663434303636
DTSTAMP:20260422T131129Z
DESCRIPTION:2/2 TJ SOKOL LETOVICE\, z.s. - VK Brno B\, z.s. 2:0 (13\,12)
DTSTART;TZID=Europe/Berlin:20250111T103000
DTEND;TZID=Europe/Berlin:20250111T123000
LOCATION:Tělocvična ZŠ Prokopa Diviše a MŠ\, Ke Škole 569 Znojmo - Přímětic
 e
SUMMARY:JM-U16M-VB: TJ SOKOL LETOVICE\, z.s.-VK Brno B\, z.s.
END:VEVENT
BEGIN:VEVENT
UID:39316233-6132-4938-a638-326138303731
DTSTAMP:20260422T131129Z
DESCRIPTION:5/5 TJ SOKOL LETOVICE\, z.s. - TJ Slovan Ivančice\, z.s. 2:0 (1
 1\,23)
DTSTART;TZID=Europe/Berlin:20250111T141500
DTEND;TZID=Europe/Berlin:20250111T161500
LOCATION:Tělocvična ZŠ Prokopa Diviše a MŠ\, Ke Škole 569 Znojmo - Přímětic
 e
SUMMARY:JM-U16M-VB: TJ SOKOL LETOVICE\, z.s.-TJ Slovan Ivančice\, z.s.
END:VEVENT
BEGIN:VEVENT
UID:63306166-6263-4635-a564-616466613135
DTSTAMP:20260422T131129Z
DESCRIPTION:4/4 VK Znojmo - Přímětice 'A' - TJ SOKOL LETOVICE\, z.s. 2:0 (2
 0\,14)
DTSTART;TZID=Europe/Berlin:20250111T130000
DTEND;TZID=Europe/Berlin:20250111T150000
LOCATION:Tělocvična ZŠ Prokopa Diviše a MŠ\, Ke Škole 569 Znojmo - Přímětic
 e
SUMMARY:JM-U16M-VB: VK Znojmo - Přímětice 'A'-TJ SOKOL LETOVICE\, z.s.
END:VEVENT
BEGIN:VEVENT
UID:30633563-6135-4431-a464-636363346238
DTSTAMP:20260422T131129Z
DESCRIPTION:1/1 TJ SOKOL LETOVICE\, z.s. - TJ TESLA BRNO z.s. 2:0 (12\,23)
DTSTART;TZID=Europe/Berlin:20250125T090000
DTEND;TZID=Europe/Berlin:20250125T110000
LOCATION:Sportovní hala Letovice\, V zahradách 831 Letovice
SUMMARY:JM-U16M-VIB: TJ SOKOL LETOVICE\, z.s.-TJ TESLA BRNO z.s.
END:VEVENT
BEGIN:VEVENT
UID:64666437-6632-4664-a336-333232613739
DTSTAMP:20260422T131129Z
DESCRIPTION:4/4 TJ SOKOL LETOVICE\, z.s. - Orel Křenovice 2:1 (16\,-21\,14)
DTSTART;TZID=Europe/Berlin:20250125T114500
DTEND;TZID=Europe/Berlin:20250125T134500
LOCATION:Sportovní hala Letovice\, V zahradách 831 Letovice
SUMMARY:JM-U16M-VIB: TJ SOKOL LETOVICE\, z.s.-Orel Křenovice
END:VEVENT
BEGIN:VEVENT
UID:35333630-6136-4939-a161-326132363731
DTSTAMP:20260422T131129Z
DESCRIPTION:6/6 VK Brno B\, z.s. - TJ SOKOL LETOVICE\, z.s. 0:2 (-16\,-14)
DTSTART;TZID=Europe/Berlin:20250125T130000
DTEND;TZID=Europe/Berlin:20250125T150000
LOCATION:Sportovní hala Letovice\, V zahradách 831 Letovice
SUMMARY:JM-U16M-VIB: VK Brno B\, z.s.-TJ SOKOL LETOVICE\, z.s.
END:VEVENT
BEGIN:VEVENT
UID:38383662-3632-4961-b237-656238353033
DTSTAMP:20260422T131129Z
DESCRIPTION:1/1 TJ SOKOL LETOVICE\, z.s. - VK Rousínov 0:2 (-18\,-13)
DTSTART;TZID=Europe/Berlin:20250301T090000
DTEND;TZID=Europe/Berlin:20250301T110000
LOCATION:Sportovní hala Letovice\, V zahradách 831 Letovice
SUMMARY:JM-U16M-VIIA: TJ SOKOL LETOVICE\, z.s.-VK Rousínov
END:VEVENT
BEGIN:VEVENT
UID:39336531-6562-4039-b738-363239613036
DTSTAMP:20260422T131129Z
DESCRIPTION:2/3 TJ SOKOL LETOVICE\, z.s. - VK Znojmo - Přímětice 'A' 0:2 (-
 16\,-20)
DTSTART;TZID=Europe/Berlin:20250301T103000
DTEND;TZID=Europe/Berlin:20250301T123000
LOCATION:Sportovní hala Letovice\, V zahradách 831 Letovice
SUMMARY:JM-U16M-VIIA: TJ SOKOL LETOVICE\, z.s.-VK Znojmo - Přímětice 'A'
END:VEVENT
BEGIN:VEVENT
UID:32653864-6438-4763-a137-613136643138
DTSTAMP:20260422T131129Z
DESCRIPTION:4/6 Brno - TJ SOKOL LETOVICE\, z.s. 2:0 (20\,20)
DTSTART;TZID=Europe/Berlin:20250301T130000
DTEND;TZID=Europe/Berlin:20250301T150000
LOCATION:Sportovní hala Letovice\, V zahradách 831 Letovice
SUMMARY:JM-U16M-VIIA: Brno-TJ SOKOL LETOVICE\, z.s.
END:VEVENT
BEGIN:VEVENT
UID:31653137-6433-4532-a433-646566626432
DTSTAMP:20260422T131129Z
DESCRIPTION:1/2 TJ SOKOL LETOVICE\, z.s. - VK Brno B\, z.s. 2:0 (10\,19)
DTSTART;TZID=Europe/Berlin:20250322T090000
DTEND;TZID=Europe/Berlin:20250322T110000
LOCATION:Sportovní hala Křenovice \, Bratří Mrázků 635 Křenovice
SUMMARY:JM-U16M-VIIIB: TJ SOKOL LETOVICE\, z.s.-VK Brno B\, z.s.
END:VEVENT
BEGIN:VEVENT
UID:63333135-3537-4338-b131-646362303661
DTSTAMP:20260422T131129Z
DESCRIPTION:3/5 TJ SOKOL LETOVICE\, z.s. - TJ Slovan Ivančice\, z.s. 2:0 (1
 5\,20)
DTSTART;TZID=Europe/Berlin:20250322T114500
DTEND;TZID=Europe/Berlin:20250322T134500
LOCATION:Sportovní hala Křenovice \, Bratří Mrázků 635 Křenovice
SUMMARY:JM-U16M-VIIIB: TJ SOKOL LETOVICE\, z.s.-TJ Slovan Ivančice\, z.s.
END:VEVENT
BEGIN:VEVENT
UID:30336137-6236-4765-a638-303133396238
DTSTAMP:20260422T131129Z
DESCRIPTION:2/4 Orel Křenovice - TJ SOKOL LETOVICE\, z.s. 2:0 (22\,16)
DTSTART;TZID=Europe/Berlin:20250322T103000
DTEND;TZID=Europe/Berlin:20250322T123000
LOCATION:Sportovní hala Křenovice \, Bratří Mrázků 635 Křenovice
SUMMARY:JM-U16M-VIIIB: Orel Křenovice-TJ SOKOL LETOVICE\, z.s.
END:VEVENT
BEGIN:VEVENT
UID:35616434-6135-4338-b636-333263313035
DTSTAMP:20260422T131129Z
DESCRIPTION:2/3 VK Znojmo - Přímětice 'A' - TJ SOKOL LETOVICE\, z.s. 2:0 (2
 0\,11)\n3. vs 6. Kurt 1
DTSTART;TZID=Europe/Berlin:20250405T103000
DTEND;TZID=Europe/Berlin:20250405T123000
LOCATION:Tělocvična ZŠ Prokopa Diviše a MŠ\, Ke Škole 569 Znojmo - Přímětic
 e
SUMMARY:JM-U16M-F: VK Znojmo - Přímětice 'A'-TJ SOKOL LETOVICE\, z.s.
END:VEVENT
BEGIN:VEVENT
UID:66373465-6339-4261-a437-616332343861
DTSTAMP:20260422T131129Z
DESCRIPTION:3/6 VK Brno B\, z.s. - TJ SOKOL LETOVICE\, z.s. 0:2 (-18\,-21)
 \nL2 vs L3 Kurt 2
DTSTART;TZID=Europe/Berlin:20250405T114500
DTEND;TZID=Europe/Berlin:20250405T134500
LOCATION:Sportovní gymnázium Ludvíka Daňka\, Botanická 63 Brno - Ponava
SUMMARY:JM-U16M-F: VK Brno B\, z.s.-TJ SOKOL LETOVICE\, z.s.
END:VEVENT
BEGIN:VEVENT
UID:64323132-3036-4466-b437-363134346334
DTSTAMP:20260422T131129Z
DESCRIPTION:5/10 Sokol Šlapanice u Brna - TJ SOKOL LETOVICE\, z.s. 2:0 (14\
 ,24)\nW5 vs W6 Kurt 1
DTSTART;TZID=Europe/Berlin:20250405T141500
DTEND;TZID=Europe/Berlin:20250405T161500
LOCATION:ZŠ Na Zahrádkách \, Na Zahrádkách 1716 Šlapanice
SUMMARY:JM-U16M-F: Sokol Šlapanice u Brna-TJ SOKOL LETOVICE\, z.s.
END:VEVENT
END:VCALENDAR
