BEGIN:VCALENDAR
VERSION:2.0
PRODID:-//TJ Sokol Benešov86341//NONSGML kigkonsult.se iCalcreator 2.41.80//
CALSCALE:GREGORIAN
UID:65636133-3839-4639-a131-383437393863
BEGIN:VEVENT
UID:34393934-6636-4063-b964-333365303731
DTSTAMP:20260422T191349Z
DESCRIPTION:1/1 Benešov - Roztoky 3:1 (22\,-15\,14\,19)
DTSTART;TZID=Europe/Berlin:20241005T110000
DTEND;TZID=Europe/Berlin:20241005T130000
LOCATION:ZŠ Jiráskova\, Jiráskova 888 Benešov
SUMMARY:ST-M-1: Benešov-Roztoky
END:VEVENT
BEGIN:VEVENT
UID:30373237-6433-4361-b632-623038646432
DTSTAMP:20260422T191349Z
DESCRIPTION:1/5 Benešov - Roztoky 1:3 (-15\,-22\,12\,-16)
DTSTART;TZID=Europe/Berlin:20241005T150000
DTEND;TZID=Europe/Berlin:20241005T170000
LOCATION:ZŠ Jiráskova\, Jiráskova 888 Benešov
SUMMARY:ST-M-1: Benešov-Roztoky
END:VEVENT
BEGIN:VEVENT
UID:63623832-6663-4763-b562-623633353832
DTSTAMP:20260422T191349Z
DESCRIPTION:2/12 Benešov - Nymburk 2:3 (-23\,24\,-17\,16\,-13)
DTSTART;TZID=Europe/Berlin:20241012T110000
DTEND;TZID=Europe/Berlin:20241012T130000
LOCATION:ZŠ Jiráskova\, Jiráskova 888 Benešov
SUMMARY:ST-M-1: Benešov-Nymburk
END:VEVENT
BEGIN:VEVENT
UID:30386534-6238-4438-a330-323763363135
DTSTAMP:20260422T191349Z
DESCRIPTION:2/16 Benešov - Nymburk 3:0 (17\,19\,18)
DTSTART;TZID=Europe/Berlin:20241012T150000
DTEND;TZID=Europe/Berlin:20241012T170000
LOCATION:ZŠ Jiráskova\, Jiráskova 888 Benešov
SUMMARY:ST-M-1: Benešov-Nymburk
END:VEVENT
BEGIN:VEVENT
UID:30386236-6437-4164-b636-653938623863
DTSTAMP:20260422T191349Z
DESCRIPTION:4/27 Benešov - Mělník 3:1 (17\,-23\,13\,21)
DTSTART;TZID=Europe/Berlin:20241102T110000
DTEND;TZID=Europe/Berlin:20241102T130000
LOCATION:ZŠ Jiráskova\, Jiráskova 888 Benešov
SUMMARY:ST-M-1: Benešov-Mělník
END:VEVENT
BEGIN:VEVENT
UID:39643662-3333-4233-b035-663731363631
DTSTAMP:20260422T191349Z
DESCRIPTION:4/31 Benešov - Mělník 3:1 (-21\,13\,16\,21)
DTSTART;TZID=Europe/Berlin:20241102T150000
DTEND;TZID=Europe/Berlin:20241102T170000
LOCATION:ZŠ Jiráskova\, Jiráskova 888 Benešov
SUMMARY:ST-M-1: Benešov-Mělník
END:VEVENT
BEGIN:VEVENT
UID:36626561-6434-4437-b962-306638393833
DTSTAMP:20260422T191349Z
DESCRIPTION:6/42 Benešov - Zruč nad Sázavou 3:0 (16\,20\,17)
DTSTART;TZID=Europe/Berlin:20241123T100000
DTEND;TZID=Europe/Berlin:20241123T120000
LOCATION:ZŠ Jiráskova\, Jiráskova 888 Benešov
SUMMARY:ST-M-1: Benešov-Zruč nad Sázavou
END:VEVENT
BEGIN:VEVENT
UID:36346231-3639-4936-a566-303935396561
DTSTAMP:20260422T191349Z
DESCRIPTION:6/46 Benešov - Zruč nad Sázavou 3:0 (23\,21\,10)
DTSTART;TZID=Europe/Berlin:20241123T100000
DTEND;TZID=Europe/Berlin:20241123T120000
LOCATION:ZŠ Jiráskova\, Jiráskova 888 Benešov
SUMMARY:ST-M-1: Benešov-Zruč nad Sázavou
END:VEVENT
BEGIN:VEVENT
UID:33313139-3561-4166-b639-653335653331
DTSTAMP:20260422T191349Z
DESCRIPTION:10/74 Benešov - Vlašim 3:0 (11\,20\,20)
DTSTART;TZID=Europe/Berlin:20250215T110000
DTEND;TZID=Europe/Berlin:20250215T130000
LOCATION:ZŠ Jiráskova\, Jiráskova 888 Benešov
SUMMARY:ST-M-1: Benešov-Vlašim
END:VEVENT
BEGIN:VEVENT
UID:61393836-3233-4461-a630-643964316362
DTSTAMP:20260422T191349Z
DESCRIPTION:10/78 Benešov - Vlašim 3:0 (13\,10\,13)
DTSTART;TZID=Europe/Berlin:20250215T150000
DTEND;TZID=Europe/Berlin:20250215T170000
LOCATION:ZŠ Jiráskova\, Jiráskova 888 Benešov
SUMMARY:ST-M-1: Benešov-Vlašim
END:VEVENT
BEGIN:VEVENT
UID:32363530-3032-4263-b931-373334326435
DTSTAMP:20260422T191349Z
DESCRIPTION:12/91 Benešov - Kralupy 3:0 (22\,22\,12)
DTSTART;TZID=Europe/Berlin:20250308T110000
DTEND;TZID=Europe/Berlin:20250308T130000
LOCATION:ZŠ Jiráskova\, Jiráskova 888 Benešov
SUMMARY:ST-M-1: Benešov-Kralupy
END:VEVENT
BEGIN:VEVENT
UID:38336361-6138-4664-a261-663464653561
DTSTAMP:20260422T191349Z
DESCRIPTION:12/95 Benešov - Kralupy 3:0 (14\,19\,19)
DTSTART;TZID=Europe/Berlin:20250308T150000
DTEND;TZID=Europe/Berlin:20250308T170000
LOCATION:ZŠ Jiráskova\, Jiráskova 888 Benešov
SUMMARY:ST-M-1: Benešov-Kralupy
END:VEVENT
BEGIN:VEVENT
UID:66356435-6238-4630-a336-643861303539
DTSTAMP:20260422T191349Z
DESCRIPTION:14/108 Benešov - Tuchlovice A 3:0 (22\,20\,29)
DTSTART;TZID=Europe/Berlin:20250322T110000
DTEND;TZID=Europe/Berlin:20250322T130000
LOCATION:ZŠ Jiráskova\, Jiráskova 888 Benešov
SUMMARY:ST-M-1: Benešov-Tuchlovice A
END:VEVENT
BEGIN:VEVENT
UID:66316537-3833-4930-b138-303135303863
DTSTAMP:20260422T191349Z
DESCRIPTION:14/112 Benešov - Tuchlovice A 3:0 (11\,20\,18)
DTSTART;TZID=Europe/Berlin:20250322T150000
DTEND;TZID=Europe/Berlin:20250322T170000
LOCATION:ZŠ Jiráskova\, Jiráskova 888 Benešov
SUMMARY:ST-M-1: Benešov-Tuchlovice A
END:VEVENT
BEGIN:VEVENT
UID:31353861-6462-4234-b838-623632616436
DTSTAMP:20260422T191349Z
DESCRIPTION:3/18 Vlašim - Benešov 0:3 (-19\,-22\,-18)
DTSTART;TZID=Europe/Berlin:20241019T100000
DTEND;TZID=Europe/Berlin:20241019T120000
LOCATION:sokolovna\, Sportovní 618 Vlašim
SUMMARY:ST-M-1: Vlašim-Benešov
END:VEVENT
BEGIN:VEVENT
UID:65613236-3437-4362-a132-376638366366
DTSTAMP:20260422T191349Z
DESCRIPTION:3/22 Vlašim - Benešov 0:3 (-12\,-22\,-11)
DTSTART;TZID=Europe/Berlin:20241019T100000
DTEND;TZID=Europe/Berlin:20241019T120000
LOCATION:sokolovna\, Sportovní 618 Vlašim
SUMMARY:ST-M-1: Vlašim-Benešov
END:VEVENT
BEGIN:VEVENT
UID:35366465-3061-4463-b435-613538643139
DTSTAMP:20260422T191349Z
DESCRIPTION:5/35 Kralupy - Benešov 0:3 (-9\,-8\,-12)
DTSTART;TZID=Europe/Berlin:20241109T100000
DTEND;TZID=Europe/Berlin:20241109T120000
LOCATION:TJ KRALUPY\, z.s.\, Gen. Klapálka 1029 Kralupy nad Vltavou
SUMMARY:ST-M-1: Kralupy-Benešov
END:VEVENT
BEGIN:VEVENT
UID:38646538-3865-4635-b365-643632353135
DTSTAMP:20260422T191349Z
DESCRIPTION:5/39 Kralupy - Benešov 0:3 (-20\,-14\,-17)
DTSTART;TZID=Europe/Berlin:20241109T100000
DTEND;TZID=Europe/Berlin:20241109T120000
LOCATION:TJ KRALUPY\, z.s.\, Gen. Klapálka 1029 Kralupy nad Vltavou
SUMMARY:ST-M-1: Kralupy-Benešov
END:VEVENT
BEGIN:VEVENT
UID:34303237-3031-4233-b461-656234383866
DTSTAMP:20260422T191349Z
DESCRIPTION:7/52 Tuchlovice A - Benešov 2:3 (6\,-21\,22\,-22\,-13)
DTSTART;TZID=Europe/Berlin:20241130T100000
DTEND;TZID=Europe/Berlin:20241130T120000
LOCATION:Sportovní hala - Doksy\, Sokolská 230 Doksy
SUMMARY:ST-M-1: Tuchlovice A-Benešov
END:VEVENT
BEGIN:VEVENT
UID:32623633-6164-4064-a637-613337626535
DTSTAMP:20260422T191349Z
DESCRIPTION:7/56 Tuchlovice A - Benešov 0:3 (-21\,-10\,-17)
DTSTART;TZID=Europe/Berlin:20241130T100000
DTEND;TZID=Europe/Berlin:20241130T120000
LOCATION:Sportovní hala - Doksy\, Sokolská 230 Doksy
SUMMARY:ST-M-1: Tuchlovice A-Benešov
END:VEVENT
BEGIN:VEVENT
UID:32353734-3365-4266-a136-333530306333
DTSTAMP:20260422T191349Z
DESCRIPTION:8/57 Roztoky - Benešov 3:2 (17\,22\,-15\,-20\,9)
DTSTART;TZID=Europe/Berlin:20250125T100000
DTEND;TZID=Europe/Berlin:20250125T120000
LOCATION:Tělocvična ZŠ Roztoky\, Školní nám. 470 Roztoky
SUMMARY:ST-M-1: Roztoky-Benešov
END:VEVENT
BEGIN:VEVENT
UID:35663765-6338-4339-a361-633664393437
DTSTAMP:20260422T191349Z
DESCRIPTION:8/61 Roztoky - Benešov 3:1 (15\,-23\,22\,20)
DTSTART;TZID=Europe/Berlin:20250125T100000
DTEND;TZID=Europe/Berlin:20250125T120000
LOCATION:Tělocvična ZŠ Roztoky\, Školní nám. 470 Roztoky
SUMMARY:ST-M-1: Roztoky-Benešov
END:VEVENT
BEGIN:VEVENT
UID:64336661-6466-4533-b738-616163393737
DTSTAMP:20260422T191349Z
DESCRIPTION:9/68 Nymburk - Benešov 2:3 (23\,-17\,-19\,20\,-13)
DTSTART;TZID=Europe/Berlin:20250208T090000
DTEND;TZID=Europe/Berlin:20250208T110000
LOCATION:Bios\, V Kolonii 1804 Nymburk
SUMMARY:ST-M-1: Nymburk-Benešov
END:VEVENT
BEGIN:VEVENT
UID:35393762-3439-4231-b238-313434323965
DTSTAMP:20260422T191349Z
DESCRIPTION:9/72 Nymburk - Benešov 3:0 (17\,23\,19)
DTSTART;TZID=Europe/Berlin:20250208T130000
DTEND;TZID=Europe/Berlin:20250208T150000
LOCATION:Bios\, V Kolonii 1804 Nymburk
SUMMARY:ST-M-1: Nymburk-Benešov
END:VEVENT
BEGIN:VEVENT
UID:39393239-3831-4938-a261-383336633630
DTSTAMP:20260422T191349Z
DESCRIPTION:11/83 Mělník - Benešov 0:3 (-15\,-15\,-24)
DTSTART;TZID=Europe/Berlin:20250222T100000
DTEND;TZID=Europe/Berlin:20250222T120000
LOCATION:Hala SPŠS - Koktánek\, Pražská 416 Mělník
SUMMARY:ST-M-1: Mělník-Benešov
END:VEVENT
BEGIN:VEVENT
UID:65333566-3363-4236-b761-376632643462
DTSTAMP:20260422T191349Z
DESCRIPTION:11/87 Mělník - Benešov 0:3 (-15\,-14\,-16)
DTSTART;TZID=Europe/Berlin:20250222T100000
DTEND;TZID=Europe/Berlin:20250222T120000
LOCATION:Hala SPŠS - Koktánek\, Pražská 416 Mělník
SUMMARY:ST-M-1: Mělník-Benešov
END:VEVENT
BEGIN:VEVENT
UID:37386432-6563-4935-b434-376632363066
DTSTAMP:20260422T191349Z
DESCRIPTION:13/98 Zruč nad Sázavou - Benešov 0:3 (-29\,-24\,-18)
DTSTART;TZID=Europe/Berlin:20250315T100000
DTEND;TZID=Europe/Berlin:20250315T120000
LOCATION:Sportovní hala Zruč nad Sázavou\, Na Pohoří 575 Zruč nad Sázavou
SUMMARY:ST-M-1: Zruč nad Sázavou-Benešov
END:VEVENT
BEGIN:VEVENT
UID:65316336-6437-4961-a461-666235383739
DTSTAMP:20260422T191349Z
DESCRIPTION:13/102 Zruč nad Sázavou - Benešov 1:3 (-24\,21\,-20\,-19)
DTSTART;TZID=Europe/Berlin:20250315T100000
DTEND;TZID=Europe/Berlin:20250315T120000
LOCATION:Sportovní hala Zruč nad Sázavou\, Na Pohoří 575 Zruč nad Sázavou
SUMMARY:ST-M-1: Zruč nad Sázavou-Benešov
END:VEVENT
END:VCALENDAR
