BEGIN:VCALENDAR
VERSION:2.0
PRODID:-//VK Brno A86349//NONSGML kigkonsult.se iCalcreator 2.41.80//
CALSCALE:GREGORIAN
UID:34313161-3034-4561-b235-303437323535
BEGIN:VEVENT
UID:35393038-3434-4232-b733-323664333665
DTSTAMP:20260421T134924Z
DESCRIPTION:1/1 Brno - Orel Křenovice 2:1 (-26\,23\,5)
DTSTART;TZID=Europe/Berlin:20240921T090000
DTEND;TZID=Europe/Berlin:20240921T110000
LOCATION:Hala Tyršova\, Tyršova 1221 Rousínov
SUMMARY:JM-U16M-KVC: Brno-Orel Křenovice
END:VEVENT
BEGIN:VEVENT
UID:61343563-6164-4533-a336-373639376165
DTSTAMP:20260421T134924Z
DESCRIPTION:4/4 Brno - TJ TESLA BRNO z.s. 2:1 (-16\,9\,5)
DTSTART;TZID=Europe/Berlin:20240921T130000
DTEND;TZID=Europe/Berlin:20240921T150000
LOCATION:Hala Tyršova\, Tyršova 1221 Rousínov
SUMMARY:JM-U16M-KVC: Brno-TJ TESLA BRNO z.s.
END:VEVENT
BEGIN:VEVENT
UID:66663732-6330-4434-b562-616335363364
DTSTAMP:20260421T134924Z
DESCRIPTION:6/6 VK Znojmo - Přímětice 'B' - Brno 0:2 (-16\,-13)
DTSTART;TZID=Europe/Berlin:20240921T153000
DTEND;TZID=Europe/Berlin:20240921T173000
LOCATION:Hala Tyršova\, Tyršova 1221 Rousínov
SUMMARY:JM-U16M-KVC: VK Znojmo - Přímětice 'B'-Brno
END:VEVENT
BEGIN:VEVENT
UID:63346430-6461-4034-a436-373764366361
DTSTAMP:20260421T134924Z
DESCRIPTION:3/3 Brno - VK Znojmo - Přímětice 'A' 0:2 (-18\,-21)
DTSTART;TZID=Europe/Berlin:20241005T114500
DTEND;TZID=Europe/Berlin:20241005T134500
LOCATION:Tělocvična ZŠ Prokopa Diviše a MŠ\, Ke Škole 569 Znojmo - Přímětic
 e
SUMMARY:JM-U16M-IA: Brno-VK Znojmo - Přímětice 'A'
END:VEVENT
BEGIN:VEVENT
UID:65316530-3662-4539-a262-386565376130
DTSTAMP:20260421T134924Z
DESCRIPTION:5/5 Brno - Orel Křenovice 2:0 (22\,18)
DTSTART;TZID=Europe/Berlin:20241023T173000
DTEND;TZID=Europe/Berlin:20241023T193000
LOCATION:Tělocvična ZŠ Prokopa Diviše a MŠ\, Ke Škole 569 Znojmo - Přímětic
 e
SUMMARY:JM-U16M-IA: Brno-Orel Křenovice
END:VEVENT
BEGIN:VEVENT
UID:35656162-6131-4462-a138-316634323036
DTSTAMP:20260421T134924Z
DESCRIPTION:2/2 Sokol Šlapanice u Brna - Brno 0:2 (-12\,-17)
DTSTART;TZID=Europe/Berlin:20241005T103000
DTEND;TZID=Europe/Berlin:20241005T123000
LOCATION:Tělocvična ZŠ Prokopa Diviše a MŠ\, Ke Škole 569 Znojmo - Přímětic
 e
SUMMARY:JM-U16M-IA: Sokol Šlapanice u Brna-Brno
END:VEVENT
BEGIN:VEVENT
UID:30646630-3539-4333-a632-316264643730
DTSTAMP:20260421T134924Z
DESCRIPTION:6/6 Brno - Sokol Šlapanice u Brna 0:2 (-18\,-20)
DTSTART;TZID=Europe/Berlin:20241109T153000
DTEND;TZID=Europe/Berlin:20241109T173000
LOCATION:Tělocvična ZŠ Šlapanice\, Masarykovo náměstí 1594 Šlapanice
SUMMARY:JM-U16M-IIA: Brno-Sokol Šlapanice u Brna
END:VEVENT
BEGIN:VEVENT
UID:61643132-6463-4463-a538-323961643266
DTSTAMP:20260421T134924Z
DESCRIPTION:2/2 VK Znojmo - Přímětice 'A' - Brno 0:2 (-15\,-17)
DTSTART;TZID=Europe/Berlin:20241109T103000
DTEND;TZID=Europe/Berlin:20241109T123000
LOCATION:Tělocvična ZŠ Šlapanice\, Masarykovo náměstí 1594 Šlapanice
SUMMARY:JM-U16M-IIA: VK Znojmo - Přímětice 'A'-Brno
END:VEVENT
BEGIN:VEVENT
UID:34626632-3663-4339-b637-373138343432
DTSTAMP:20260421T134924Z
DESCRIPTION:3/3 VK Rousínov - Brno 2:0 (21\,19)
DTSTART;TZID=Europe/Berlin:20241109T114500
DTEND;TZID=Europe/Berlin:20241109T134500
LOCATION:Tělocvična ZŠ Šlapanice\, Masarykovo náměstí 1594 Šlapanice
SUMMARY:JM-U16M-IIA: VK Rousínov-Brno
END:VEVENT
BEGIN:VEVENT
UID:34343538-6362-4634-a534-323263633138
DTSTAMP:20260421T134924Z
DESCRIPTION:1/1 Brno - Orel Křenovice 2:0 (22\,21)
DTSTART;TZID=Europe/Berlin:20241123T090000
DTEND;TZID=Europe/Berlin:20241123T110000
LOCATION:ZŠ Vejrostova\, Vejrostova 1066 Brno - Bystrc
SUMMARY:JM-U16M-IIIA: Brno-Orel Křenovice
END:VEVENT
BEGIN:VEVENT
UID:36663735-3866-4532-b537-663233393330
DTSTAMP:20260421T134924Z
DESCRIPTION:2/4 Brno - VK Rousínov 0:2 (-21\,-16)
DTSTART;TZID=Europe/Berlin:20241123T103000
DTEND;TZID=Europe/Berlin:20241123T123000
LOCATION:ZŠ Vejrostova\, Vejrostova 1066 Brno - Bystrc
SUMMARY:JM-U16M-IIIA: Brno-VK Rousínov
END:VEVENT
BEGIN:VEVENT
UID:32393334-3035-4961-b031-653061646535
DTSTAMP:20260421T134924Z
DESCRIPTION:3/6 Sokol Šlapanice u Brna - Brno 0:2 (-23\,-17)
DTSTART;TZID=Europe/Berlin:20241123T114500
DTEND;TZID=Europe/Berlin:20241123T134500
LOCATION:ZŠ Vejrostova\, Vejrostova 1066 Brno - Bystrc
SUMMARY:JM-U16M-IIIA: Sokol Šlapanice u Brna-Brno
END:VEVENT
BEGIN:VEVENT
UID:39333733-6538-4533-b334-646539646637
DTSTAMP:20260421T134924Z
DESCRIPTION:6/6 Brno - VK Rousínov 1:2 (-22\,12\,-13)
DTSTART;TZID=Europe/Berlin:20241207T153000
DTEND;TZID=Europe/Berlin:20241207T173000
LOCATION:Hala Tyršova\, Tyršova 1221 Rousínov
SUMMARY:JM-U16M-IVA: Brno-VK Rousínov
END:VEVENT
BEGIN:VEVENT
UID:62613436-3331-4062-b934-326130343532
DTSTAMP:20260421T134924Z
DESCRIPTION:2/2 VK Znojmo - Přímětice 'A' - Brno 2:0 (21\,14)
DTSTART;TZID=Europe/Berlin:20241207T103000
DTEND;TZID=Europe/Berlin:20241207T123000
LOCATION:Hala Tyršova\, Tyršova 1221 Rousínov
SUMMARY:JM-U16M-IVA: VK Znojmo - Přímětice 'A'-Brno
END:VEVENT
BEGIN:VEVENT
UID:32643161-3666-4139-a538-396538643338
DTSTAMP:20260421T134924Z
DESCRIPTION:3/3 Sokol Šlapanice u Brna - Brno 0:2 (-10\,-20)
DTSTART;TZID=Europe/Berlin:20241207T114500
DTEND;TZID=Europe/Berlin:20241207T134500
LOCATION:Hala Tyršova\, Tyršova 1221 Rousínov
SUMMARY:JM-U16M-IVA: Sokol Šlapanice u Brna-Brno
END:VEVENT
BEGIN:VEVENT
UID:62633232-3637-4535-b239-333130323030
DTSTAMP:20260421T134924Z
DESCRIPTION:3/6 Brno - Orel Křenovice 2:0 (16\,10)
DTSTART;TZID=Europe/Berlin:20250111T114500
DTEND;TZID=Europe/Berlin:20250111T134500
LOCATION:Sportovní hala Křenovice \, Bratří Mrázků 635 Křenovice
SUMMARY:JM-U16M-VA: Brno-Orel Křenovice
END:VEVENT
BEGIN:VEVENT
UID:30663837-3131-4230-a132-396365333231
DTSTAMP:20260421T134924Z
DESCRIPTION:1/2 VK Rousínov - Brno 1:2 (15\,-22\,-12)
DTSTART;TZID=Europe/Berlin:20250111T090000
DTEND;TZID=Europe/Berlin:20250111T110000
LOCATION:Sportovní hala Křenovice \, Bratří Mrázků 635 Křenovice
SUMMARY:JM-U16M-VA: VK Rousínov-Brno
END:VEVENT
BEGIN:VEVENT
UID:66636538-3162-4761-b332-353032383534
DTSTAMP:20260421T134924Z
DESCRIPTION:2/3 Sokol Šlapanice u Brna - Brno 0:2 (-13\,-11)
DTSTART;TZID=Europe/Berlin:20250111T103000
DTEND;TZID=Europe/Berlin:20250111T123000
LOCATION:Sportovní hala Křenovice \, Bratří Mrázků 635 Křenovice
SUMMARY:JM-U16M-VA: Sokol Šlapanice u Brna-Brno
END:VEVENT
BEGIN:VEVENT
UID:64373162-3233-4263-b566-363864653563
DTSTAMP:20260421T134924Z
DESCRIPTION:1/2 Brno - Sokol Šlapanice u Brna 2:0 (19\,16)
DTSTART;TZID=Europe/Berlin:20250125T090000
DTEND;TZID=Europe/Berlin:20250125T110000
LOCATION:Sportovní hala Rousínov\, Habrovanská 1199 Rousínov
SUMMARY:JM-U16M-VIA: Brno-Sokol Šlapanice u Brna
END:VEVENT
BEGIN:VEVENT
UID:31306230-3664-4530-b133-653063303530
DTSTAMP:20260421T134924Z
DESCRIPTION:3/5 Brno - VK Znojmo - Přímětice 'A' 0:2 (-23\,-25)
DTSTART;TZID=Europe/Berlin:20250125T114500
DTEND;TZID=Europe/Berlin:20250125T134500
LOCATION:Sportovní hala Rousínov\, Habrovanská 1199 Rousínov
SUMMARY:JM-U16M-VIA: Brno-VK Znojmo - Přímětice 'A'
END:VEVENT
BEGIN:VEVENT
UID:36656263-6463-4462-b631-386164663834
DTSTAMP:20260421T134924Z
DESCRIPTION:2/4 VK Rousínov - Brno 2:1 (17\,-19\,10)
DTSTART;TZID=Europe/Berlin:20250125T103000
DTEND;TZID=Europe/Berlin:20250125T123000
LOCATION:Sportovní hala Rousínov\, Habrovanská 1199 Rousínov
SUMMARY:JM-U16M-VIA: VK Rousínov-Brno
END:VEVENT
BEGIN:VEVENT
UID:37616239-3466-4131-b663-326630376161
DTSTAMP:20260421T134924Z
DESCRIPTION:4/6 Brno - TJ SOKOL LETOVICE\, z.s. 2:0 (20\,20)
DTSTART;TZID=Europe/Berlin:20250301T130000
DTEND;TZID=Europe/Berlin:20250301T150000
LOCATION:Sportovní hala Letovice\, V zahradách 831 Letovice
SUMMARY:JM-U16M-VIIA: Brno-TJ SOKOL LETOVICE\, z.s.
END:VEVENT
BEGIN:VEVENT
UID:33633962-3732-4163-a434-386465646231
DTSTAMP:20260421T134924Z
DESCRIPTION:2/2 VK Rousínov - Brno 1:2 (16\,-16\,-12)
DTSTART;TZID=Europe/Berlin:20250301T103000
DTEND;TZID=Europe/Berlin:20250301T123000
LOCATION:Sportovní hala Letovice\, V zahradách 831 Letovice
SUMMARY:JM-U16M-VIIA: VK Rousínov-Brno
END:VEVENT
BEGIN:VEVENT
UID:62613930-3831-4165-b830-663364333062
DTSTAMP:20260421T134924Z
DESCRIPTION:3/4 VK Znojmo - Přímětice 'A' - Brno 2:1 (-16\,14\,12)
DTSTART;TZID=Europe/Berlin:20250301T114500
DTEND;TZID=Europe/Berlin:20250301T134500
LOCATION:Sportovní hala Letovice\, V zahradách 831 Letovice
SUMMARY:JM-U16M-VIIA: VK Znojmo - Přímětice 'A'-Brno
END:VEVENT
BEGIN:VEVENT
UID:30336334-3766-4136-b961-666230336164
DTSTAMP:20260421T134924Z
DESCRIPTION:1/1 Brno - Sokol Šlapanice u Brna 2:0 (5\,20)
DTSTART;TZID=Europe/Berlin:20250322T090000
DTEND;TZID=Europe/Berlin:20250322T110000
LOCATION:ZŠ Vejrostova\, Vejrostova 1066 Brno - Bystrc
SUMMARY:JM-U16M-VIIIA: Brno-Sokol Šlapanice u Brna
END:VEVENT
BEGIN:VEVENT
UID:61353739-3061-4132-b366-373763396264
DTSTAMP:20260421T134924Z
DESCRIPTION:2/4 Brno - VK Znojmo - Přímětice 'A' 1:2 (21\,-25\,-6)
DTSTART;TZID=Europe/Berlin:20250322T103000
DTEND;TZID=Europe/Berlin:20250322T123000
LOCATION:ZŠ Vejrostova\, Vejrostova 1066 Brno - Bystrc
SUMMARY:JM-U16M-VIIIA: Brno-VK Znojmo - Přímětice 'A'
END:VEVENT
BEGIN:VEVENT
UID:36626565-6634-4162-b963-623863643563
DTSTAMP:20260421T134924Z
DESCRIPTION:3/6 VK Rousínov - Brno 0:2 (-24\,-17)
DTSTART;TZID=Europe/Berlin:20250322T114500
DTEND;TZID=Europe/Berlin:20250322T134500
LOCATION:ZŠ Vejrostova\, Vejrostova 1066 Brno - Bystrc
SUMMARY:JM-U16M-VIIIA: VK Rousínov-Brno
END:VEVENT
BEGIN:VEVENT
UID:65386664-6361-4839-b230-353566666230
DTSTAMP:20260421T134924Z
DESCRIPTION:1/1 Brno - TJ Slovan Ivančice\, z.s. 2:0 (12\,13)\n1. vs 8. Kur
 t 1
DTSTART;TZID=Europe/Berlin:20250405T090000
DTEND;TZID=Europe/Berlin:20250405T110000
LOCATION:Sportovní gymnázium Ludvíka Daňka\, Botanická 63 Brno - Ponava
SUMMARY:JM-U16M-F: Brno-TJ Slovan Ivančice\, z.s.
END:VEVENT
BEGIN:VEVENT
UID:32303464-6335-4361-b166-373334646135
DTSTAMP:20260421T134924Z
DESCRIPTION:4/7 Brno - Orel Křenovice 2:0 (11\,18)\nW1 vs W4 Kurt 1
DTSTART;TZID=Europe/Berlin:20250405T130000
DTEND;TZID=Europe/Berlin:20250405T150000
LOCATION:Sportovní gymnázium Ludvíka Daňka\, Botanická 63 Brno - Ponava
SUMMARY:JM-U16M-F: Brno-Orel Křenovice
END:VEVENT
BEGIN:VEVENT
UID:61643133-3936-4432-b835-343763343035
DTSTAMP:20260421T134924Z
DESCRIPTION:6/12 Brno - VK Rousínov 2:0 (23\,23)\nW7 vs W8 Kurt 1
DTSTART;TZID=Europe/Berlin:20250405T153000
DTEND;TZID=Europe/Berlin:20250405T173000
LOCATION:Sportovní gymnázium Ludvíka Daňka\, Botanická 63 Brno - Ponava
SUMMARY:JM-U16M-F: Brno-VK Rousínov
END:VEVENT
BEGIN:VEVENT
UID:32623532-6431-4562-b266-306163353466
DTSTAMP:20260421T134924Z
DESCRIPTION:4/9 Brno - Lvi Praha A 0:2 (-15\,-21)
DTSTART;TZID=Europe/Berlin:20250503T140000
DTEND;TZID=Europe/Berlin:20250503T160000
LOCATION:Sportovní hala Na Střelnici\, Pražská 2162 Svitavy - Předměstí
SUMMARY:MCR-U16M-D: Brno-Lvi Praha A
END:VEVENT
BEGIN:VEVENT
UID:34333064-6461-4938-b234-616266333936
DTSTAMP:20260421T134924Z
DESCRIPTION:6/13 Brno - Kojetín 0:2 (-13\,-20)
DTSTART;TZID=Europe/Berlin:20250503T170000
DTEND;TZID=Europe/Berlin:20250503T190000
LOCATION:Sportovní hala Na Střelnici\, Pražská 2162 Svitavy - Předměstí
SUMMARY:MCR-U16M-D: Brno-Kojetín
END:VEVENT
BEGIN:VEVENT
UID:61373231-3935-4332-b566-356361353335
DTSTAMP:20260421T134924Z
DESCRIPTION:9/20 Brno - Karlovarsko 2:0 (23\,10)
DTSTART;TZID=Europe/Berlin:20250504T121000
DTEND;TZID=Europe/Berlin:20250504T141000
LOCATION:Sportovní hala Na Střelnici\, Pražská 2162 Svitavy - Předměstí
SUMMARY:MCR-U16M-D: Brno-Karlovarsko
END:VEVENT
BEGIN:VEVENT
UID:32343066-6533-4535-a331-303461353262
DTSTAMP:20260421T134924Z
DESCRIPTION:1/1 Svitavy A - Brno 2:0 (10\,20)
DTSTART;TZID=Europe/Berlin:20250503T100000
DTEND;TZID=Europe/Berlin:20250503T120000
LOCATION:Sportovní hala Na Střelnici\, Pražská 2162 Svitavy - Předměstí
SUMMARY:MCR-U16M-D: Svitavy A-Brno
END:VEVENT
BEGIN:VEVENT
UID:34353339-3730-4438-b933-383661323731
DTSTAMP:20260421T134924Z
DESCRIPTION:3/6 VSK Český Krumlov - Brno 1:2 (-12\,23\,-8)
DTSTART;TZID=Europe/Berlin:20250503T124000
DTEND;TZID=Europe/Berlin:20250503T144000
LOCATION:Sportovní hala Na Střelnici\, Pražská 2162 Svitavy - Předměstí
SUMMARY:MCR-U16M-D: VSK Český Krumlov-Brno
END:VEVENT
BEGIN:VEVENT
UID:33613766-6630-4737-b361-363033656437
DTSTAMP:20260421T134924Z
DESCRIPTION:7/16 Česká Lípa - Brno 0:2 (-13\,-17)
DTSTART;TZID=Europe/Berlin:20250504T093000
DTEND;TZID=Europe/Berlin:20250504T113000
LOCATION:Sportovní hala Na Střelnici\, Pražská 2162 Svitavy - Předměstí
SUMMARY:MCR-U16M-D: Česká Lípa-Brno
END:VEVENT
BEGIN:VEVENT
UID:30666137-3063-4032-b937-303539346366
DTSTAMP:20260421T134924Z
DESCRIPTION:2/3 Brno - VS Ostrava 'A' 0:2 (-9\,-22)
DTSTART;TZID=Europe/Berlin:20250530T154500
DTEND;TZID=Europe/Berlin:20250530T174500
LOCATION:TJ Slavia Hradec Králové\, Víta Nejedlého 1216 Hradec Králové
SUMMARY:MCR-U16M-FB: Brno-VS Ostrava 'A'
END:VEVENT
BEGIN:VEVENT
UID:63626262-3532-4231-b835-313863373564
DTSTAMP:20260421T134924Z
DESCRIPTION:1/1 Prosek A - Brno 2:0 (21\,20)
DTSTART;TZID=Europe/Berlin:20250530T130500
DTEND;TZID=Europe/Berlin:20250530T150500
LOCATION:TJ Slavia Hradec Králové\, Víta Nejedlého 1216 Hradec Králové
SUMMARY:MCR-U16M-FB: Prosek A-Brno
END:VEVENT
BEGIN:VEVENT
UID:30616564-6430-4639-b463-613431343764
DTSTAMP:20260421T134924Z
DESCRIPTION:3/5 Zlín - Brno 0:2 (-11\,-16)
DTSTART;TZID=Europe/Berlin:20250530T182500
DTEND;TZID=Europe/Berlin:20250530T202500
LOCATION:TJ Slavia Hradec Králové\, Víta Nejedlého 1216 Hradec Králové
SUMMARY:MCR-U16M-FB: Zlín-Brno
END:VEVENT
BEGIN:VEVENT
UID:38626238-6663-4166-a330-323839666237
DTSTAMP:20260421T134924Z
DESCRIPTION:1/3 Brno - Lvi Praha A 0:2 (-21\,-22)\nB3 - D1
DTSTART;TZID=Europe/Berlin:20250531T113000
DTEND;TZID=Europe/Berlin:20250531T133000
LOCATION:TJ Slavia Hradec Králové\, Víta Nejedlého 1216 Hradec Králové
SUMMARY:MCR-U16M-FF: Brno-Lvi Praha A
END:VEVENT
BEGIN:VEVENT
UID:36626366-6136-4435-a662-363664656264
DTSTAMP:20260421T134924Z
DESCRIPTION:3/9 Brno - České Budějovice A 0:2 (-21\,-21)\nB3 - D2
DTSTART;TZID=Europe/Berlin:20250531T173000
DTEND;TZID=Europe/Berlin:20250531T193000
LOCATION:TJ Slavia Hradec Králové\, Víta Nejedlého 1216 Hradec Králové
SUMMARY:MCR-U16M-FF: Brno-České Budějovice A
END:VEVENT
BEGIN:VEVENT
UID:35666632-3235-4031-a261-666466666134
DTSTAMP:20260421T134924Z
DESCRIPTION:2/6 Sokol Mn. Hradiště - Brno 2:0 (21\,23)\nD3 - B3
DTSTART;TZID=Europe/Berlin:20250531T143000
DTEND;TZID=Europe/Berlin:20250531T163000
LOCATION:TJ Slavia Hradec Králové\, Víta Nejedlého 1216 Hradec Králové
SUMMARY:MCR-U16M-FF: Sokol Mn. Hradiště-Brno
END:VEVENT
BEGIN:VEVENT
UID:63633230-6338-4738-b036-353533616131
DTSTAMP:20260421T134924Z
DESCRIPTION:1/3 Kojetín - Brno 1:2 (22\,-23\,-6)\nE5 - F6
DTSTART;TZID=Europe/Berlin:20250601T083000
DTEND;TZID=Europe/Berlin:20250601T103000
LOCATION:Městská sportovní hala\, Hanusíkova 1476 Kojetín - Kojetín I-Město
SUMMARY:MCR-U16M-FI: Kojetín-Brno
END:VEVENT
BEGIN:VEVENT
UID:34376238-3738-4965-b362-623839336338
DTSTAMP:20260421T134924Z
DESCRIPTION:2/8 Sokol Mn. Hradiště - Brno 2:0 (18\,11)\no 9. místo
DTSTART;TZID=Europe/Berlin:20250601T110500
DTEND;TZID=Europe/Berlin:20250601T130500
LOCATION:Sportovní hala BIOS\, Sokolovská 254 Mnichovo Hradiště
SUMMARY:MCR-U16M-FI: Sokol Mn. Hradiště-Brno
END:VEVENT
END:VCALENDAR
