BEGIN:VCALENDAR
VERSION:2.0
PRODID:-//T.J. Sokol Staré Město - Náchod86352//NONSGML kigkonsult.se iCalcreator 2.41.80//
CALSCALE:GREGORIAN
UID:34306461-3665-4137-a666-636338393933
BEGIN:VEVENT
UID:63326466-3166-4431-a134-623632323861
DTSTAMP:20260422T111939Z
DESCRIPTION:3/12 Sokol S.M.- Náchod - Broumov 3:0 (12\,9\,7)
DTSTART;TZID=Europe/Berlin:20240928T100000
DTEND;TZID=Europe/Berlin:20240928T120000
LOCATION:Sportovni hala TJ. Sokol Staré Město - Náchod\, Na Skalce 263 Nách
 od - Staré Město nad Metují
SUMMARY:HK-U18Z: Sokol S.M.- Náchod-Broumov
END:VEVENT
BEGIN:VEVENT
UID:32313235-3933-4938-b136-346531636434
DTSTAMP:20260422T111939Z
DESCRIPTION:4/17 Sokol S.M.- Náchod - Broumov 3:0 (7\,11\,7)
DTSTART;TZID=Europe/Berlin:20240928T130000
DTEND;TZID=Europe/Berlin:20240928T150000
LOCATION:Sportovni hala TJ. Sokol Staré Město - Náchod\, Na Skalce 263 Nách
 od - Staré Město nad Metují
SUMMARY:HK-U18Z: Sokol S.M.- Náchod-Broumov
END:VEVENT
BEGIN:VEVENT
UID:62336637-3262-4235-b830-393137656334
DTSTAMP:20260422T111939Z
DESCRIPTION:7/33 Sokol S.M.- Náchod - Dvůr Králové 2:3 (19\,-18\,17\,-21\,-
 6)
DTSTART;TZID=Europe/Berlin:20241102T100000
DTEND;TZID=Europe/Berlin:20241102T120000
LOCATION:Sportovni hala TJ. Sokol Staré Město - Náchod\, Na Skalce 263 Nách
 od - Staré Město nad Metují
SUMMARY:HK-U18Z: Sokol S.M.- Náchod-Dvůr Králové
END:VEVENT
BEGIN:VEVENT
UID:62396232-3562-4062-b364-643861303438
DTSTAMP:20260422T111939Z
DESCRIPTION:8/38 Sokol S.M.- Náchod - Dvůr Králové 2:3 (-19\,19\,-22\,24\,-
 7)
DTSTART;TZID=Europe/Berlin:20241102T130000
DTEND;TZID=Europe/Berlin:20241102T150000
LOCATION:Sportovni hala TJ. Sokol Staré Město - Náchod\, Na Skalce 263 Nách
 od - Staré Město nad Metují
SUMMARY:HK-U18Z: Sokol S.M.- Náchod-Dvůr Králové
END:VEVENT
BEGIN:VEVENT
UID:34633966-6437-4164-a462-303165306136
DTSTAMP:20260422T111939Z
DESCRIPTION:11/54 Sokol S.M.- Náchod - TJ Jičín 0:3 (-18\,-22\,-10)
DTSTART;TZID=Europe/Berlin:20241123T090000
DTEND;TZID=Europe/Berlin:20241123T110000
LOCATION:Sportovni hala TJ. Sokol Staré Město - Náchod\, Na Skalce 263 Nách
 od - Staré Město nad Metují
SUMMARY:HK-U18Z: Sokol S.M.- Náchod-TJ Jičín
END:VEVENT
BEGIN:VEVENT
UID:38333131-3136-4536-b335-343465366230
DTSTAMP:20260422T111939Z
DESCRIPTION:12/59 Sokol S.M.- Náchod - TJ Jičín 2:3 (20\,-15\,21\,-24\,-14)
DTSTART;TZID=Europe/Berlin:20241123T130000
DTEND;TZID=Europe/Berlin:20241123T150000
LOCATION:Sportovni hala TJ. Sokol Staré Město - Náchod\, Na Skalce 263 Nách
 od - Staré Město nad Metují
SUMMARY:HK-U18Z: Sokol S.M.- Náchod-TJ Jičín
END:VEVENT
BEGIN:VEVENT
UID:36636233-6636-4538-a265-616662623939
DTSTAMP:20260422T111939Z
DESCRIPTION:15/75 Sokol S.M.- Náchod - Nová Paka 3:0 (9\,19\,16)
DTSTART;TZID=Europe/Berlin:20250208T090000
DTEND;TZID=Europe/Berlin:20250208T110000
LOCATION:Sportovni hala TJ. Sokol Staré Město - Náchod\, Na Skalce 263 Nách
 od - Staré Město nad Metují
SUMMARY:HK-U18Z: Sokol S.M.- Náchod-Nová Paka
END:VEVENT
BEGIN:VEVENT
UID:33666262-6533-4934-a533-383361353732
DTSTAMP:20260422T111939Z
DESCRIPTION:16/80 Sokol S.M.- Náchod - Nová Paka 3:1 (14\,13\,-23\,12)
DTSTART;TZID=Europe/Berlin:20250208T130000
DTEND;TZID=Europe/Berlin:20250208T150000
LOCATION:Sportovni hala TJ. Sokol Staré Město - Náchod\, Na Skalce 263 Nách
 od - Staré Město nad Metují
SUMMARY:HK-U18Z: Sokol S.M.- Náchod-Nová Paka
END:VEVENT
BEGIN:VEVENT
UID:39343038-3634-4336-b362-363963306430
DTSTAMP:20260422T111939Z
DESCRIPTION:17/81 Sokol S.M.- Náchod - Sokol Chlumec/C. 3:0 (19\,9\,15)
DTSTART;TZID=Europe/Berlin:20250111T110000
DTEND;TZID=Europe/Berlin:20250111T130000
LOCATION:Sportovni hala TJ. Sokol Staré Město - Náchod\, Na Skalce 263 Nách
 od - Staré Město nad Metují
SUMMARY:HK-U18Z: Sokol S.M.- Náchod-Sokol Chlumec/C.
END:VEVENT
BEGIN:VEVENT
UID:33333639-6236-4439-b938-323135376265
DTSTAMP:20260422T111939Z
DESCRIPTION:18/86 Sokol S.M.- Náchod - Sokol Chlumec/C. 3:0 (22\,13\,18)
DTSTART;TZID=Europe/Berlin:20250111T150000
DTEND;TZID=Europe/Berlin:20250111T170000
LOCATION:Sportovni hala TJ. Sokol Staré Město - Náchod\, Na Skalce 263 Nách
 od - Staré Město nad Metují
SUMMARY:HK-U18Z: Sokol S.M.- Náchod-Sokol Chlumec/C.
END:VEVENT
BEGIN:VEVENT
UID:63396466-3438-4137-b565-623332613039
DTSTAMP:20260422T111939Z
DESCRIPTION:19/95 Sokol S.M.- Náchod - Sokol Pouchov 3:1 (-20\,7\,11\,22)
DTSTART;TZID=Europe/Berlin:20250118T090000
DTEND;TZID=Europe/Berlin:20250118T110000
LOCATION:Sportovni hala TJ. Sokol Staré Město - Náchod\, Na Skalce 263 Nách
 od - Staré Město nad Metují
SUMMARY:HK-U18Z: Sokol S.M.- Náchod-Sokol Pouchov
END:VEVENT
BEGIN:VEVENT
UID:38343132-3337-4635-b363-383936333064
DTSTAMP:20260422T111939Z
DESCRIPTION:20/100 Sokol S.M.- Náchod - Sokol Pouchov 3:2 (21\,-21\,-20\,13
 \,7)
DTSTART;TZID=Europe/Berlin:20250118T130000
DTEND;TZID=Europe/Berlin:20250118T150000
LOCATION:Sportovni hala TJ. Sokol Staré Město - Náchod\, Na Skalce 263 Nách
 od - Staré Město nad Metují
SUMMARY:HK-U18Z: Sokol S.M.- Náchod-Sokol Pouchov
END:VEVENT
BEGIN:VEVENT
UID:38323962-6366-4030-b761-643333353665
DTSTAMP:20260422T111939Z
DESCRIPTION:23/114 Sokol S.M.- Náchod - Nechanice 3:0 (7\,19\,9)
DTSTART;TZID=Europe/Berlin:20250201T100000
DTEND;TZID=Europe/Berlin:20250201T120000
LOCATION:Sportovni hala TJ. Sokol Staré Město - Náchod\, Na Skalce 263 Nách
 od - Staré Město nad Metují
SUMMARY:HK-U18Z: Sokol S.M.- Náchod-Nechanice
END:VEVENT
BEGIN:VEVENT
UID:64333738-3464-4537-b562-616538303964
DTSTAMP:20260422T111939Z
DESCRIPTION:24/119 Sokol S.M.- Náchod - Nechanice 3:0 (15\,17\,15)
DTSTART;TZID=Europe/Berlin:20250201T130000
DTEND;TZID=Europe/Berlin:20250201T150000
LOCATION:Sportovni hala TJ. Sokol Staré Město - Náchod\, Na Skalce 263 Nách
 od - Staré Město nad Metují
SUMMARY:HK-U18Z: Sokol S.M.- Náchod-Nechanice
END:VEVENT
BEGIN:VEVENT
UID:66333535-3561-4266-b039-633862386430
DTSTAMP:20260422T111939Z
DESCRIPTION:27/133 Sokol S.M.- Náchod - Jiskra Jaroměř 3:2 (-14\,-18\,18\,1
 4\,16)
DTSTART;TZID=Europe/Berlin:20250223T090000
DTEND;TZID=Europe/Berlin:20250223T110000
LOCATION:Sportovni hala TJ. Sokol Staré Město - Náchod\, Na Skalce 263 Nách
 od - Staré Město nad Metují
SUMMARY:HK-U18Z: Sokol S.M.- Náchod-Jiskra Jaroměř
END:VEVENT
BEGIN:VEVENT
UID:36383138-3333-4530-b830-343638306361
DTSTAMP:20260422T111939Z
DESCRIPTION:28/138 Sokol S.M.- Náchod - Jiskra Jaroměř 1:3 (25\,-23\,-22\,-
 16)
DTSTART;TZID=Europe/Berlin:20250223T130000
DTEND;TZID=Europe/Berlin:20250223T150000
LOCATION:Sportovni hala TJ. Sokol Staré Město - Náchod\, Na Skalce 263 Nách
 od - Staré Město nad Metují
SUMMARY:HK-U18Z: Sokol S.M.- Náchod-Jiskra Jaroměř
END:VEVENT
BEGIN:VEVENT
UID:65646465-3935-4930-b338-383630623133
DTSTAMP:20260422T111939Z
DESCRIPTION:31/152 Sokol S.M.- Náchod - Volejbal Č. Kostelec 3:0 (9\,19\,10
 )
DTSTART;TZID=Europe/Berlin:20250308T100000
DTEND;TZID=Europe/Berlin:20250308T120000
LOCATION:Sportovni hala TJ. Sokol Staré Město - Náchod\, Na Skalce 263 Nách
 od - Staré Město nad Metují
SUMMARY:HK-U18Z: Sokol S.M.- Náchod-Volejbal Č. Kostelec
END:VEVENT
BEGIN:VEVENT
UID:64376532-3263-4134-b730-313963643432
DTSTAMP:20260422T111939Z
DESCRIPTION:32/157 Sokol S.M.- Náchod - Volejbal Č. Kostelec 3:0 (15\,22\,2
 2)
DTSTART;TZID=Europe/Berlin:20250308T130000
DTEND;TZID=Europe/Berlin:20250308T150000
LOCATION:Sportovni hala TJ. Sokol Staré Město - Náchod\, Na Skalce 263 Nách
 od - Staré Město nad Metují
SUMMARY:HK-U18Z: Sokol S.M.- Náchod-Volejbal Č. Kostelec
END:VEVENT
BEGIN:VEVENT
UID:65303939-6262-4262-b138-633930393339
DTSTAMP:20260422T111939Z
DESCRIPTION:1/5 Sokol Pouchov - Sokol S.M.- Náchod 1:3 (19\,-20\,-22\,-21)
DTSTART;TZID=Europe/Berlin:20240922T100000
DTEND;TZID=Europe/Berlin:20240922T120000
LOCATION:Hala Pouchov\, K Sokolovně 544 Hradec Králové - Pouchov
SUMMARY:HK-U18Z: Sokol Pouchov-Sokol S.M.- Náchod
END:VEVENT
BEGIN:VEVENT
UID:64623637-3864-4464-b535-373034303936
DTSTAMP:20260422T111939Z
DESCRIPTION:2/10 Sokol Pouchov - Sokol S.M.- Náchod 2:3 (17\,20\,-16\,-24\,
 -12)
DTSTART;TZID=Europe/Berlin:20240922T130000
DTEND;TZID=Europe/Berlin:20240922T150000
LOCATION:Hala Pouchov\, K Sokolovně 544 Hradec Králové - Pouchov
SUMMARY:HK-U18Z: Sokol Pouchov-Sokol S.M.- Náchod
END:VEVENT
BEGIN:VEVENT
UID:36613236-3136-4237-a566-326561363163
DTSTAMP:20260422T111939Z
DESCRIPTION:5/24 Nechanice - Sokol S.M.- Náchod 2:3 (15\,-16\,22\,-20\,-8)
DTSTART;TZID=Europe/Berlin:20241012T100000
DTEND;TZID=Europe/Berlin:20241012T120000
LOCATION:Tělocvičná jednota Sokol Nechanice\, Školská 348 Nechanice
SUMMARY:HK-U18Z: Nechanice-Sokol S.M.- Náchod
END:VEVENT
BEGIN:VEVENT
UID:32306161-6438-4136-a634-376166353363
DTSTAMP:20260422T111939Z
DESCRIPTION:6/29 Nechanice - Sokol S.M.- Náchod 1:3 (-17\,14\,-20\,-25)
DTSTART;TZID=Europe/Berlin:20241012T130000
DTEND;TZID=Europe/Berlin:20241012T150000
LOCATION:Tělocvičná jednota Sokol Nechanice\, Školská 348 Nechanice
SUMMARY:HK-U18Z: Nechanice-Sokol S.M.- Náchod
END:VEVENT
BEGIN:VEVENT
UID:37616331-3266-4138-b361-636336666363
DTSTAMP:20260422T111939Z
DESCRIPTION:9/43 Jiskra Jaroměř - Sokol S.M.- Náchod 3:2 (17\,-22\,13\,-16\
 ,10)
DTSTART;TZID=Europe/Berlin:20241109T100000
DTEND;TZID=Europe/Berlin:20241109T120000
LOCATION:Hala SŠŘ\, Na Karlově 798 Jaroměř - Pražské Předměstí
SUMMARY:HK-U18Z: Jiskra Jaroměř-Sokol S.M.- Náchod
END:VEVENT
BEGIN:VEVENT
UID:66333962-3162-4633-a631-306631306434
DTSTAMP:20260422T111939Z
DESCRIPTION:10/48 Jiskra Jaroměř - Sokol S.M.- Náchod 3:0 (18\,14\,22)
DTSTART;TZID=Europe/Berlin:20241109T130000
DTEND;TZID=Europe/Berlin:20241109T150000
LOCATION:Hala SŠŘ\, Na Karlově 798 Jaroměř - Pražské Předměstí
SUMMARY:HK-U18Z: Jiskra Jaroměř-Sokol S.M.- Náchod
END:VEVENT
BEGIN:VEVENT
UID:32636431-3030-4533-b235-343461346664
DTSTAMP:20260422T111939Z
DESCRIPTION:13/62 Volejbal Č. Kostelec - Sokol S.M.- Náchod 1:3 (-22\,21\,-
 12\,-16)
DTSTART;TZID=Europe/Berlin:20241201T100000
DTEND;TZID=Europe/Berlin:20241201T120000
LOCATION:Sportovní hala\, Palackého 1234 Červený Kostelec
SUMMARY:HK-U18Z: Volejbal Č. Kostelec-Sokol S.M.- Náchod
END:VEVENT
BEGIN:VEVENT
UID:65336632-3135-4537-b263-323963373335
DTSTAMP:20260422T111939Z
DESCRIPTION:14/67 Volejbal Č. Kostelec - Sokol S.M.- Náchod 2:3 (-14\,22\,1
 8\,-14\,-11)
DTSTART;TZID=Europe/Berlin:20241201T130000
DTEND;TZID=Europe/Berlin:20241201T150000
LOCATION:Sportovní hala\, Palackého 1234 Červený Kostelec
SUMMARY:HK-U18Z: Volejbal Č. Kostelec-Sokol S.M.- Náchod
END:VEVENT
BEGIN:VEVENT
UID:38383361-3835-4865-a565-653038323935
DTSTAMP:20260422T111939Z
DESCRIPTION:21/102 Broumov - Sokol S.M.- Náchod 1:3 (20\,-23\,-21\,-20)
DTSTART;TZID=Europe/Berlin:20250125T100000
DTEND;TZID=Europe/Berlin:20250125T120000
LOCATION:Sportovní hala Spořilov \, Československé armády 351 Broumov
SUMMARY:HK-U18Z: Broumov-Sokol S.M.- Náchod
END:VEVENT
BEGIN:VEVENT
UID:30383765-6232-4938-b932-343564363034
DTSTAMP:20260422T111939Z
DESCRIPTION:22/107 Broumov - Sokol S.M.- Náchod 3:1 (25\,-12\,22\,12)
DTSTART;TZID=Europe/Berlin:20250125T130000
DTEND;TZID=Europe/Berlin:20250125T150000
LOCATION:Sportovní hala Spořilov \, Československé armády 351 Broumov
SUMMARY:HK-U18Z: Broumov-Sokol S.M.- Náchod
END:VEVENT
BEGIN:VEVENT
UID:31386230-3061-4064-a431-343863343163
DTSTAMP:20260422T111939Z
DESCRIPTION:25/123 Dvůr Králové - Sokol S.M.- Náchod 0:3 (-20\,-16\,-15)
DTSTART;TZID=Europe/Berlin:20250215T100000
DTEND;TZID=Europe/Berlin:20250215T120000
LOCATION:hala ZŠ 5. května\, Dvůr Králové nad Labem\, 28. října 731 Dvůr Kr
 álové nad Labem
SUMMARY:HK-U18Z: Dvůr Králové-Sokol S.M.- Náchod
END:VEVENT
BEGIN:VEVENT
UID:33316164-3464-4635-b032-376465656261
DTSTAMP:20260422T111939Z
DESCRIPTION:26/128 Dvůr Králové - Sokol S.M.- Náchod 3:1 (19\,-25\,22\,19)
DTSTART;TZID=Europe/Berlin:20250215T130000
DTEND;TZID=Europe/Berlin:20250215T150000
LOCATION:hala ZŠ 5. května\, Dvůr Králové nad Labem\, 28. října 731 Dvůr Kr
 álové nad Labem
SUMMARY:HK-U18Z: Dvůr Králové-Sokol S.M.- Náchod
END:VEVENT
BEGIN:VEVENT
UID:64383530-3462-4466-a262-343533626637
DTSTAMP:20260422T111939Z
DESCRIPTION:29/144 TJ Jičín - Sokol S.M.- Náchod 3:1 (12\,16\,-19\,23)
DTSTART;TZID=Europe/Berlin:20250301T100000
DTEND;TZID=Europe/Berlin:20250301T120000
LOCATION:Hala Masarykovy obchodní akademie Jičín\, 17. listopadu 220 Jičín 
 - Valdické Předměstí
SUMMARY:HK-U18Z: TJ Jičín-Sokol S.M.- Náchod
END:VEVENT
BEGIN:VEVENT
UID:33353131-3033-4637-b737-613762363165
DTSTAMP:20260422T111939Z
DESCRIPTION:30/149 TJ Jičín - Sokol S.M.- Náchod 3:0 (20\,5\,19)
DTSTART;TZID=Europe/Berlin:20250301T130000
DTEND;TZID=Europe/Berlin:20250301T150000
LOCATION:Hala Masarykovy obchodní akademie Jičín\, 17. listopadu 220 Jičín 
 - Valdické Předměstí
SUMMARY:HK-U18Z: TJ Jičín-Sokol S.M.- Náchod
END:VEVENT
BEGIN:VEVENT
UID:33353036-6433-4635-b430-633234373563
DTSTAMP:20260422T111939Z
DESCRIPTION:33/165 Nová Paka - Sokol S.M.- Náchod 0:3 (-18\,-18\,-22)
DTSTART;TZID=Europe/Berlin:20250315T100000
DTEND;TZID=Europe/Berlin:20250315T120000
LOCATION:ZŠ Husitská\, O. Číly 1933 Nová Paka
SUMMARY:HK-U18Z: Nová Paka-Sokol S.M.- Náchod
END:VEVENT
BEGIN:VEVENT
UID:65653037-3065-4361-b765-393062363362
DTSTAMP:20260422T111939Z
DESCRIPTION:34/170 Nová Paka - Sokol S.M.- Náchod 0:3 (-24\,-19\,-13)
DTSTART;TZID=Europe/Berlin:20250315T130000
DTEND;TZID=Europe/Berlin:20250315T150000
LOCATION:ZŠ Husitská\, O. Číly 1933 Nová Paka
SUMMARY:HK-U18Z: Nová Paka-Sokol S.M.- Náchod
END:VEVENT
BEGIN:VEVENT
UID:30356537-3364-4434-b530-383532363031
DTSTAMP:20260422T111939Z
DESCRIPTION:35/171 Sokol Chlumec/C. - Sokol S.M.- Náchod 0:3 (-23\,-15\,-12
 )
DTSTART;TZID=Europe/Berlin:20250329T100000
DTEND;TZID=Europe/Berlin:20250329T120000
LOCATION:Slavíčkova hala\, Sokolská 795 Chlumec nad Cidlinou - Chlumec nad 
 Cidlinou IV
SUMMARY:HK-U18Z: Sokol Chlumec/C.-Sokol S.M.- Náchod
END:VEVENT
BEGIN:VEVENT
UID:61343430-3437-4237-b965-663264323162
DTSTAMP:20260422T111939Z
DESCRIPTION:36/176 Sokol Chlumec/C. - Sokol S.M.- Náchod 0:3 (-18\,-23\,-18
 )
DTSTART;TZID=Europe/Berlin:20250329T130000
DTEND;TZID=Europe/Berlin:20250329T150000
LOCATION:Slavíčkova hala\, Sokolská 795 Chlumec nad Cidlinou - Chlumec nad 
 Cidlinou IV
SUMMARY:HK-U18Z: Sokol Chlumec/C.-Sokol S.M.- Náchod
END:VEVENT
END:VCALENDAR
