BEGIN:VCALENDAR
VERSION:2.0
PRODID:-//Orel Letohrad86360//NONSGML kigkonsult.se iCalcreator 2.41.80//
CALSCALE:GREGORIAN
UID:64613738-3633-4561-b664-616131383533
BEGIN:VEVENT
UID:64633663-3233-4137-b834-336639656465
DTSTAMP:20260422T001401Z
DESCRIPTION:5/19 Orel Letohrad - Energetik Chvaletice\, U20 3:0 (10\,5\,17)
DTSTART;TZID=Europe/Berlin:20241012T100000
DTEND;TZID=Europe/Berlin:20241012T120000
LOCATION:ZŠ U Dvora\, U Dvora 663 Letohrad
SUMMARY:PA-U20Z-U18Z: Orel Letohrad-Energetik Chvaletice\, U20
END:VEVENT
BEGIN:VEVENT
UID:31303231-3538-4837-a665-663164623730
DTSTAMP:20260422T001401Z
DESCRIPTION:6/23 Orel Letohrad - Energetik Chvaletice\, U20 3:0 (14\,8\,11)
DTSTART;TZID=Europe/Berlin:20241012T130000
DTEND;TZID=Europe/Berlin:20241012T150000
LOCATION:ZŠ U Dvora\, U Dvora 663 Letohrad
SUMMARY:PA-U20Z-U18Z: Orel Letohrad-Energetik Chvaletice\, U20
END:VEVENT
BEGIN:VEVENT
UID:39663665-6139-4063-a364-623063646330
DTSTAMP:20260422T001401Z
DESCRIPTION:7/27 Orel Letohrad - TJ Svitavy 3:0 (5\,14\,20)
DTSTART;TZID=Europe/Berlin:20241109T090000
DTEND;TZID=Europe/Berlin:20241109T110000
LOCATION:ZŠ U Dvora\, U Dvora 663 Letohrad
SUMMARY:PA-U20Z-U18Z: Orel Letohrad-TJ Svitavy
END:VEVENT
BEGIN:VEVENT
UID:35333536-3661-4636-a464-373961653832
DTSTAMP:20260422T001401Z
DESCRIPTION:8/31 Orel Letohrad - TJ Svitavy 3:0 (10\,15\,12)
DTSTART;TZID=Europe/Berlin:20241109T120000
DTEND;TZID=Europe/Berlin:20241109T140000
LOCATION:ZŠ U Dvora\, U Dvora 663 Letohrad
SUMMARY:PA-U20Z-U18Z: Orel Letohrad-TJ Svitavy
END:VEVENT
BEGIN:VEVENT
UID:61306234-3136-4530-b439-343661306130
DTSTAMP:20260422T001401Z
DESCRIPTION:9/34 Orel Letohrad - Volejbalový klub Choceň\, z.s. 3:1 (13\,20
 \,-14\,26)
DTSTART;TZID=Europe/Berlin:20241123T090000
DTEND;TZID=Europe/Berlin:20241123T110000
LOCATION:ZŠ U Dvora\, U Dvora 663 Letohrad
SUMMARY:PA-U20Z-U18Z: Orel Letohrad-Volejbalový klub Choceň\, z.s.
END:VEVENT
BEGIN:VEVENT
UID:33663962-6163-4337-b535-633935383965
DTSTAMP:20260422T001401Z
DESCRIPTION:10/38 Orel Letohrad - Volejbalový klub Choceň\, z.s. 2:3 (23\,-
 19\,-24\,23\,-10)
DTSTART;TZID=Europe/Berlin:20241123T120000
DTEND;TZID=Europe/Berlin:20241123T140000
LOCATION:ZŠ U Dvora\, U Dvora 663 Letohrad
SUMMARY:PA-U20Z-U18Z: Orel Letohrad-Volejbalový klub Choceň\, z.s.
END:VEVENT
BEGIN:VEVENT
UID:35353963-6237-4136-a333-616431323836
DTSTAMP:20260422T001401Z
DESCRIPTION:13/49 Orel Letohrad - Sokol Česká Třebová. U18 3:0 (7\,10\,8)
DTSTART;TZID=Europe/Berlin:20241207T090000
DTEND;TZID=Europe/Berlin:20241207T110000
LOCATION:ZŠ U Dvora\, U Dvora 663 Letohrad
SUMMARY:PA-U20Z-U18Z: Orel Letohrad-Sokol Česká Třebová. U18
END:VEVENT
BEGIN:VEVENT
UID:33663533-3535-4465-b831-343333653438
DTSTAMP:20260422T001401Z
DESCRIPTION:14/53 Orel Letohrad - Sokol Česká Třebová. U18 3:0 (14\,17\,13)
DTSTART;TZID=Europe/Berlin:20241207T120000
DTEND;TZID=Europe/Berlin:20241207T140000
LOCATION:ZŠ U Dvora\, U Dvora 663 Letohrad
SUMMARY:PA-U20Z-U18Z: Orel Letohrad-Sokol Česká Třebová. U18
END:VEVENT
BEGIN:VEVENT
UID:62346331-3938-4237-b066-393462666566
DTSTAMP:20260422T001401Z
DESCRIPTION:15/60 Orel Letohrad - Slovan Moravská Třebová 3:0 (11\,20\,13)
DTSTART;TZID=Europe/Berlin:20250111T090000
DTEND;TZID=Europe/Berlin:20250111T110000
LOCATION:ZŠ U Dvora\, U Dvora 663 Letohrad
SUMMARY:PA-U20Z-U18Z: Orel Letohrad-Slovan Moravská Třebová
END:VEVENT
BEGIN:VEVENT
UID:34626433-6433-4239-b362-336230373332
DTSTAMP:20260422T001401Z
DESCRIPTION:16/64 Orel Letohrad - Slovan Moravská Třebová 3:0 (7\,9\,9)
DTSTART;TZID=Europe/Berlin:20250111T120000
DTEND;TZID=Europe/Berlin:20250111T140000
LOCATION:ZŠ U Dvora\, U Dvora 663 Letohrad
SUMMARY:PA-U20Z-U18Z: Orel Letohrad-Slovan Moravská Třebová
END:VEVENT
BEGIN:VEVENT
UID:63613965-6263-4136-a139-643532643637
DTSTAMP:20260422T001401Z
DESCRIPTION:25/100 Orel Letohrad - TJ Pardubičky\, z.s. 3:0 (11\,12\,21)
DTSTART;TZID=Europe/Berlin:20250315T090000
DTEND;TZID=Europe/Berlin:20250315T110000
LOCATION:ZŠ U Dvora\, U Dvora 663 Letohrad
SUMMARY:PA-U20Z-U18Z: Orel Letohrad-TJ Pardubičky\, z.s.
END:VEVENT
BEGIN:VEVENT
UID:31363165-3662-4130-b337-396632386261
DTSTAMP:20260422T001401Z
DESCRIPTION:26/104 Orel Letohrad - TJ Pardubičky\, z.s. 3:0 (16\,20\,15)
DTSTART;TZID=Europe/Berlin:20250315T120000
DTEND;TZID=Europe/Berlin:20250315T140000
LOCATION:ZŠ U Dvora\, U Dvora 663 Letohrad
SUMMARY:PA-U20Z-U18Z: Orel Letohrad-TJ Pardubičky\, z.s.
END:VEVENT
BEGIN:VEVENT
UID:36633465-3036-4434-b736-306535383633
DTSTAMP:20260422T001401Z
DESCRIPTION:1/4 Slovan Moravská Třebová - Orel Letohrad 0:3 (-9\,-17\,-13)
DTSTART;TZID=Europe/Berlin:20240928T100000
DTEND;TZID=Europe/Berlin:20240928T120000
LOCATION:Sportovní hala SOŠ OU\, J. K. Tyla 1275 Moravská Třebová - Předměs
 tí
SUMMARY:PA-U20Z-U18Z: Slovan Moravská Třebová-Orel Letohrad
END:VEVENT
BEGIN:VEVENT
UID:32393732-6131-4664-b235-613536653463
DTSTAMP:20260422T001401Z
DESCRIPTION:2/8 Slovan Moravská Třebová - Orel Letohrad 0:3 (-10\,-13\,-14)
DTSTART;TZID=Europe/Berlin:20240928T130000
DTEND;TZID=Europe/Berlin:20240928T150000
LOCATION:Sportovní hala SOŠ OU\, J. K. Tyla 1275 Moravská Třebová - Předměs
 tí
SUMMARY:PA-U20Z-U18Z: Slovan Moravská Třebová-Orel Letohrad
END:VEVENT
BEGIN:VEVENT
UID:30653838-3763-4136-a561-303032656432
DTSTAMP:20260422T001401Z
DESCRIPTION:11/44 TJ Pardubičky\, z.s. - Orel Letohrad 0:3 (-10\,-9\,-16)
DTSTART;TZID=Europe/Berlin:20241130T100000
DTEND;TZID=Europe/Berlin:20241130T120000
LOCATION:Tělocvična TJ Pardubičky\, Bokova 364 Pardubice - Pardubičky
SUMMARY:PA-U20Z-U18Z: TJ Pardubičky\, z.s.-Orel Letohrad
END:VEVENT
BEGIN:VEVENT
UID:30653837-6637-4464-a338-383033353639
DTSTAMP:20260422T001401Z
DESCRIPTION:12/48 TJ Pardubičky\, z.s. - Orel Letohrad 0:3 (-9\,-14\,-11)
DTSTART;TZID=Europe/Berlin:20241130T130000
DTEND;TZID=Europe/Berlin:20241130T150000
LOCATION:Tělocvična TJ Pardubičky\, Bokova 364 Pardubice - Pardubičky
SUMMARY:PA-U20Z-U18Z: TJ Pardubičky\, z.s.-Orel Letohrad
END:VEVENT
BEGIN:VEVENT
UID:35356630-3136-4266-b366-393437323936
DTSTAMP:20260422T001401Z
DESCRIPTION:19/75 Energetik Chvaletice\, U20 - Orel Letohrad 0:3 (-19\,-17\
 ,-4)
DTSTART;TZID=Europe/Berlin:20250125T090000
DTEND;TZID=Europe/Berlin:20250125T110000
LOCATION:ZŠ Chvaletice\, Spojovací 431 Chvaletice
SUMMARY:PA-U20Z-U18Z: Energetik Chvaletice\, U20-Orel Letohrad
END:VEVENT
BEGIN:VEVENT
UID:64656462-6264-4162-b461-323930623963
DTSTAMP:20260422T001401Z
DESCRIPTION:20/79 Energetik Chvaletice\, U20 - Orel Letohrad 0:3 (-21\,-11\
 ,-7)
DTSTART;TZID=Europe/Berlin:20250125T130000
DTEND;TZID=Europe/Berlin:20250125T150000
LOCATION:ZŠ Chvaletice\, Spojovací 431 Chvaletice
SUMMARY:PA-U20Z-U18Z: Energetik Chvaletice\, U20-Orel Letohrad
END:VEVENT
BEGIN:VEVENT
UID:61356136-6436-4431-b131-373437376366
DTSTAMP:20260422T001401Z
DESCRIPTION:21/83 TJ Svitavy - Orel Letohrad 0:3 (-19\,-12\,-13)
DTSTART;TZID=Europe/Berlin:20250215T100000
DTEND;TZID=Europe/Berlin:20250215T120000
LOCATION:Tělocvična ZŠ\, Felberova 669 Svitavy - Lány
SUMMARY:PA-U20Z-U18Z: TJ Svitavy-Orel Letohrad
END:VEVENT
BEGIN:VEVENT
UID:65653139-3639-4161-b338-393136616339
DTSTAMP:20260422T001401Z
DESCRIPTION:22/87 TJ Svitavy - Orel Letohrad 0:3 (-17\,-12\,-22)
DTSTART;TZID=Europe/Berlin:20250215T130000
DTEND;TZID=Europe/Berlin:20250215T150000
LOCATION:Tělocvična ZŠ\, Felberova 669 Svitavy - Lány
SUMMARY:PA-U20Z-U18Z: TJ Svitavy-Orel Letohrad
END:VEVENT
BEGIN:VEVENT
UID:39383834-6238-4634-b364-656365613738
DTSTAMP:20260422T001401Z
DESCRIPTION:23/90 Volejbalový klub Choceň\, z.s. - Orel Letohrad 0:3 (-21\,
 -16\,-9)
DTSTART;TZID=Europe/Berlin:20250301T100000
DTEND;TZID=Europe/Berlin:20250301T120000
LOCATION:Volejbalová hala \, U Koupaliště 1734 Choceň
SUMMARY:PA-U20Z-U18Z: Volejbalový klub Choceň\, z.s.-Orel Letohrad
END:VEVENT
BEGIN:VEVENT
UID:61326139-3766-4166-b133-616261353062
DTSTAMP:20260422T001401Z
DESCRIPTION:24/94 Volejbalový klub Choceň\, z.s. - Orel Letohrad 1:3 (-21\,
 13\,-18\,-20)
DTSTART;TZID=Europe/Berlin:20250301T130000
DTEND;TZID=Europe/Berlin:20250301T150000
LOCATION:Volejbalová hala \, U Koupaliště 1734 Choceň
SUMMARY:PA-U20Z-U18Z: Volejbalový klub Choceň\, z.s.-Orel Letohrad
END:VEVENT
BEGIN:VEVENT
UID:33623830-3565-4362-b631-353465353139
DTSTAMP:20260422T001401Z
DESCRIPTION:27/105 Sokol Česká Třebová. U18 - Orel Letohrad X:3
DTSTART;TZID=Europe/Berlin:20250329T100000
DTEND;TZID=Europe/Berlin:20250329T120000
LOCATION:Základní škola Česká Třebová Habrmanova\, Na Skále\, Na Skále 566 
 Česká Třebová
SUMMARY:PA-U20Z-U18Z: Sokol Česká Třebová. U18-Orel Letohrad
END:VEVENT
BEGIN:VEVENT
UID:66623163-6362-4535-b662-363636636137
DTSTAMP:20260422T001401Z
DESCRIPTION:28/109 Sokol Česká Třebová. U18 - Orel Letohrad X:3
DTSTART;TZID=Europe/Berlin:20250329T130000
DTEND;TZID=Europe/Berlin:20250329T150000
LOCATION:Základní škola Česká Třebová Habrmanova\, Na Skále\, Na Skále 566 
 Česká Třebová
SUMMARY:PA-U20Z-U18Z: Sokol Česká Třebová. U18-Orel Letohrad
END:VEVENT
BEGIN:VEVENT
UID:32373634-6533-4064-b930-333631623563
DTSTAMP:20260422T001401Z
DESCRIPTION:1/2 Orel Letohrad - Uherský Brod 0:3 (-22\,-22\,-23)
DTSTART;TZID=Europe/Berlin:20250503T150000
DTEND;TZID=Europe/Berlin:20250503T170000
LOCATION:Hala míčových sportů\, Varenská 3098 Ostrava - Moravská Ostrava
SUMMARY:2-U20Z-KC2: Orel Letohrad-Uherský Brod
END:VEVENT
BEGIN:VEVENT
UID:62643336-6162-4664-b139-306236643861
DTSTAMP:20260422T001401Z
DESCRIPTION:1/1 UP Olomouc - Orel Letohrad 3:1 (23\,16\,-22\,21)
DTSTART;TZID=Europe/Berlin:20250503T130000
DTEND;TZID=Europe/Berlin:20250503T150000
LOCATION:Hala míčových sportů\, Varenská 3098 Ostrava - Moravská Ostrava
SUMMARY:2-U20Z-KC2: UP Olomouc-Orel Letohrad
END:VEVENT
END:VCALENDAR
