BEGIN:VCALENDAR
VERSION:2.0
PRODID:-//T.J. Sokol Geodézie Česká Třebová86366//NONSGML kigkonsult.se iCalcreator 2.41.80//
CALSCALE:GREGORIAN
UID:36643731-3637-4037-b163-656636303262
BEGIN:VEVENT
UID:62353866-3739-4136-b235-633936376532
DTSTAMP:20260422T150348Z
DESCRIPTION:1/5 Sokol Česká Třebová - Spartak Polička 0:2 (-10\,-7)
DTSTART;TZID=Europe/Berlin:20240915T110000
DTEND;TZID=Europe/Berlin:20240915T130000
LOCATION:Základní škola Česká Třebová Habrmanova\, Na Skále\, Na Skále 566 
 Česká Třebová
SUMMARY:PA-U16M-KV-II: Sokol Česká Třebová-Spartak Polička
END:VEVENT
BEGIN:VEVENT
UID:36626135-3464-4462-b961-333461643134
DTSTAMP:20260422T150348Z
DESCRIPTION:1/7 Sokol Česká Třebová - Svitavy A 0:2 (-18\,-11)
DTSTART;TZID=Europe/Berlin:20240915T114500
DTEND;TZID=Europe/Berlin:20240915T134500
LOCATION:Základní škola Česká Třebová Habrmanova\, Na Skále\, Na Skále 566 
 Česká Třebová
SUMMARY:PA-U16M-KV-II: Sokol Česká Třebová-Svitavy A
END:VEVENT
BEGIN:VEVENT
UID:66646164-6639-4365-b264-626134306530
DTSTAMP:20260422T150348Z
DESCRIPTION:1/15 Sokol Česká Třebová - Sokol Kerhartice 0:2 (-20\,-18)
DTSTART;TZID=Europe/Berlin:20240915T140000
DTEND;TZID=Europe/Berlin:20240915T160000
LOCATION:Základní škola Česká Třebová Habrmanova\, Na Skále\, Na Skále 566 
 Česká Třebová
SUMMARY:PA-U16M-KV-II: Sokol Česká Třebová-Sokol Kerhartice
END:VEVENT
BEGIN:VEVENT
UID:31396465-6237-4764-a236-643234336165
DTSTAMP:20260422T150348Z
DESCRIPTION:1/3 VK Choceň - Sokol Česká Třebová 2:0 (16\,9)
DTSTART;TZID=Europe/Berlin:20240915T094500
DTEND;TZID=Europe/Berlin:20240915T114500
LOCATION:Volejbalová hala \, U Koupaliště 1734 Choceň
SUMMARY:PA-U16M-KV-II: VK Choceň-Sokol Česká Třebová
END:VEVENT
BEGIN:VEVENT
UID:39333562-3963-4265-a638-666333373134
DTSTAMP:20260422T150348Z
DESCRIPTION:1/11 TJ Svitavy B - Sokol Česká Třebová 2:1 (11\,-22\,11)
DTSTART;TZID=Europe/Berlin:20240915T131500
DTEND;TZID=Europe/Berlin:20240915T151500
LOCATION:Sportovní hala Na Střelnici\, Pražská 2162 Svitavy - Předměstí
SUMMARY:PA-U16M-KV-II: TJ Svitavy B-Sokol Česká Třebová
END:VEVENT
BEGIN:VEVENT
UID:64616137-3139-4933-a138-626666643332
DTSTAMP:20260422T150348Z
DESCRIPTION:1/2 Sokol Kerhartice - Sokol Česká Třebová 2:0 (19\,13)
DTSTART;TZID=Europe/Berlin:20241006T100000
DTEND;TZID=Europe/Berlin:20241006T120000
LOCATION:Sokolovna Kerhartice \, Sokolská 120 Ústí nad Orlicí - Kerhartice
SUMMARY:PA-U16M-1D: Sokol Kerhartice-Sokol Česká Třebová
END:VEVENT
BEGIN:VEVENT
UID:34653139-3262-4136-a463-326239363638
DTSTAMP:20260422T150348Z
DESCRIPTION:1/3 Sokol Pardubice I. - Sokol Česká Třebová 2:0 (13\,9)
DTSTART;TZID=Europe/Berlin:20241006T110000
DTEND;TZID=Europe/Berlin:20241006T130000
LOCATION:Sokolovna\, Jiráskova 29 Pardubice - Zelené Předměstí
SUMMARY:PA-U16M-1D: Sokol Pardubice I.-Sokol Česká Třebová
END:VEVENT
BEGIN:VEVENT
UID:64363466-6562-4635-a236-323266396133
DTSTAMP:20260422T150348Z
DESCRIPTION:1/6 Tělocvičná jednota Sokol Hrotovice - Sokol Česká Třebová 2:
 0 (13\,18)
DTSTART;TZID=Europe/Berlin:20241006T140000
DTEND;TZID=Europe/Berlin:20241006T160000
LOCATION:Sportovní hala ZŠ Hrotovice\, F. B. Zvěřiny 221 Hrotovice
SUMMARY:PA-U16M-1D: Tělocvičná jednota Sokol Hrotovice-Sokol Česká Třebová
END:VEVENT
BEGIN:VEVENT
UID:35343235-6134-4838-b232-636265663764
DTSTAMP:20260422T150348Z
DESCRIPTION:1/3 Sokol Česká Třebová - Havlíčkův Brod
DTSTART;TZID=Europe/Berlin:20241027T110000
DTEND;TZID=Europe/Berlin:20241027T130000
LOCATION:Základní škola Česká Třebová Habrmanova\, Na Skále\, Na Skále 566 
 Česká Třebová
SUMMARY:PA-U16M-2D: Sokol Česká Třebová-Havlíčkův Brod
END:VEVENT
BEGIN:VEVENT
UID:65393865-3033-4635-a435-396266336563
DTSTAMP:20260422T150348Z
DESCRIPTION:1/1 Sokol Kerhartice - Sokol Česká Třebová
DTSTART;TZID=Europe/Berlin:20241027T090000
DTEND;TZID=Europe/Berlin:20241027T110000
LOCATION:Sokolovna Kerhartice \, Sokolská 120 Ústí nad Orlicí - Kerhartice
SUMMARY:PA-U16M-2D: Sokol Kerhartice-Sokol Česká Třebová
END:VEVENT
BEGIN:VEVENT
UID:35333737-6565-4664-a661-393730633535
DTSTAMP:20260422T150348Z
DESCRIPTION:1/5 Tělocvičná jednota Sokol Hrotovice - Sokol Česká Třebová
DTSTART;TZID=Europe/Berlin:20241027T130000
DTEND;TZID=Europe/Berlin:20241027T150000
LOCATION:Sportovní hala ZŠ Hrotovice\, F. B. Zvěřiny 221 Hrotovice
SUMMARY:PA-U16M-2D: Tělocvičná jednota Sokol Hrotovice-Sokol Česká Třebová
END:VEVENT
BEGIN:VEVENT
UID:35303465-3833-4335-b565-343336346434
DTSTAMP:20260422T150348Z
DESCRIPTION:1/2 Sokol Česká Třebová - Tělocvičná jednota Sokol Hrotovice 0:
 2 (-18\,-21)
DTSTART;TZID=Europe/Berlin:20241124T090000
DTEND;TZID=Europe/Berlin:20241124T110000
LOCATION:Základní škola Česká Třebová Habrmanova\, Na Skále\, Na Skále 566 
 Česká Třebová
SUMMARY:PA-U16M-3D: Sokol Česká Třebová-Tělocvičná jednota Sokol Hrotovice
END:VEVENT
BEGIN:VEVENT
UID:62663337-3565-4864-b163-316164643237
DTSTAMP:20260422T150348Z
DESCRIPTION:1/5 Sokol Česká Třebová - Školní sportovní klub Demlova Jihlava
 \, z.s. 0:2 (-18\,-18)
DTSTART;TZID=Europe/Berlin:20241124T110000
DTEND;TZID=Europe/Berlin:20241124T130000
LOCATION:Základní škola Česká Třebová Habrmanova\, Na Skále\, Na Skále 566 
 Česká Třebová
SUMMARY:PA-U16M-3D: Sokol Česká Třebová-Školní sportovní klub Demlova Jihla
 va\, z.s.
END:VEVENT
BEGIN:VEVENT
UID:34346563-6662-4066-b939-646131343763
DTSTAMP:20260422T150348Z
DESCRIPTION:1/4 Havlíčkův Brod - Sokol Česká Třebová 2:0 (13\,16)
DTSTART;TZID=Europe/Berlin:20241124T100000
DTEND;TZID=Europe/Berlin:20241124T120000
LOCATION:Sportovní hala TJ Jiskra\, Ledečská 3028 Havlíčkův Brod
SUMMARY:PA-U16M-3D: Havlíčkův Brod-Sokol Česká Třebová
END:VEVENT
BEGIN:VEVENT
UID:30393062-3933-4735-b763-333135643466
DTSTAMP:20260422T150348Z
DESCRIPTION:1/1 Sokol Česká Třebová - Sokol Kerhartice 2:0 (14\,24)
DTSTART;TZID=Europe/Berlin:20250112T090000
DTEND;TZID=Europe/Berlin:20250112T110000
LOCATION:Základní škola Česká Třebová Habrmanova\, Na Skále\, Na Skále 566 
 Česká Třebová
SUMMARY:PA-U16M-4D: Sokol Česká Třebová-Sokol Kerhartice
END:VEVENT
BEGIN:VEVENT
UID:39653563-3731-4932-b962-643265623536
DTSTAMP:20260422T150348Z
DESCRIPTION:1/4 Sokol Česká Třebová - Tělocvičná jednota Sokol Hrotovice 0:
 2 (-10\,-18)
DTSTART;TZID=Europe/Berlin:20250112T120000
DTEND;TZID=Europe/Berlin:20250112T140000
LOCATION:Základní škola Česká Třebová Habrmanova\, Na Skále\, Na Skále 566 
 Česká Třebová
SUMMARY:PA-U16M-4D: Sokol Česká Třebová-Tělocvičná jednota Sokol Hrotovice
END:VEVENT
BEGIN:VEVENT
UID:35613961-3437-4839-b062-306431333333
DTSTAMP:20260422T150348Z
DESCRIPTION:1/6 Sokol Česká Třebová - Havlíčkův Brod 0:2 (-24\,-9)
DTSTART;TZID=Europe/Berlin:20250112T140000
DTEND;TZID=Europe/Berlin:20250112T160000
LOCATION:Základní škola Česká Třebová Habrmanova\, Na Skále\, Na Skále 566 
 Česká Třebová
SUMMARY:PA-U16M-4D: Sokol Česká Třebová-Havlíčkův Brod
END:VEVENT
BEGIN:VEVENT
UID:61363465-3263-4363-b361-383534626235
DTSTAMP:20260422T150348Z
DESCRIPTION:1/2 Sokol Česká Třebová - Sokol Kerhartice 0:1 (-0)
DTSTART;TZID=Europe/Berlin:20250223T100000
DTEND;TZID=Europe/Berlin:20250223T120000
LOCATION:Základní škola Česká Třebová Habrmanova\, Na Skále\, Na Skále 566 
 Česká Třebová
SUMMARY:PA-U16M-5D: Sokol Česká Třebová-Sokol Kerhartice
END:VEVENT
BEGIN:VEVENT
UID:32356366-3731-4738-a232-383463663031
DTSTAMP:20260422T150348Z
DESCRIPTION:1/5 Sokol Česká Třebová - Školní sportovní klub Demlova Jihlava
 \, z.s. 0:1 (-0)
DTSTART;TZID=Europe/Berlin:20250223T130000
DTEND;TZID=Europe/Berlin:20250223T150000
LOCATION:Základní škola Česká Třebová Habrmanova\, Na Skále\, Na Skále 566 
 Česká Třebová
SUMMARY:PA-U16M-5D: Sokol Česká Třebová-Školní sportovní klub Demlova Jihla
 va\, z.s.
END:VEVENT
BEGIN:VEVENT
UID:38633663-6664-4464-b533-633066616632
DTSTAMP:20260422T150348Z
DESCRIPTION:1/4 Tělocvičná jednota Sokol Hrotovice - Sokol Česká Třebová 1:
 0 (0)
DTSTART;TZID=Europe/Berlin:20250223T120000
DTEND;TZID=Europe/Berlin:20250223T140000
LOCATION:Sportovní hala ZŠ Hrotovice\, F. B. Zvěřiny 221 Hrotovice
SUMMARY:PA-U16M-5D: Tělocvičná jednota Sokol Hrotovice-Sokol Česká Třebová
END:VEVENT
BEGIN:VEVENT
UID:66663364-3138-4430-b035-666564656530
DTSTAMP:20260422T150348Z
DESCRIPTION:1/3 Sokol Česká Třebová - Školní sportovní klub Demlova Jihlava
 \, z.s. 0:2 (-8\,-12)
DTSTART;TZID=Europe/Berlin:20250330T110000
DTEND;TZID=Europe/Berlin:20250330T130000
LOCATION:Základní škola Česká Třebová Habrmanova\, Na Skále\, Na Skále 566 
 Česká Třebová
SUMMARY:PA-U16M-6D: Sokol Česká Třebová-Školní sportovní klub Demlova Jihla
 va\, z.s.
END:VEVENT
BEGIN:VEVENT
UID:61363064-3432-4464-b561-616233343961
DTSTAMP:20260422T150348Z
DESCRIPTION:1/1 Sokol Kerhartice - Sokol Česká Třebová 0:2 (-14\,-19)
DTSTART;TZID=Europe/Berlin:20250330T090000
DTEND;TZID=Europe/Berlin:20250330T110000
LOCATION:Sokolovna Kerhartice \, Sokolská 120 Ústí nad Orlicí - Kerhartice
SUMMARY:PA-U16M-6D: Sokol Kerhartice-Sokol Česká Třebová
END:VEVENT
BEGIN:VEVENT
UID:30303238-3433-4235-a437-653866373833
DTSTAMP:20260422T150348Z
DESCRIPTION:1/5 Havlíčkův Brod - Sokol Česká Třebová 2:0 (14\,14)
DTSTART;TZID=Europe/Berlin:20250330T130000
DTEND;TZID=Europe/Berlin:20250330T150000
LOCATION:Sportovní hala TJ Jiskra\, Ledečská 3028 Havlíčkův Brod
SUMMARY:PA-U16M-6D: Havlíčkův Brod-Sokol Česká Třebová
END:VEVENT
BEGIN:VEVENT
UID:31393634-3433-4631-a162-663131643664
DTSTAMP:20260422T150348Z
DESCRIPTION:1/2 Sokol Kerhartice - Sokol Česká Třebová 2:0 (18\,24)
DTSTART;TZID=Europe/Berlin:20250405T090000
DTEND;TZID=Europe/Berlin:20250405T110000
LOCATION:Sokolovna Kerhartice \, Sokolská 120 Ústí nad Orlicí - Kerhartice
SUMMARY:PA-U16M-7D: Sokol Kerhartice-Sokol Česká Třebová
END:VEVENT
BEGIN:VEVENT
UID:39333236-3963-4263-a230-343766313462
DTSTAMP:20260422T150348Z
DESCRIPTION:1/3 Tělocvičná jednota Sokol Hrotovice - Sokol Česká Třebová 2:
 0 (12\,17)
DTSTART;TZID=Europe/Berlin:20250405T100000
DTEND;TZID=Europe/Berlin:20250405T120000
LOCATION:Sportovní hala ZŠ Hrotovice\, F. B. Zvěřiny 221 Hrotovice
SUMMARY:PA-U16M-7D: Tělocvičná jednota Sokol Hrotovice-Sokol Česká Třebová
END:VEVENT
BEGIN:VEVENT
UID:36396335-6232-4930-a666-323933323234
DTSTAMP:20260422T150348Z
DESCRIPTION:1/6 Havlíčkův Brod - Sokol Česká Třebová 2:0 (11\,23)
DTSTART;TZID=Europe/Berlin:20250405T120000
DTEND;TZID=Europe/Berlin:20250405T140000
LOCATION:Sportovní hala TJ Jiskra\, Ledečská 3028 Havlíčkův Brod
SUMMARY:PA-U16M-7D: Havlíčkův Brod-Sokol Česká Třebová
END:VEVENT
END:VCALENDAR
