BEGIN:VCALENDAR
VERSION:2.0
PRODID:-//TJ Bižuterie86377//NONSGML kigkonsult.se iCalcreator 2.41.80//
CALSCALE:GREGORIAN
UID:63333435-3334-4433-b634-313536356230
BEGIN:VEVENT
UID:66663466-6666-4637-b937-383264323731
DTSTAMP:20260422T131115Z
DESCRIPTION:2/3 Jablonec n. N. - Jirkov 0:3 (-12\,-16\,-14)
DTSTART;TZID=Europe/Berlin:20250426T150000
DTEND;TZID=Europe/Berlin:20250426T170000
LOCATION:Nibe aréna\, městská sportovní hala\, 5. května 746 Benátky nad Ji
 zerou - Benátky nad Jizerou II
SUMMARY:EX-U20M-KB: Jablonec n. N.-Jirkov
END:VEVENT
BEGIN:VEVENT
UID:38663062-6630-4435-a564-643462333433
DTSTAMP:20260422T131115Z
DESCRIPTION:1/1 Benátky n. J. - Jablonec n. N. 3:0 (12\,15\,15)
DTSTART;TZID=Europe/Berlin:20250426T100000
DTEND;TZID=Europe/Berlin:20250426T120000
LOCATION:Nibe aréna\, městská sportovní hala\, 5. května 746 Benátky nad Ji
 zerou - Benátky nad Jizerou II
SUMMARY:EX-U20M-KB: Benátky n. J.-Jablonec n. N.
END:VEVENT
BEGIN:VEVENT
UID:64643262-3139-4638-a434-343764393462
DTSTAMP:20260422T131115Z
DESCRIPTION:3/5 Klatovy - Jablonec n. N. 3:0 (8\,17\,17)
DTSTART;TZID=Europe/Berlin:20250427T100000
DTEND;TZID=Europe/Berlin:20250427T120000
LOCATION:Nibe aréna\, městská sportovní hala\, 5. května 746 Benátky nad Ji
 zerou - Benátky nad Jizerou II
SUMMARY:EX-U20M-KB: Klatovy-Jablonec n. N.
END:VEVENT
END:VCALENDAR
