BEGIN:VCALENDAR
VERSION:2.0
PRODID:-//T.J. Sokol Pardubice I.86381//NONSGML kigkonsult.se iCalcreator 2.41.80//
CALSCALE:GREGORIAN
UID:61316636-3365-4733-a135-653663303236
BEGIN:VEVENT
UID:36333935-6162-4836-b464-333531663538
DTSTAMP:20260423T035356Z
DESCRIPTION:1/2 Sokol Pardubice I. U22 - Pardubice U20 0:2 (-11\,-12)
DTSTART;TZID=Europe/Berlin:20240907T100000
DTEND;TZID=Europe/Berlin:20240907T120000
LOCATION:Sokolovna\, Jiráskova 29 Pardubice - Zelené Předměstí
SUMMARY:PA-U22M-KV-II: Sokol Pardubice I. U22-Pardubice U20
END:VEVENT
BEGIN:VEVENT
UID:62356165-3662-4264-a165-646335346362
DTSTAMP:20260423T035356Z
DESCRIPTION:1/5 Sokol Pardubice I. U22 - VK Choceň U22 0:2 (-14\,-14)
DTSTART;TZID=Europe/Berlin:20240907T130000
DTEND;TZID=Europe/Berlin:20240907T150000
LOCATION:Sokolovna\, Jiráskova 29 Pardubice - Zelené Předměstí
SUMMARY:PA-U22M-KV-II: Sokol Pardubice I. U22-VK Choceň U22
END:VEVENT
BEGIN:VEVENT
UID:35656134-3735-4963-a361-346663613933
DTSTAMP:20260423T035356Z
DESCRIPTION:1/4 Choceň U18 - Sokol Pardubice I. U22 2:0 (14\,17)
DTSTART;TZID=Europe/Berlin:20240907T120000
DTEND;TZID=Europe/Berlin:20240907T140000
SUMMARY:PA-U22M-KV-II: Choceň U18-Sokol Pardubice I. U22
END:VEVENT
BEGIN:VEVENT
UID:33646239-6434-4635-b133-303664313437
DTSTAMP:20260423T035356Z
DESCRIPTION:1/1 Sokol Pardubice I. U22 - VKM Nová Paka U18 2:0 (11\,15)
DTSTART;TZID=Europe/Berlin:20241005T090000
DTEND;TZID=Europe/Berlin:20241005T110000
LOCATION:Sokolovna\, Jiráskova 29 Pardubice - Zelené Předměstí
SUMMARY:PA-U22M-1F: Sokol Pardubice I. U22-VKM Nová Paka U18
END:VEVENT
BEGIN:VEVENT
UID:33643761-3336-4066-b336-336638316364
DTSTAMP:20260423T035356Z
DESCRIPTION:1/4 Sokol Pardubice I. U22 - Havlíčkův Brod U20 2:0 (22\,8)
DTSTART;TZID=Europe/Berlin:20241005T120000
DTEND;TZID=Europe/Berlin:20241005T140000
LOCATION:Sokolovna\, Jiráskova 29 Pardubice - Zelené Předměstí
SUMMARY:PA-U22M-1F: Sokol Pardubice I. U22-Havlíčkův Brod U20
END:VEVENT
BEGIN:VEVENT
UID:35643432-6235-4666-a261-366661623836
DTSTAMP:20260423T035356Z
DESCRIPTION:1/6 Sokol Pardubice I. U22 - Spartak Polička U18 2:0 (22\,11)
DTSTART;TZID=Europe/Berlin:20241005T140000
DTEND;TZID=Europe/Berlin:20241005T160000
LOCATION:Sokolovna\, Jiráskova 29 Pardubice - Zelené Předměstí
SUMMARY:PA-U22M-1F: Sokol Pardubice I. U22-Spartak Polička U18
END:VEVENT
BEGIN:VEVENT
UID:36626531-3639-4834-b633-363137346334
DTSTAMP:20260423T035356Z
DESCRIPTION:1/1 TJ Svitavy B U18 - Sokol Pardubice I. U22 3:1 (24\,14\,-13\
 ,21)
DTSTART;TZID=Europe/Berlin:20241109T090000
DTEND;TZID=Europe/Berlin:20241109T110000
LOCATION:Sportovní hala Na Střelnici\, Pražská 2162 Svitavy - Předměstí
SUMMARY:PA-U22M-2E: TJ Svitavy B U18-Sokol Pardubice I. U22
END:VEVENT
BEGIN:VEVENT
UID:65313538-3339-4731-b433-653161326265
DTSTAMP:20260423T035356Z
DESCRIPTION:1/2 TJ Slavia Hradec Králové U18 - Sokol Pardubice I. U22 0:3 (
 -19\,-21\,-25)
DTSTART;TZID=Europe/Berlin:20241109T110000
DTEND;TZID=Europe/Berlin:20241109T130000
LOCATION:TJ Slavia Hradec Králové\, Víta Nejedlého 1216 Hradec Králové
SUMMARY:PA-U22M-2E: TJ Slavia Hradec Králové U18-Sokol Pardubice I. U22
END:VEVENT
BEGIN:VEVENT
UID:31663134-3132-4232-b137-626535306262
DTSTAMP:20260423T035356Z
DESCRIPTION:1/1 Spartak Polička U18 - Sokol Pardubice I. U22 2:3 (-19\,23\,
 -23\,25\,-12)
DTSTART;TZID=Europe/Berlin:20241214T090000
DTEND;TZID=Europe/Berlin:20241214T110000
LOCATION:TJ Spartak Polička\, z.s. \, nábř. Svobody 447 Polička - Horní Pře
 dměstí
SUMMARY:PA-U22M-3E: Spartak Polička U18-Sokol Pardubice I. U22
END:VEVENT
BEGIN:VEVENT
UID:65343439-6433-4366-a630-326432353939
DTSTAMP:20260423T035356Z
DESCRIPTION:1/2 TJ Šumperk - Sokol Pardubice I. U22 0:3 (-11\,-11\,-10)
DTSTART;TZID=Europe/Berlin:20241214T110000
DTEND;TZID=Europe/Berlin:20241214T130000
LOCATION:3. ZŠ Šumperk\, 8. května 870 Šumperk
SUMMARY:PA-U22M-3E: TJ Šumperk-Sokol Pardubice I. U22
END:VEVENT
BEGIN:VEVENT
UID:64323163-3535-4630-a463-313262363131
DTSTAMP:20260423T035356Z
DESCRIPTION:1/1 Tělovýchovná jednota Jiskra Havlíčkův Brod U22 - Sokol Pard
 ubice I. U22 3:0 (13\,15\,18)
DTSTART;TZID=Europe/Berlin:20250125T090000
DTEND;TZID=Europe/Berlin:20250125T110000
LOCATION:Sportovní hala TJ Jiskra\, Ledečská 3028 Havlíčkův Brod
SUMMARY:PA-U22M-4D: Tělovýchovná jednota Jiskra Havlíčkův Brod U22-Sokol Pa
 rdubice I. U22
END:VEVENT
BEGIN:VEVENT
UID:39623462-3837-4764-a366-326136316665
DTSTAMP:20260423T035356Z
DESCRIPTION:1/2 TJ LOKOMOTIVA TRUTNOV\, z.s. U20 - Sokol Pardubice I. U22 3
 :0 (25\,16\,8)
DTSTART;TZID=Europe/Berlin:20250125T110000
DTEND;TZID=Europe/Berlin:20250125T130000
LOCATION:Základní škola. Trutnov\, V Domcích 488\, V Domcích 488 Trutnov - 
 Horní Předměstí
SUMMARY:PA-U22M-4D: TJ LOKOMOTIVA TRUTNOV\, z.s. U20-Sokol Pardubice I. U22
END:VEVENT
BEGIN:VEVENT
UID:35373730-6238-4631-a530-323434326637
DTSTAMP:20260423T035356Z
DESCRIPTION:1/2 Sokol Pardubice I. U22 - Spartak Polička U18 0:3 (-19\,-19\
 ,-22)
DTSTART;TZID=Europe/Berlin:20250222T110000
DTEND;TZID=Europe/Berlin:20250222T130000
LOCATION:Sokolovna\, Jiráskova 29 Pardubice - Zelené Předměstí
SUMMARY:PA-U22M-5E: Sokol Pardubice I. U22-Spartak Polička U18
END:VEVENT
BEGIN:VEVENT
UID:37396661-6332-4237-a634-616231353935
DTSTAMP:20260423T035356Z
DESCRIPTION:1/3 TJ Svitavy B U18 - Sokol Pardubice I. U22 3:1 (19\,15\,-24\
 ,21)
DTSTART;TZID=Europe/Berlin:20250222T130000
DTEND;TZID=Europe/Berlin:20250222T150000
LOCATION:Sportovní hala Na Střelnici\, Pražská 2162 Svitavy - Předměstí
SUMMARY:PA-U22M-5E: TJ Svitavy B U18-Sokol Pardubice I. U22
END:VEVENT
BEGIN:VEVENT
UID:32646264-3032-4639-b935-346662646238
DTSTAMP:20260423T035356Z
DESCRIPTION:1/3 Sokol Pardubice I. U22 - VK Litomyšl U18 2:0 (21\,20)
DTSTART;TZID=Europe/Berlin:20250329T100000
DTEND;TZID=Europe/Berlin:20250329T120000
LOCATION:Sokolovna\, Jiráskova 29 Pardubice - Zelené Předměstí
SUMMARY:PA-U22M-6F: Sokol Pardubice I. U22-VK Litomyšl U18
END:VEVENT
BEGIN:VEVENT
UID:61333032-6132-4765-a431-363236366633
DTSTAMP:20260423T035356Z
DESCRIPTION:1/1 TJ Slavia Hradec Králové U18 - Sokol Pardubice I. U22 2:0 (
 13\,14)
DTSTART;TZID=Europe/Berlin:20250329T090000
DTEND;TZID=Europe/Berlin:20250329T110000
LOCATION:TJ Slavia Hradec Králové\, Víta Nejedlého 1216 Hradec Králové
SUMMARY:PA-U22M-6F: TJ Slavia Hradec Králové U18-Sokol Pardubice I. U22
END:VEVENT
BEGIN:VEVENT
UID:66356330-3961-4565-a635-383932626331
DTSTAMP:20260423T035356Z
DESCRIPTION:1/5 Havlíčkův Brod U20 - Sokol Pardubice I. U22 1:2 (25\,-26\,-
 7)
DTSTART;TZID=Europe/Berlin:20250329T110000
DTEND;TZID=Europe/Berlin:20250329T130000
LOCATION:Sportovní hala TJ Jiskra\, Ledečská 3028 Havlíčkův Brod
SUMMARY:PA-U22M-6F: Havlíčkův Brod U20-Sokol Pardubice I. U22
END:VEVENT
END:VCALENDAR
