BEGIN:VCALENDAR
VERSION:2.0
PRODID:-//T.J. Sokol Pardubice I.86383//NONSGML kigkonsult.se iCalcreator 2.41.80//
CALSCALE:GREGORIAN
UID:31396537-6435-4731-b834-393535366637
BEGIN:VEVENT
UID:64653931-6439-4964-b630-343062666465
DTSTAMP:20260422T205142Z
DESCRIPTION:1/4 Sokol Pardubice I. - Rychnov nad Kněžnou 0:2 (-7\,-14)
DTSTART;TZID=Europe/Berlin:20240915T100000
DTEND;TZID=Europe/Berlin:20240915T120000
LOCATION:Sokolovna\, Jiráskova 29 Pardubice - Zelené Předměstí
SUMMARY:PA-U16M-KV-I: Sokol Pardubice I.-Rychnov nad Kněžnou
END:VEVENT
BEGIN:VEVENT
UID:39373630-3135-4134-b763-616434343733
DTSTAMP:20260422T205142Z
DESCRIPTION:1/7 Sokol Pardubice I. - Volejbalový klub Hronov\, z.s. 0:2 (-2
 2\,-17)
DTSTART;TZID=Europe/Berlin:20240915T120000
DTEND;TZID=Europe/Berlin:20240915T140000
LOCATION:Sokolovna\, Jiráskova 29 Pardubice - Zelené Předměstí
SUMMARY:PA-U16M-KV-I: Sokol Pardubice I.-Volejbalový klub Hronov\, z.s.
END:VEVENT
BEGIN:VEVENT
UID:61393034-3530-4664-b137-646630633264
DTSTAMP:20260422T205142Z
DESCRIPTION:1/5 VoCe - Sokol Pardubice I. 2:0 (13\,20)
DTSTART;TZID=Europe/Berlin:20240915T110000
DTEND;TZID=Europe/Berlin:20240915T130000
LOCATION:Tělocvična ZŠ Černčice\,  Černčice68
SUMMARY:PA-U16M-KV-I: VoCe-Sokol Pardubice I.
END:VEVENT
BEGIN:VEVENT
UID:64346463-3234-4865-a238-663930653939
DTSTAMP:20260422T205142Z
DESCRIPTION:1/10 Hradec Králové - Sokol Pardubice I. 2:0 (13\,9)
DTSTART;TZID=Europe/Berlin:20240915T130000
DTEND;TZID=Europe/Berlin:20240915T150000
LOCATION:TJ Slavia Hradec Králové\, Víta Nejedlého 1216 Hradec Králové
SUMMARY:PA-U16M-KV-I: Hradec Králové-Sokol Pardubice I.
END:VEVENT
BEGIN:VEVENT
UID:31386363-6633-4939-b465-396432383861
DTSTAMP:20260422T205142Z
DESCRIPTION:1/3 Sokol Pardubice I. - Sokol Česká Třebová 2:0 (13\,9)
DTSTART;TZID=Europe/Berlin:20241006T110000
DTEND;TZID=Europe/Berlin:20241006T130000
LOCATION:Sokolovna\, Jiráskova 29 Pardubice - Zelené Předměstí
SUMMARY:PA-U16M-1D: Sokol Pardubice I.-Sokol Česká Třebová
END:VEVENT
BEGIN:VEVENT
UID:34366138-6134-4532-b736-653065306162
DTSTAMP:20260422T205142Z
DESCRIPTION:1/1 Tělocvičná jednota Sokol Hrotovice - Sokol Pardubice I. 0:2
  (-22\,-21)
DTSTART;TZID=Europe/Berlin:20241006T090000
DTEND;TZID=Europe/Berlin:20241006T110000
LOCATION:Sportovní hala ZŠ Hrotovice\, F. B. Zvěřiny 221 Hrotovice
SUMMARY:PA-U16M-1D: Tělocvičná jednota Sokol Hrotovice-Sokol Pardubice I.
END:VEVENT
BEGIN:VEVENT
UID:64313737-6533-4263-a631-643235333365
DTSTAMP:20260422T205142Z
DESCRIPTION:1/5 Sokol Kerhartice - Sokol Pardubice I. 0:2 (-12\,-9)
DTSTART;TZID=Europe/Berlin:20241006T130000
DTEND;TZID=Europe/Berlin:20241006T150000
LOCATION:Sokolovna Kerhartice \, Sokolská 120 Ústí nad Orlicí - Kerhartice
SUMMARY:PA-U16M-1D: Sokol Kerhartice-Sokol Pardubice I.
END:VEVENT
BEGIN:VEVENT
UID:61633263-3963-4865-b331-646166346536
DTSTAMP:20260422T205142Z
DESCRIPTION:1/1 Sokol Pardubice I. - Rychnov nad Kněžnou 0:2 (-12\,-17)
DTSTART;TZID=Europe/Berlin:20241027T090000
DTEND;TZID=Europe/Berlin:20241027T110000
LOCATION:Sokolovna\, Jiráskova 29 Pardubice - Zelené Předměstí
SUMMARY:PA-U16M-2C: Sokol Pardubice I.-Rychnov nad Kněžnou
END:VEVENT
BEGIN:VEVENT
UID:34323938-3033-4464-a561-616430316434
DTSTAMP:20260422T205142Z
DESCRIPTION:1/4 Sokol Pardubice I. - Školní sportovní klub Demlova Jihlava\
 , z.s. 2:0 (16\,9)
DTSTART;TZID=Europe/Berlin:20241027T120000
DTEND;TZID=Europe/Berlin:20241027T140000
LOCATION:Sokolovna\, Jiráskova 29 Pardubice - Zelené Předměstí
SUMMARY:PA-U16M-2C: Sokol Pardubice I.-Školní sportovní klub Demlova Jihlav
 a\, z.s.
END:VEVENT
BEGIN:VEVENT
UID:64636530-6638-4365-a531-633235353861
DTSTAMP:20260422T205142Z
DESCRIPTION:1/6 Sokol Pardubice I. - Spartak Polička 0:2 (-14\,-18)
DTSTART;TZID=Europe/Berlin:20241027T140000
DTEND;TZID=Europe/Berlin:20241027T160000
LOCATION:Sokolovna\, Jiráskova 29 Pardubice - Zelené Předměstí
SUMMARY:PA-U16M-2C: Sokol Pardubice I.-Spartak Polička
END:VEVENT
BEGIN:VEVENT
UID:65363933-6562-4534-b332-376633643937
DTSTAMP:20260422T205142Z
DESCRIPTION:1/3 Sokol Pardubice I. - Spartak Polička 2:0 (19\,24)
DTSTART;TZID=Europe/Berlin:20241124T110000
DTEND;TZID=Europe/Berlin:20241124T130000
LOCATION:Sokolovna\, Jiráskova 29 Pardubice - Zelené Předměstí
SUMMARY:PA-U16M-3C: Sokol Pardubice I.-Spartak Polička
END:VEVENT
BEGIN:VEVENT
UID:39336564-3763-4335-b531-616635383037
DTSTAMP:20260422T205142Z
DESCRIPTION:1/1 Sokol Kerhartice - Sokol Pardubice I. 0:2 (-14\,-19)
DTSTART;TZID=Europe/Berlin:20241124T090000
DTEND;TZID=Europe/Berlin:20241124T110000
LOCATION:Sokolovna Kerhartice \, Sokolská 120 Ústí nad Orlicí - Kerhartice
SUMMARY:PA-U16M-3C: Sokol Kerhartice-Sokol Pardubice I.
END:VEVENT
BEGIN:VEVENT
UID:31653230-6539-4261-a635-306430646233
DTSTAMP:20260422T205142Z
DESCRIPTION:1/5 TJ Svitavy B - Sokol Pardubice I. 0:2 (-22\,-23)
DTSTART;TZID=Europe/Berlin:20241124T130000
DTEND;TZID=Europe/Berlin:20241124T150000
LOCATION:Sportovní hala Na Střelnici\, Pražská 2162 Svitavy - Předměstí
SUMMARY:PA-U16M-3C: TJ Svitavy B-Sokol Pardubice I.
END:VEVENT
BEGIN:VEVENT
UID:33313562-3934-4862-b564-346535656361
DTSTAMP:20260422T205142Z
DESCRIPTION:1/2 Velké Meziříčí - Sokol Pardubice I. 2:0 (10\,11)
DTSTART;TZID=Europe/Berlin:20250112T100000
DTEND;TZID=Europe/Berlin:20250112T120000
LOCATION:ZŠ Komenského\, Komenského 1 Velké Meziříčí
SUMMARY:PA-U16M-4B: Velké Meziříčí-Sokol Pardubice I.
END:VEVENT
BEGIN:VEVENT
UID:36383936-3261-4437-a535-366637646533
DTSTAMP:20260422T205142Z
DESCRIPTION:1/3 Volejbalový klub Hronov\, z.s. - Sokol Pardubice I. 2:0 (18
 \,12)
DTSTART;TZID=Europe/Berlin:20250112T110000
DTEND;TZID=Europe/Berlin:20250112T130000
LOCATION:ZŠ Hronov\, Palackého 162 Hronov
SUMMARY:PA-U16M-4B: Volejbalový klub Hronov\, z.s.-Sokol Pardubice I.
END:VEVENT
BEGIN:VEVENT
UID:64613233-3164-4865-b130-336331353763
DTSTAMP:20260422T205142Z
DESCRIPTION:1/6 VoCe - Sokol Pardubice I. 2:0 (16\,16)
DTSTART;TZID=Europe/Berlin:20250112T140000
DTEND;TZID=Europe/Berlin:20250112T160000
LOCATION:Tělocvična ZŠ Černčice\,  Černčice68
SUMMARY:PA-U16M-4B: VoCe-Sokol Pardubice I.
END:VEVENT
BEGIN:VEVENT
UID:34316463-3665-4931-a133-666433313136
DTSTAMP:20260422T205142Z
DESCRIPTION:1/2 Sokol Pardubice I. - TJ Svitavy B 2:0 (24\,18)
DTSTART;TZID=Europe/Berlin:20250223T090000
DTEND;TZID=Europe/Berlin:20250223T110000
LOCATION:Sokolovna\, Jiráskova 29 Pardubice - Zelené Předměstí
SUMMARY:PA-U16M-5C: Sokol Pardubice I.-TJ Svitavy B
END:VEVENT
BEGIN:VEVENT
UID:66393765-3135-4233-a264-353161383432
DTSTAMP:20260422T205142Z
DESCRIPTION:1/5 Sokol Pardubice I. - Havlíčkův Brod 2:0 (21\,18)
DTSTART;TZID=Europe/Berlin:20250223T110000
DTEND;TZID=Europe/Berlin:20250223T130000
LOCATION:Sokolovna\, Jiráskova 29 Pardubice - Zelené Předměstí
SUMMARY:PA-U16M-5C: Sokol Pardubice I.-Havlíčkův Brod
END:VEVENT
BEGIN:VEVENT
UID:30633165-6639-4132-a631-653962346634
DTSTAMP:20260422T205142Z
DESCRIPTION:1/4 Spartak Polička - Sokol Pardubice I. 2:0 (16\,15)
DTSTART;TZID=Europe/Berlin:20250223T100000
DTEND;TZID=Europe/Berlin:20250223T120000
LOCATION:TJ Spartak Polička\, z.s. \, nábř. Svobody 447 Polička - Horní Pře
 dměstí
SUMMARY:PA-U16M-5C: Spartak Polička-Sokol Pardubice I.
END:VEVENT
BEGIN:VEVENT
UID:31366338-3261-4638-a234-336466663035
DTSTAMP:20260422T205142Z
DESCRIPTION:1/2 Sokol Pardubice I. - VK Choceň 0:2 (-23\,-20)
DTSTART;TZID=Europe/Berlin:20250330T093000
DTEND;TZID=Europe/Berlin:20250330T113000
LOCATION:Sokolovna\, Jiráskova 29 Pardubice - Zelené Předměstí
SUMMARY:PA-U16M-6C: Sokol Pardubice I.-VK Choceň
END:VEVENT
BEGIN:VEVENT
UID:63316435-3236-4363-b763-383538613732
DTSTAMP:20260422T205142Z
DESCRIPTION:1/5 Sokol Pardubice I. - Tělocvičná jednota Sokol Hrotovice 2:0
  (21\,13)
DTSTART;TZID=Europe/Berlin:20250330T113000
DTEND;TZID=Europe/Berlin:20250330T133000
LOCATION:Sokolovna\, Jiráskova 29 Pardubice - Zelené Předměstí
SUMMARY:PA-U16M-6C: Sokol Pardubice I.-Tělocvičná jednota Sokol Hrotovice
END:VEVENT
BEGIN:VEVENT
UID:62336666-6636-4161-a434-333630306563
DTSTAMP:20260422T205142Z
DESCRIPTION:1/4 TJ Svitavy B - Sokol Pardubice I. 2:0 (14\,23)
DTSTART;TZID=Europe/Berlin:20250330T103000
DTEND;TZID=Europe/Berlin:20250330T123000
LOCATION:Sportovní hala Na Střelnici\, Pražská 2162 Svitavy - Předměstí
SUMMARY:PA-U16M-6C: TJ Svitavy B-Sokol Pardubice I.
END:VEVENT
BEGIN:VEVENT
UID:66393961-3435-4661-b635-633830663139
DTSTAMP:20260422T205142Z
DESCRIPTION:1/1 Sokol Pardubice I. - Školní sportovní klub Demlova Jihlava\
 , z.s. 0:2 (-18\,-26)
DTSTART;TZID=Europe/Berlin:20250405T090000
DTEND;TZID=Europe/Berlin:20250405T110000
LOCATION:Sokolovna\, Jiráskova 29 Pardubice - Zelené Předměstí
SUMMARY:PA-U16M-7C: Sokol Pardubice I.-Školní sportovní klub Demlova Jihlav
 a\, z.s.
END:VEVENT
BEGIN:VEVENT
UID:62333362-3163-4263-a230-626364653362
DTSTAMP:20260422T205142Z
DESCRIPTION:1/4 Sokol Pardubice I. - TJ Svitavy B 0:2 (-17\,-10)
DTSTART;TZID=Europe/Berlin:20250405T100000
DTEND;TZID=Europe/Berlin:20250405T120000
LOCATION:Sokolovna\, Jiráskova 29 Pardubice - Zelené Předměstí
SUMMARY:PA-U16M-7C: Sokol Pardubice I.-TJ Svitavy B
END:VEVENT
BEGIN:VEVENT
UID:63366636-3164-4135-b132-653934656233
DTSTAMP:20260422T205142Z
DESCRIPTION:1/6 Sokol Pardubice I. - VoCe 1:2 (24\,-15\,-7)
DTSTART;TZID=Europe/Berlin:20250405T110000
DTEND;TZID=Europe/Berlin:20250405T130000
LOCATION:Sokolovna\, Jiráskova 29 Pardubice - Zelené Předměstí
SUMMARY:PA-U16M-7C: Sokol Pardubice I.-VoCe
END:VEVENT
END:VCALENDAR
