BEGIN:VCALENDAR
VERSION:2.0
PRODID:-//T.J. Sokol Pardubice I. B86385//NONSGML kigkonsult.se iCalcreator 2.41.80//
CALSCALE:GREGORIAN
UID:31643136-3239-4038-b663-396334656134
BEGIN:VEVENT
UID:32373264-6133-4762-b934-363963613536
DTSTAMP:20260421T192720Z
DESCRIPTION:1/2 Sokol Pardubice I. B - Sokol Dolní Újezd 1:2 (13\,-14\,-11)
 \npořadatel Pardubice
DTSTART;TZID=Europe/Berlin:20240915T090000
DTEND;TZID=Europe/Berlin:20240915T110000
LOCATION:Sokolovna\, Jiráskova 29 Pardubice - Zelené Předměstí
SUMMARY:PA-U16Z-KVAL-A2: Sokol Pardubice I. B-Sokol Dolní Újezd
END:VEVENT
BEGIN:VEVENT
UID:62646437-6534-4632-a431-393563663937
DTSTAMP:20260421T192720Z
DESCRIPTION:1/1 Sokol Chrudim - Sokol Pardubice I. B 0:2 (-17\,-19)\npořada
 tel Pardubice
DTSTART;TZID=Europe/Berlin:20240915T090000
DTEND;TZID=Europe/Berlin:20240915T110000
LOCATION:, Tyršovo náměstí 12 Chrudim - Chrudim II
SUMMARY:PA-U16Z-KVAL-A2: Sokol Chrudim-Sokol Pardubice I. B
END:VEVENT
BEGIN:VEVENT
UID:30663230-3432-4763-a632-663535326632
DTSTAMP:20260421T192720Z
DESCRIPTION:1/1 Sokol Pardubice I. B - Sokol Dolní Újezd 1:2 (21\,-18\,-13)
DTSTART;TZID=Europe/Berlin:20241006T090000
DTEND;TZID=Europe/Berlin:20241006T110000
LOCATION:Sokolovna\, Jiráskova 29 Pardubice - Zelené Předměstí
SUMMARY:PA-U16Z-B-1KOLO: Sokol Pardubice I. B-Sokol Dolní Újezd
END:VEVENT
BEGIN:VEVENT
UID:37633434-6233-4563-b962-356461656563
DTSTAMP:20260421T192720Z
DESCRIPTION:1/4 Sokol Pardubice I. B - Slovan Moravská Třebová 2:0 (19\,8)
DTSTART;TZID=Europe/Berlin:20241006T090000
DTEND;TZID=Europe/Berlin:20241006T110000
LOCATION:Sokolovna\, Jiráskova 29 Pardubice - Zelené Předměstí
SUMMARY:PA-U16Z-B-1KOLO: Sokol Pardubice I. B-Slovan Moravská Třebová
END:VEVENT
BEGIN:VEVENT
UID:30386661-6665-4237-a634-643861333232
DTSTAMP:20260421T192720Z
DESCRIPTION:1/6 Sokol Česká Třebová - Sokol Pardubice I. B 2:0 (13\,17)
DTSTART;TZID=Europe/Berlin:20241006T090000
DTEND;TZID=Europe/Berlin:20241006T110000
LOCATION:Základní škola Česká Třebová Habrmanova\, Na Skále\, Na Skále 566 
 Česká Třebová
SUMMARY:PA-U16Z-B-1KOLO: Sokol Česká Třebová-Sokol Pardubice I. B
END:VEVENT
BEGIN:VEVENT
UID:37376562-6134-4633-b230-626539623765
DTSTAMP:20260421T192720Z
DESCRIPTION:1/1 Sokol Pardubice I. B - VK Choceň 2:0 (22\,18)
DTSTART;TZID=Europe/Berlin:20241013T090000
DTEND;TZID=Europe/Berlin:20241013T110000
LOCATION:Sokolovna\, Jiráskova 29 Pardubice - Zelené Předměstí
SUMMARY:PA-U16Z-C-2KOLO: Sokol Pardubice I. B-VK Choceň
END:VEVENT
BEGIN:VEVENT
UID:39313663-6663-4130-b532-306330343465
DTSTAMP:20260421T192720Z
DESCRIPTION:1/4 Sokol Pardubice I. B - Slovan Moravská Třebová 1:2 (-17\,25
 \,-10)
DTSTART;TZID=Europe/Berlin:20241013T090000
DTEND;TZID=Europe/Berlin:20241013T110000
LOCATION:Sokolovna\, Jiráskova 29 Pardubice - Zelené Předměstí
SUMMARY:PA-U16Z-C-2KOLO: Sokol Pardubice I. B-Slovan Moravská Třebová
END:VEVENT
BEGIN:VEVENT
UID:62383966-3061-4635-a630-643539636633
DTSTAMP:20260421T192720Z
DESCRIPTION:1/6 TJ Energetik Chvaletice - Sokol Pardubice I. B 2:1 (20\,-21
 \,10)
DTSTART;TZID=Europe/Berlin:20241013T090000
DTEND;TZID=Europe/Berlin:20241013T110000
LOCATION:ZŠ Chvaletice\, Spojovací 431 Chvaletice
SUMMARY:PA-U16Z-C-2KOLO: TJ Energetik Chvaletice-Sokol Pardubice I. B
END:VEVENT
BEGIN:VEVENT
UID:38313435-3536-4331-b361-353439623231
DTSTAMP:20260421T192720Z
DESCRIPTION:1/6 Sokol Pardubice I. B - Sokol Chrudim 2:0 (17\,9)
DTSTART;TZID=Europe/Berlin:20241110T090000
DTEND;TZID=Europe/Berlin:20241110T110000
LOCATION:Sokolovna\, Jiráskova 29 Pardubice - Zelené Předměstí
SUMMARY:PA-U16Z-C-3KOLO: Sokol Pardubice I. B-Sokol Chrudim
END:VEVENT
BEGIN:VEVENT
UID:61333265-6639-4634-b733-303937626263
DTSTAMP:20260421T192720Z
DESCRIPTION:1/2 TJ Svitavy B - Sokol Pardubice I. B 0:2 (-16\,-9)
DTSTART;TZID=Europe/Berlin:20241110T090000
DTEND;TZID=Europe/Berlin:20241110T110000
LOCATION:Sportovní hala Na Střelnici\, Pražská 2162 Svitavy - Předměstí
SUMMARY:PA-U16Z-C-3KOLO: TJ Svitavy B-Sokol Pardubice I. B
END:VEVENT
BEGIN:VEVENT
UID:38613730-6134-4330-a262-376234356335
DTSTAMP:20260421T192720Z
DESCRIPTION:1/3 TJ Žichlínek - Sokol Pardubice I. B 0:2 (-20\,-18)
DTSTART;TZID=Europe/Berlin:20241110T090000
DTEND;TZID=Europe/Berlin:20241110T110000
LOCATION:Tělocvična Žichlínek\,  Žichlínek65
SUMMARY:PA-U16Z-C-3KOLO: TJ Žichlínek-Sokol Pardubice I. B
END:VEVENT
BEGIN:VEVENT
UID:65646138-3838-4539-b164-656234643663
DTSTAMP:20260421T192720Z
DESCRIPTION:1/2 Sokol Pardubice I. B - TJ Žichlínek 2:0 (14\,20)
DTSTART;TZID=Europe/Berlin:20241208T090000
DTEND;TZID=Europe/Berlin:20241208T110000
LOCATION:Hala VDA\, Na Skále 573 Česká Třebová
SUMMARY:PA-U16Z-B-4KOLO: Sokol Pardubice I. B-TJ Žichlínek
END:VEVENT
BEGIN:VEVENT
UID:62636234-6261-4466-b264-373434303363
DTSTAMP:20260421T192720Z
DESCRIPTION:1/5 Sokol Pardubice I. B - Spartak Polička 1:2 (-14\,24\,-13)
DTSTART;TZID=Europe/Berlin:20241208T090000
DTEND;TZID=Europe/Berlin:20241208T110000
LOCATION:Hala VDA\, Na Skále 573 Česká Třebová
SUMMARY:PA-U16Z-B-4KOLO: Sokol Pardubice I. B-Spartak Polička
END:VEVENT
BEGIN:VEVENT
UID:66613762-6133-4030-b761-626539353030
DTSTAMP:20260421T192720Z
DESCRIPTION:1/4 Sokol Česká Třebová - Sokol Pardubice I. B 2:0 (20\,13)
DTSTART;TZID=Europe/Berlin:20241208T090000
DTEND;TZID=Europe/Berlin:20241208T110000
LOCATION:Hala VDA\, Na Skále 573 Česká Třebová
SUMMARY:PA-U16Z-B-4KOLO: Sokol Česká Třebová-Sokol Pardubice I. B
END:VEVENT
BEGIN:VEVENT
UID:30326631-3166-4634-a663-323762353836
DTSTAMP:20260421T192720Z
DESCRIPTION:1/2 Sokol Pardubice I. B - TJ Žichlínek 2:0 (9\,16)
DTSTART;TZID=Europe/Berlin:20250112T090000
DTEND;TZID=Europe/Berlin:20250112T110000
LOCATION:Sokolovna\, Jiráskova 29 Pardubice - Zelené Předměstí
SUMMARY:PA-U16Z-C-5KOLO: Sokol Pardubice I. B-TJ Žichlínek
END:VEVENT
BEGIN:VEVENT
UID:37313938-3062-4965-a238-336632666638
DTSTAMP:20260421T192720Z
DESCRIPTION:1/5 Sokol Pardubice I. B - SKO Hlinsko 2:0 (14\,9)
DTSTART;TZID=Europe/Berlin:20250112T090000
DTEND;TZID=Europe/Berlin:20250112T110000
LOCATION:Sokolovna\, Jiráskova 29 Pardubice - Zelené Předměstí
SUMMARY:PA-U16Z-C-5KOLO: Sokol Pardubice I. B-SKO Hlinsko
END:VEVENT
BEGIN:VEVENT
UID:39626633-3431-4334-b364-626635363130
DTSTAMP:20260421T192720Z
DESCRIPTION:1/4 VK Choceň - Sokol Pardubice I. B 2:0 (21\,19)
DTSTART;TZID=Europe/Berlin:20250112T090000
DTEND;TZID=Europe/Berlin:20250112T110000
LOCATION:Volejbalová hala \, U Koupaliště 1734 Choceň
SUMMARY:PA-U16Z-C-5KOLO: VK Choceň-Sokol Pardubice I. B
END:VEVENT
BEGIN:VEVENT
UID:31616536-6632-4037-b436-623264613631
DTSTAMP:20260421T192720Z
DESCRIPTION:1/1 Sokol Pardubice I. B - VK Choceň 2:0 (11\,16)\nKunětická 92
 \, Univerzita Pardubice
DTSTART;TZID=Europe/Berlin:20250223T090000
DTEND;TZID=Europe/Berlin:20250223T110000
LOCATION:Sokolovna\, Jiráskova 29 Pardubice - Zelené Předměstí
SUMMARY:PA-U16Z-B-6KOLO: Sokol Pardubice I. B-VK Choceň
END:VEVENT
BEGIN:VEVENT
UID:34393663-6666-4232-b064-616130666137
DTSTAMP:20260421T192720Z
DESCRIPTION:1/4 Sokol Pardubice I. B - Spartak Polička 0:2 (-15\,-12)\nKuně
 tická 92\, Univerzita Pardubice
DTSTART;TZID=Europe/Berlin:20250223T090000
DTEND;TZID=Europe/Berlin:20250223T110000
LOCATION:Sokolovna\, Jiráskova 29 Pardubice - Zelené Předměstí
SUMMARY:PA-U16Z-B-6KOLO: Sokol Pardubice I. B-Spartak Polička
END:VEVENT
BEGIN:VEVENT
UID:36316265-6262-4132-b464-663261646533
DTSTAMP:20260421T192720Z
DESCRIPTION:1/6 Sokol Česká Třebová - Sokol Pardubice I. B 0:2 (-19\,-17)\n
 Kunětická 92\, Univerzita Pardubice
DTSTART;TZID=Europe/Berlin:20250223T090000
DTEND;TZID=Europe/Berlin:20250223T110000
LOCATION:Základní škola Česká Třebová Habrmanova\, Na Skále\, Na Skále 566 
 Česká Třebová
SUMMARY:PA-U16Z-B-6KOLO: Sokol Česká Třebová-Sokol Pardubice I. B
END:VEVENT
BEGIN:VEVENT
UID:33666333-3235-4062-b037-666433636665
DTSTAMP:20260421T192720Z
DESCRIPTION:1/2 Sokol Pardubice I. B - Slovan Moravská Třebová 2:0 (18\,22)
 \nKunětická 92\, Univerzita Pardubice
DTSTART;TZID=Europe/Berlin:20250316T090000
DTEND;TZID=Europe/Berlin:20250316T110000
LOCATION:Sokolovna\, Jiráskova 29 Pardubice - Zelené Předměstí
SUMMARY:PA-U16Z-B-7KOLO: Sokol Pardubice I. B-Slovan Moravská Třebová
END:VEVENT
BEGIN:VEVENT
UID:65623062-3937-4537-a564-386431383238
DTSTAMP:20260421T192720Z
DESCRIPTION:1/5 Sokol Pardubice I. B - Sokol Dolní Újezd 1:2 (15\,-21\,-9)
 \nKunětická 92\, Univerzita Pardubice
DTSTART;TZID=Europe/Berlin:20250316T090000
DTEND;TZID=Europe/Berlin:20250316T110000
LOCATION:Sokolovna\, Jiráskova 29 Pardubice - Zelené Předměstí
SUMMARY:PA-U16Z-B-7KOLO: Sokol Pardubice I. B-Sokol Dolní Újezd
END:VEVENT
BEGIN:VEVENT
UID:36343664-3730-4263-a632-653362666534
DTSTAMP:20260421T192720Z
DESCRIPTION:1/4 TJ Svitavy B - Sokol Pardubice I. B 0:2 (-11\,-14)\nKunětic
 ká 92\, Univerzita Pardubice
DTSTART;TZID=Europe/Berlin:20250316T090000
DTEND;TZID=Europe/Berlin:20250316T110000
LOCATION:Sportovní hala Na Střelnici\, Pražská 2162 Svitavy - Předměstí
SUMMARY:PA-U16Z-B-7KOLO: TJ Svitavy B-Sokol Pardubice I. B
END:VEVENT
END:VCALENDAR
